BEGIN:VCALENDAR
VERSION:2.0
PRODID:-//California Alpine Club - ECPv6.15.20//NONSGML v1.0//EN
CALSCALE:GREGORIAN
METHOD:PUBLISH
X-WR-CALNAME:California Alpine Club
X-ORIGINAL-URL:https://www.californiaalpineclub.org
X-WR-CALDESC:Events for California Alpine Club
REFRESH-INTERVAL;VALUE=DURATION:PT1H
X-Robots-Tag:noindex
X-PUBLISHED-TTL:PT1H
BEGIN:VTIMEZONE
TZID:America/Los_Angeles
BEGIN:DAYLIGHT
TZOFFSETFROM:-0800
TZOFFSETTO:-0700
TZNAME:PDT
DTSTART:20200308T100000
END:DAYLIGHT
BEGIN:STANDARD
TZOFFSETFROM:-0700
TZOFFSETTO:-0800
TZNAME:PST
DTSTART:20201101T090000
END:STANDARD
BEGIN:DAYLIGHT
TZOFFSETFROM:-0800
TZOFFSETTO:-0700
TZNAME:PDT
DTSTART:20210314T100000
END:DAYLIGHT
BEGIN:STANDARD
TZOFFSETFROM:-0700
TZOFFSETTO:-0800
TZNAME:PST
DTSTART:20211107T090000
END:STANDARD
BEGIN:DAYLIGHT
TZOFFSETFROM:-0800
TZOFFSETTO:-0700
TZNAME:PDT
DTSTART:20220313T100000
END:DAYLIGHT
BEGIN:STANDARD
TZOFFSETFROM:-0700
TZOFFSETTO:-0800
TZNAME:PST
DTSTART:20221106T090000
END:STANDARD
END:VTIMEZONE
BEGIN:VEVENT
DTSTART;TZID=America/Los_Angeles:20211010T130000
DTEND;TZID=America/Los_Angeles:20211010T150000
DTSTAMP:20260421T031842
CREATED:20210907T051521Z
LAST-MODIFIED:20210907T051552Z
UID:24169-1633870800-1633878000@www.californiaalpineclub.org
SUMMARY:Alpine Lodge Fire Safety Meet & Greet with Fire Dept and Neighbors - Mary
DESCRIPTION:The trustees at the Alpine Club would like to invite you to join us Sunday\, October 10 at 1:00PM for a Meet and Greet with neighbors and Captain Aaron Jarvis of the Throckmorton Ridge Fire Station. \nOur intention is to discuss a fire safety plan with the fire department and any of our neighbors available to attend.  We’ve also decided this is an opportune time to become acquainted with those that share the mountain with us and offer neighborly camaraderie. \nWe hope you can attend Sunday\, October 10 at 1:00PM.  We’ll be meeting on the deck\, safe distancing and a mask will be required. \nThank you\, \nMary Cahill a_childs_view@yahoo.com \nCalifornia Alpine Club \nMember/Trustee
URL:https://www.californiaalpineclub.org/events/alpine-lodge-meet-and-greet-with-fire-dept-and-neighbors-mary/
LOCATION:Alpine Lodge
CATEGORIES:Alpine,Official Club Events,Sundays at Alpine Lodge
END:VEVENT
END:VCALENDAR