BEGIN:VCALENDAR
VERSION:2.0
PRODID:-//California Alpine Club - ECPv6.15.20//NONSGML v1.0//EN
CALSCALE:GREGORIAN
METHOD:PUBLISH
X-WR-CALNAME:California Alpine Club
X-ORIGINAL-URL:https://www.californiaalpineclub.org
X-WR-CALDESC:Events for California Alpine Club
REFRESH-INTERVAL;VALUE=DURATION:PT1H
X-Robots-Tag:noindex
X-PUBLISHED-TTL:PT1H
BEGIN:VTIMEZONE
TZID:America/Los_Angeles
BEGIN:DAYLIGHT
TZOFFSETFROM:-0800
TZOFFSETTO:-0700
TZNAME:PDT
DTSTART:20130310T100000
END:DAYLIGHT
BEGIN:STANDARD
TZOFFSETFROM:-0700
TZOFFSETTO:-0800
TZNAME:PST
DTSTART:20131103T090000
END:STANDARD
BEGIN:DAYLIGHT
TZOFFSETFROM:-0800
TZOFFSETTO:-0700
TZNAME:PDT
DTSTART:20140309T100000
END:DAYLIGHT
BEGIN:STANDARD
TZOFFSETFROM:-0700
TZOFFSETTO:-0800
TZNAME:PST
DTSTART:20141102T090000
END:STANDARD
BEGIN:DAYLIGHT
TZOFFSETFROM:-0800
TZOFFSETTO:-0700
TZNAME:PDT
DTSTART:20150308T100000
END:DAYLIGHT
BEGIN:STANDARD
TZOFFSETFROM:-0700
TZOFFSETTO:-0800
TZNAME:PST
DTSTART:20151101T090000
END:STANDARD
BEGIN:DAYLIGHT
TZOFFSETFROM:-0800
TZOFFSETTO:-0700
TZNAME:PDT
DTSTART:20160313T100000
END:DAYLIGHT
BEGIN:STANDARD
TZOFFSETFROM:-0700
TZOFFSETTO:-0800
TZNAME:PST
DTSTART:20161106T090000
END:STANDARD
END:VTIMEZONE
BEGIN:VEVENT
DTSTART;TZID=America/Los_Angeles:20150607T120000
DTEND;TZID=America/Los_Angeles:20150614T120000
DTSTAMP:20260425T125012
CREATED:20150120T171308Z
LAST-MODIFIED:20150120T171308Z
UID:8975-1433678400-1434283200@www.californiaalpineclub.org
SUMMARY:Echo: Private Event - John & Cindy
DESCRIPTION:John Watanabe & Cindy Pawlcyn \njohnswatanabe@gmail.com \n707-815-6390 \n 
URL:https://www.californiaalpineclub.org/events/echo-private-event-john-cindy/
LOCATION:Echo Summit Lodge\, 9010 Johnson Pass Rd\, Twin Bridges\, CA\, 95721\, United States
CATEGORIES:Echo Summit Lodge Events
END:VEVENT
BEGIN:VEVENT
DTSTART;TZID=America/Los_Angeles:20150603T120000
DTEND;TZID=America/Los_Angeles:20150607T120000
DTSTAMP:20260425T125012
CREATED:20150120T170804Z
LAST-MODIFIED:20150120T170804Z
UID:8974-1433332800-1433678400@www.californiaalpineclub.org
SUMMARY:Echo: Karen & Jerry - Conservation Benefit and Birding
DESCRIPTION:Karen & Jerry Wagner \n2622 Wawona Dr. \nSanta Rosa\, CA 95405 \noldmawagner@gmail.com \n707-528-8197
URL:https://www.californiaalpineclub.org/events/echo-karen-jerry/
LOCATION:Echo Summit Lodge\, 9010 Johnson Pass Rd\, Twin Bridges\, CA\, 95721\, United States
CATEGORIES:Echo Summit Lodge Events
END:VEVENT
BEGIN:VEVENT
DTSTART;TZID=America/Los_Angeles:20150531T130000
DTEND;TZID=America/Los_Angeles:20150603T120000
DTSTAMP:20260425T125012
CREATED:20150509T195351Z
LAST-MODIFIED:20150509T200744Z
UID:9571-1433077200-1433332800@www.californiaalpineclub.org
SUMMARY:Echo:  Hosted Event - Carolyn & Fred
DESCRIPTION:Carolyn Williams & Fred Sharp \nP.O. Box 2 \nPilot Hill\, CA 95664 \nwildflowersbycarolyn@hotmail.com \n916-899-1289
URL:https://www.californiaalpineclub.org/events/echo-hosted-event-carolyn-williams/
LOCATION:Echo Summit Lodge\, 9010 Johnson Pass Rd\, Twin Bridges\, CA\, 95721\, United States
CATEGORIES:Echo Summit Lodge Events
END:VEVENT
BEGIN:VEVENT
DTSTART;TZID=America/Los_Angeles:20150528T140000
DTEND;TZID=America/Los_Angeles:20150531T120000
DTSTAMP:20260425T125012
CREATED:20150106T170207Z
LAST-MODIFIED:20150106T170207Z
UID:8937-1432821600-1433073600@www.californiaalpineclub.org
SUMMARY:Echo:  Spring Work Party
DESCRIPTION:Contact:  Bob Henry \nclyde33301@comcast.net \n707-829-3728
URL:https://www.californiaalpineclub.org/events/echo-spring-work-party/
LOCATION:Echo Summit Lodge\, 9010 Johnson Pass Rd\, Twin Bridges\, CA\, 95721\, United States
CATEGORIES:Echo Summit Lodge Events
END:VEVENT
BEGIN:VEVENT
DTSTART;TZID=America/Los_Angeles:20150522T000000
DTEND;TZID=America/Los_Angeles:20150524T120000
DTSTAMP:20260425T125012
CREATED:20150407T211442Z
LAST-MODIFIED:20150407T211442Z
UID:9414-1432252800-1432468800@www.californiaalpineclub.org
SUMMARY:Echo: Private Event - Roger & Mary
DESCRIPTION:Roger & Mary Rigney \nrognmary@yahoo.com \n916-768-1705
URL:https://www.californiaalpineclub.org/events/echo-private-event-roger-mary/
LOCATION:Echo Summit Lodge\, 9010 Johnson Pass Rd\, Twin Bridges\, CA\, 95721\, United States
CATEGORIES:Echo Summit Lodge Events
END:VEVENT
BEGIN:VEVENT
DTSTART;TZID=America/Los_Angeles:20150515T000000
DTEND;TZID=America/Los_Angeles:20150517T120000
DTSTAMP:20260425T125012
CREATED:20150106T165740Z
LAST-MODIFIED:20150106T165740Z
UID:8936-1431648000-1431864000@www.californiaalpineclub.org
SUMMARY:Echo: Host Appreciation & Training
DESCRIPTION:Contact:  Cindy Toran \ncktoran@gmail.com \n707-321-3262
URL:https://www.californiaalpineclub.org/events/echo-host-appreciation-training/
LOCATION:Echo Summit Lodge\, 9010 Johnson Pass Rd\, Twin Bridges\, CA\, 95721\, United States
CATEGORIES:Echo Summit Lodge Events
END:VEVENT
BEGIN:VEVENT
DTSTART;TZID=America/Los_Angeles:20150508T120000
DTEND;TZID=America/Los_Angeles:20150510T120000
DTSTAMP:20260425T125012
CREATED:20150407T210955Z
LAST-MODIFIED:20150407T211005Z
UID:9413-1431086400-1431259200@www.californiaalpineclub.org
SUMMARY:Echo:  Hosted Event - Celebrate Mother's Day - Gary
DESCRIPTION:Gary Pryde \n5522 Auburn Blvd \nSacramento\, CA 95841 \ngarypryde@yahoo.com \n916-224-5535
URL:https://www.californiaalpineclub.org/events/echo-hosted-event-celebrate-mothers-day-gary/
LOCATION:Echo Summit Lodge\, 9010 Johnson Pass Rd\, Twin Bridges\, CA\, 95721\, United States
CATEGORIES:Echo Summit Lodge Events
END:VEVENT
BEGIN:VEVENT
DTSTART;TZID=America/Los_Angeles:20150417T120000
DTEND;TZID=America/Los_Angeles:20150420T120000
DTSTAMP:20260425T125012
CREATED:20141124T165736Z
LAST-MODIFIED:20141124T165736Z
UID:8770-1429272000-1429531200@www.californiaalpineclub.org
SUMMARY:Echo: Private Event - Tom & Carol
DESCRIPTION:Tom & Carol Coleman \ntravmcgee@comcast.net \n 
URL:https://www.californiaalpineclub.org/events/echo-private-event-tom-carol-2/
LOCATION:Echo Summit Lodge\, 9010 Johnson Pass Rd\, Twin Bridges\, CA\, 95721\, United States
CATEGORIES:Echo Summit Lodge Events
ORGANIZER;CN="Tom and Carol Coleman":MAILTO:travmcgee@comcast.net
END:VEVENT
BEGIN:VEVENT
DTSTART;TZID=America/Los_Angeles:20150327T120000
DTEND;TZID=America/Los_Angeles:20150329T120000
DTSTAMP:20260425T125012
CREATED:20141019T175212Z
LAST-MODIFIED:20141019T175355Z
UID:8436-1427457600-1427630400@www.californiaalpineclub.org
SUMMARY:Echo: Hosted Event - Sylvie
DESCRIPTION:Sylvie Langbehn \n360 Grand Ave. # 321 \nOakland\, CA 94610 \nslangbehn@gmail.com \n707-756-2638
URL:https://www.californiaalpineclub.org/events/echo-hosted-event-sylvie/
LOCATION:Echo Summit Lodge\, 9010 Johnson Pass Rd\, Twin Bridges\, CA\, 95721\, United States
CATEGORIES:Echo Summit Lodge Events
END:VEVENT
BEGIN:VEVENT
DTSTART;TZID=America/Los_Angeles:20150320T120000
DTEND;TZID=America/Los_Angeles:20150322T120000
DTSTAMP:20260425T125012
CREATED:20141006T162936Z
LAST-MODIFIED:20141006T162936Z
UID:8280-1426852800-1427025600@www.californiaalpineclub.org
SUMMARY:Echo: Hosted Event-Tom and Carol
DESCRIPTION:Tom & Carol Coleman \n32 Live Oak Dr. \nPetaluma\, CA 94952 \ntravmcgee@comcast.net \n415-531-4650
URL:https://www.californiaalpineclub.org/events/echo-hosted-event-tom-carol/
LOCATION:Echo Summit Lodge\, 9010 Johnson Pass Rd\, Twin Bridges\, CA\, 95721\, United States
CATEGORIES:Echo Summit Lodge Events
END:VEVENT
BEGIN:VEVENT
DTSTART;TZID=America/Los_Angeles:20150313T120000
DTEND;TZID=America/Los_Angeles:20150315T120000
DTSTAMP:20260425T125012
CREATED:20141006T162610Z
LAST-MODIFIED:20141006T162610Z
UID:8277-1426248000-1426420800@www.californiaalpineclub.org
SUMMARY:Echo: Hosted Event-Richard
DESCRIPTION:Richard Thornton \n913 Reddington Ct. \nWalnut Creek\, CA 94596 \nRGThorn@pacbell.net \n925-287-0764
URL:https://www.californiaalpineclub.org/events/echo-hosted-event-richard/
LOCATION:Echo Summit Lodge\, 9010 Johnson Pass Rd\, Twin Bridges\, CA\, 95721\, United States
CATEGORIES:Echo Summit Lodge Events
END:VEVENT
BEGIN:VEVENT
DTSTART;TZID=America/Los_Angeles:20150304T120000
DTEND;TZID=America/Los_Angeles:20150308T120000
DTSTAMP:20260425T125012
CREATED:20140929T202224Z
LAST-MODIFIED:20141006T163245Z
UID:8211-1425470400-1425816000@www.californiaalpineclub.org
SUMMARY:Echo: Hosted Event-Karen and Jerry
DESCRIPTION:Karen & Jerry Wagner \n707-528-8197 \n2622 Wawona Dr\, Santa Rosa\, CA 95405 \noldmawagner@gmail.com
URL:https://www.californiaalpineclub.org/events/hosted-event-karen-jerry/
LOCATION:Echo Summit Lodge\, 9010 Johnson Pass Rd\, Twin Bridges\, CA\, 95721\, United States
CATEGORIES:Echo Summit Lodge Events
ORGANIZER;CN="Karen & Jerry Wagner":MAILTO:oldmawagner@gmail.com
END:VEVENT
BEGIN:VEVENT
DTSTART;TZID=America/Los_Angeles:20150227T120000
DTEND;TZID=America/Los_Angeles:20150304T120000
DTSTAMP:20260425T125012
CREATED:20141006T161844Z
LAST-MODIFIED:20141006T161844Z
UID:8270-1425038400-1425470400@www.californiaalpineclub.org
SUMMARY:Echo: Hosted Event-Mary
DESCRIPTION:Mary Larkin-Berlinski \nP.O. Box 776 \nMoss Landing\, CA 95039 \nmlarkin804@sbcglobal.net \n831-325-6215 \n 
URL:https://www.californiaalpineclub.org/events/echo-hosted-event-mary/
LOCATION:Echo Summit Lodge\, 9010 Johnson Pass Rd\, Twin Bridges\, CA\, 95721\, United States
CATEGORIES:Echo Summit Lodge Events
END:VEVENT
BEGIN:VEVENT
DTSTART;TZID=America/Los_Angeles:20150218T000000
DTEND;TZID=America/Los_Angeles:20150222T120000
DTSTAMP:20260425T125012
CREATED:20141006T161348Z
LAST-MODIFIED:20141012T005231Z
UID:8268-1424217600-1424606400@www.californiaalpineclub.org
SUMMARY:Echo: Co-op Meals-Nick and Anita
DESCRIPTION:Nick Gregoratos & Anita Cabrera \n430 Ellsworth St. \nSan Francisco\, CA 94110 \nnick.gregoratos@gmail.com \n415-206-9152 \n  \n 
URL:https://www.californiaalpineclub.org/events/echo-co-op-meals-nick-anita/
LOCATION:Echo Summit Lodge\, 9010 Johnson Pass Rd\, Twin Bridges\, CA\, 95721\, United States
CATEGORIES:Echo Summit Lodge Events
END:VEVENT
BEGIN:VEVENT
DTSTART;TZID=America/Los_Angeles:20150216T000000
DTEND;TZID=America/Los_Angeles:20150218T120000
DTSTAMP:20260425T125012
CREATED:20141124T164838Z
LAST-MODIFIED:20141124T164838Z
UID:8767-1424044800-1424260800@www.californiaalpineclub.org
SUMMARY:Echo: Hosted Event - Amy & Chris
DESCRIPTION:Amy Pertschuk & Chris Krueger \n45 Plymouth \nMill Valley\, CA 94941 \namy@kpwest.com \n415-331-6324
URL:https://www.californiaalpineclub.org/events/echo-hosted-event-amy/
LOCATION:Echo Summit Lodge\, 9010 Johnson Pass Rd\, Twin Bridges\, CA\, 95721\, United States
CATEGORIES:Echo Summit Lodge Events
END:VEVENT
BEGIN:VEVENT
DTSTART;TZID=America/Los_Angeles:20150212T120000
DTEND;TZID=America/Los_Angeles:20150216T120000
DTSTAMP:20260425T125012
CREATED:20141006T160645Z
LAST-MODIFIED:20150106T164641Z
UID:8266-1423742400-1424088000@www.californiaalpineclub.org
SUMMARY:Echo: Hosted Event Renee & Richard
DESCRIPTION:Renee Lee & Richard Thornton \n155 Tomales St. \nSausalito\, CA 94965 \nreneeslee@comcast.net \n415-302-8667
URL:https://www.californiaalpineclub.org/events/echo-young-families-snow-weekend-co-op-meals-joan-john/
LOCATION:Echo Summit Lodge\, 9010 Johnson Pass Rd\, Twin Bridges\, CA\, 95721\, United States
CATEGORIES:Echo Summit Lodge Events
END:VEVENT
BEGIN:VEVENT
DTSTART;TZID=America/Los_Angeles:20150208T120000
DTEND;TZID=America/Los_Angeles:20150212T120000
DTSTAMP:20260425T125012
CREATED:20141012T004900Z
LAST-MODIFIED:20141012T004900Z
UID:8356-1423396800-1423742400@www.californiaalpineclub.org
SUMMARY:Echo: Private Event-Kate & Dave
DESCRIPTION:Kate Twain & Dave Chalk \n707-996-2325 \nktwain@vom.com
URL:https://www.californiaalpineclub.org/events/echo-private-event-kate-dave-2/
LOCATION:Echo Summit Lodge\, 9010 Johnson Pass Rd\, Twin Bridges\, CA\, 95721\, United States
CATEGORIES:Echo Summit Lodge Events
END:VEVENT
BEGIN:VEVENT
DTSTART;TZID=America/Los_Angeles:20150204T120000
DTEND;TZID=America/Los_Angeles:20150208T120000
DTSTAMP:20260425T125012
CREATED:20141006T155910Z
LAST-MODIFIED:20141006T160815Z
UID:8264-1423051200-1423396800@www.californiaalpineclub.org
SUMMARY:Echo: Hosted Event-Edie
DESCRIPTION:Edie Nelson \n140 Archer Dr. \nSanta Cruz\, CA 95060 \nedieforsyth@hotmail.com \n831-423-5576
URL:https://www.californiaalpineclub.org/events/echo-hosted-event-edie/
LOCATION:Echo Summit Lodge\, 9010 Johnson Pass Rd\, Twin Bridges\, CA\, 95721\, United States
CATEGORIES:Echo Summit Lodge Events
END:VEVENT
BEGIN:VEVENT
DTSTART;TZID=America/Los_Angeles:20150130T000000
DTEND;TZID=America/Los_Angeles:20150204T120000
DTSTAMP:20260425T125012
CREATED:20141001T233406Z
LAST-MODIFIED:20141002T155005Z
UID:8258-1422576000-1423051200@www.californiaalpineclub.org
SUMMARY:Echo: Hosted Event-Mary
DESCRIPTION:Mary Larkin-Berlinski \nP. O. Box 776 \nMoss Landing\, CA 95039 \nmlarkin804@sbcglobal.net \n831-325-6215
URL:https://www.californiaalpineclub.org/events/hosted-event-mary/
LOCATION:Echo Summit Lodge\, 9010 Johnson Pass Rd\, Twin Bridges\, CA\, 95721\, United States
CATEGORIES:Echo Summit Lodge Events
ORGANIZER;CN="Mary Larkin-Berlinski":MAILTO:mlarkin804@sbcglobal.net
END:VEVENT
BEGIN:VEVENT
DTSTART;TZID=America/Los_Angeles:20150123T000000
DTEND;TZID=America/Los_Angeles:20150125T120000
DTSTAMP:20260425T125012
CREATED:20141001T232552Z
LAST-MODIFIED:20141002T154806Z
UID:8254-1421971200-1422187200@www.californiaalpineclub.org
SUMMARY:Echo: Hosted Event-Tom and Carol
DESCRIPTION:Tom and Carol Coleman \n32 Live Oak Dr. \nPetaluma\, CA 94952 \ntravmcgee@comcast.net \n415-531-4650
URL:https://www.californiaalpineclub.org/events/hosted-event-tom-carol/
LOCATION:Echo Summit Lodge\, 9010 Johnson Pass Rd\, Twin Bridges\, CA\, 95721\, United States
CATEGORIES:Echo Summit Lodge Events
ORGANIZER;CN="Tom and Carol Coleman":MAILTO:travmcgee@comcast.net
END:VEVENT
BEGIN:VEVENT
DTSTART;TZID=America/Los_Angeles:20150119T120000
DTEND;TZID=America/Los_Angeles:20150123T120000
DTSTAMP:20260425T125012
CREATED:20141001T232027Z
LAST-MODIFIED:20141002T154616Z
UID:8252-1421668800-1422014400@www.californiaalpineclub.org
SUMMARY:Echo: Hosted Event-Diane and Bruce
DESCRIPTION:Diane and Bruce Friend \n6124 Chabot Road \nOakland\, Ca 94618 \nbifedf@comcast.net \n510-654-4218
URL:https://www.californiaalpineclub.org/events/hosted-event-diane-bruce/
LOCATION:Echo Summit Lodge\, 9010 Johnson Pass Rd\, Twin Bridges\, CA\, 95721\, United States
CATEGORIES:Echo Summit Lodge Events
ORGANIZER;CN="Diane and Bruce Friend":MAILTO:bifedf@comcast.net
END:VEVENT
BEGIN:VEVENT
DTSTART;TZID=America/Los_Angeles:20150116T120000
DTEND;TZID=America/Los_Angeles:20150119T120000
DTSTAMP:20260425T125012
CREATED:20141001T231247Z
LAST-MODIFIED:20141002T154507Z
UID:8250-1421409600-1421668800@www.californiaalpineclub.org
SUMMARY:Echo: MLK Weekend Co-Op Meals-Nick and Anita
DESCRIPTION:Nick Gregoratos & Anita Cabrera \n430 Ellsworth St. \nSan Francisco\, CA 94110 \n22_cabrera@msn.com \n415-206-9152 \n 
URL:https://www.californiaalpineclub.org/events/mlk-weekend-co-op-meals-nick-anita/
LOCATION:Echo Summit Lodge\, 9010 Johnson Pass Rd\, Twin Bridges\, CA\, 95721\, United States
CATEGORIES:Echo Summit Lodge Events
ORGANIZER;CN="Nick Gregoratos & Anita Cabrera":MAILTO:22_cabrera@msn.com
END:VEVENT
BEGIN:VEVENT
DTSTART;TZID=America/Los_Angeles:20150111T120000
DTEND;TZID=America/Los_Angeles:20150116T120000
DTSTAMP:20260425T125012
CREATED:20140929T170929Z
LAST-MODIFIED:20141002T154355Z
UID:8201-1420977600-1421409600@www.californiaalpineclub.org
SUMMARY:Echo: Private Event- Dianna
DESCRIPTION:Dianna Klemmick \ndklemmick@gmail.com \n650-520-6183
URL:https://www.californiaalpineclub.org/events/private-event-dianna/
LOCATION:Echo Summit Lodge\, 9010 Johnson Pass Rd\, Twin Bridges\, CA\, 95721\, United States
CATEGORIES:Echo Summit Lodge Events
END:VEVENT
BEGIN:VEVENT
DTSTART;TZID=America/Los_Angeles:20150109T000000
DTEND;TZID=America/Los_Angeles:20150111T120000
DTSTAMP:20260425T125012
CREATED:20141019T174754Z
LAST-MODIFIED:20141124T164114Z
UID:8435-1420761600-1420977600@www.californiaalpineclub.org
SUMMARY:Echo: Hosted Event-Lindsay & Vicky - Host Shadow Training (informal)
DESCRIPTION:Lindsay Rodgers & Vicki Olds \n56 Magnolia St. \nSan Francisco\, CA 94123 \n510-289-1326 \nlindsayrod@gmail.com
URL:https://www.californiaalpineclub.org/events/echo-hosted-event-lindsay-vicky/
LOCATION:Echo Summit Lodge\, 9010 Johnson Pass Rd\, Twin Bridges\, CA\, 95721\, United States
CATEGORIES:Echo Summit Lodge Events
END:VEVENT
BEGIN:VEVENT
DTSTART;TZID=America/Los_Angeles:20141231T120000
DTEND;TZID=America/Los_Angeles:20150104T120000
DTSTAMP:20260425T125012
CREATED:20140916T003511Z
LAST-MODIFIED:20141002T155200Z
UID:8096-1420027200-1420372800@www.californiaalpineclub.org
SUMMARY:Echo: Happy New Year with Shelly and Bob
DESCRIPTION:Hosts: Shelly Navine & Bob Henry \n1286 Hurlbut Avenue Sebastopol\, CA 95472 \n707-829-3728 \nclyde33301@comcast.net
URL:https://www.californiaalpineclub.org/events/echo-summit-private-event-6/
LOCATION:Echo Summit Lodge\, 9010 Johnson Pass Rd\, Twin Bridges\, CA\, 95721\, United States
CATEGORIES:Echo Summit Lodge Events
END:VEVENT
BEGIN:VEVENT
DTSTART;TZID=America/Los_Angeles:20141126T120000
DTEND;TZID=America/Los_Angeles:20141130T120000
DTSTAMP:20260425T125012
CREATED:20140916T002955Z
LAST-MODIFIED:20140926T203650Z
UID:8095-1417003200-1417348800@www.californiaalpineclub.org
SUMMARY:Echo : Thanksgiving Week Pot Luck Feast with Sandra & Hunter
DESCRIPTION:Hosts: Sandra Chapelle & Hunter Merrit \n380 Stoddard Way\, Auburn\, CA 95603 \n530-886-8738 \nchappellesandra@yahoo.com
URL:https://www.californiaalpineclub.org/events/echo-summit-thanksgiving-week-pot-luck-feast-sandra-hunter/
LOCATION:Echo Summit Lodge\, 9010 Johnson Pass Rd\, Twin Bridges\, CA\, 95721\, United States
CATEGORIES:Echo Summit Lodge Events
END:VEVENT
BEGIN:VEVENT
DTSTART;TZID=America/Los_Angeles:20141121T120000
DTEND;TZID=America/Los_Angeles:20141123T120000
DTSTAMP:20260425T125012
CREATED:20140916T002547Z
LAST-MODIFIED:20140926T203826Z
UID:8092-1416571200-1416744000@www.californiaalpineclub.org
SUMMARY:Echo : Private Event
DESCRIPTION:Janis Riccomini & Paul Crockett \n408-981-9137 \njanisriccomini@comcast.net
URL:https://www.californiaalpineclub.org/events/echo-summit-private-event-5/
LOCATION:Echo Summit Lodge\, 9010 Johnson Pass Rd\, Twin Bridges\, CA\, 95721\, United States
CATEGORIES:Echo Summit Lodge Events
END:VEVENT
BEGIN:VEVENT
DTSTART;TZID=America/Los_Angeles:20141112T160000
DTEND;TZID=America/Los_Angeles:20141112T180000
DTSTAMP:20260425T125012
CREATED:20141012T231826Z
LAST-MODIFIED:20141014T203111Z
UID:8357-1415808000-1415815200@www.californiaalpineclub.org
SUMMARY:Echo: Trustee meeting@Alpine Lodge 5.00pm
DESCRIPTION:
URL:https://www.californiaalpineclub.org/events/echo-lodge-trustee-meeting/
LOCATION:Alpine Lodge\, 730 Panoramic Highway\, Mill Valley\, CA\, 94941\, United States
CATEGORIES:Echo Summit Lodge Events
END:VEVENT
BEGIN:VEVENT
DTSTART;TZID=America/Los_Angeles:20141107T120000
DTEND;TZID=America/Los_Angeles:20141109T120000
DTSTAMP:20260425T125012
CREATED:20140916T000711Z
LAST-MODIFIED:20140926T202930Z
UID:8088-1415361600-1415534400@www.californiaalpineclub.org
SUMMARY:Echo : Host Appreciation & Training with Cindy
DESCRIPTION:Contact: Cindy Toran \n707-321-3262 \ncktoran@gmail.com
URL:https://www.californiaalpineclub.org/events/echo-summit-host-appreciation-training/
LOCATION:Echo Summit Lodge\, 9010 Johnson Pass Rd\, Twin Bridges\, CA\, 95721\, United States
CATEGORIES:Echo Summit Lodge Events
END:VEVENT
BEGIN:VEVENT
DTSTART;TZID=America/Los_Angeles:20141031T120000
DTEND;TZID=America/Los_Angeles:20141102T120000
DTSTAMP:20260425T125012
CREATED:20140914T220341Z
LAST-MODIFIED:20140929T201252Z
UID:8085-1414756800-1414929600@www.californiaalpineclub.org
SUMMARY:Echo: Hosts Jay and Mary
DESCRIPTION:MID-AUTUMN SIERRA RETREAT \nHosts: Jay Gustafson & Mary Cosgrove \n4024 Ash St\, Mill Valley\, CA 94941 \n415-381-7261 \njaygustafson@yahoo.com
URL:https://www.californiaalpineclub.org/events/mid-autumn-sierra-retreat/
LOCATION:Echo Summit Lodge\, 9010 Johnson Pass Rd\, Twin Bridges\, CA\, 95721\, United States
CATEGORIES:Echo Summit Lodge Events
END:VEVENT
END:VCALENDAR