BEGIN:VCALENDAR
VERSION:2.0
PRODID:-//California Alpine Club - ECPv6.15.20//NONSGML v1.0//EN
CALSCALE:GREGORIAN
METHOD:PUBLISH
X-ORIGINAL-URL:https://www.californiaalpineclub.org
X-WR-CALDESC:Events for California Alpine Club
REFRESH-INTERVAL;VALUE=DURATION:PT1H
X-Robots-Tag:noindex
X-PUBLISHED-TTL:PT1H
BEGIN:VTIMEZONE
TZID:America/Los_Angeles
BEGIN:DAYLIGHT
TZOFFSETFROM:-0800
TZOFFSETTO:-0700
TZNAME:PDT
DTSTART:20140309T100000
END:DAYLIGHT
BEGIN:STANDARD
TZOFFSETFROM:-0700
TZOFFSETTO:-0800
TZNAME:PST
DTSTART:20141102T090000
END:STANDARD
BEGIN:DAYLIGHT
TZOFFSETFROM:-0800
TZOFFSETTO:-0700
TZNAME:PDT
DTSTART:20150308T100000
END:DAYLIGHT
BEGIN:STANDARD
TZOFFSETFROM:-0700
TZOFFSETTO:-0800
TZNAME:PST
DTSTART:20151101T090000
END:STANDARD
BEGIN:DAYLIGHT
TZOFFSETFROM:-0800
TZOFFSETTO:-0700
TZNAME:PDT
DTSTART:20160313T100000
END:DAYLIGHT
BEGIN:STANDARD
TZOFFSETFROM:-0700
TZOFFSETTO:-0800
TZNAME:PST
DTSTART:20161106T090000
END:STANDARD
BEGIN:DAYLIGHT
TZOFFSETFROM:-0800
TZOFFSETTO:-0700
TZNAME:PDT
DTSTART:20170312T100000
END:DAYLIGHT
BEGIN:STANDARD
TZOFFSETFROM:-0700
TZOFFSETTO:-0800
TZNAME:PST
DTSTART:20171105T090000
END:STANDARD
END:VTIMEZONE
BEGIN:VEVENT
DTSTART;TZID=America/Los_Angeles:20160222T000000
DTEND;TZID=America/Los_Angeles:20160226T120000
DTSTAMP:20260425T063424
CREATED:20151001T175418Z
LAST-MODIFIED:20151001T175418Z
UID:9957-1456099200-1456488000@www.californiaalpineclub.org
SUMMARY:Echo: Hosted Event - Edie and Mary
DESCRIPTION:Edie Nelson \nand Mary Berlinski \n74 Surrey Lane \nSan Rafael\, CA 94903 \nedieforsyth@hotmail.com \n831-331-1754
URL:https://www.californiaalpineclub.org/events/echo-hosted-event-edie-and-mary/
LOCATION:Echo Summit Lodge\, 9010 Johnson Pass Rd\, Twin Bridges\, CA\, 95721\, United States
CATEGORIES:Echo Summit Lodge Events
END:VEVENT
BEGIN:VEVENT
DTSTART;TZID=America/Los_Angeles:20160219T120000
DTEND;TZID=America/Los_Angeles:20160222T120000
DTSTAMP:20260425T063424
CREATED:20151001T174806Z
LAST-MODIFIED:20151001T174854Z
UID:9956-1455883200-1456142400@www.californiaalpineclub.org
SUMMARY:Echo: Hosted Event - Tom and Carol
DESCRIPTION:Tom & Carol Coleman \n32 Live Oak Dr. \nPetaluma\, CA 94952 \ntravmcgee@comcast.net \n415-531-4650
URL:https://www.californiaalpineclub.org/events/echo-hosted-event-tom-and-carol/
LOCATION:Echo Summit Lodge\, 9010 Johnson Pass Rd\, Twin Bridges\, CA\, 95721\, United States
CATEGORIES:Echo Summit Lodge Events
END:VEVENT
BEGIN:VEVENT
DTSTART;TZID=America/Los_Angeles:20160215T120000
DTEND;TZID=America/Los_Angeles:20160219T120000
DTSTAMP:20260425T063424
CREATED:20151105T163525Z
LAST-MODIFIED:20151105T163525Z
UID:10088-1455537600-1455883200@www.californiaalpineclub.org
SUMMARY:Echo: Private Event
DESCRIPTION:Paul & Lauri Pastrone \npaul.pastrone@gmail.com \n650-368-6024
URL:https://www.californiaalpineclub.org/events/echo-private-event/
LOCATION:Echo Summit Lodge\, 9010 Johnson Pass Rd\, Twin Bridges\, CA\, 95721\, United States
CATEGORIES:Echo Summit Lodge Events
END:VEVENT
BEGIN:VEVENT
DTSTART;TZID=America/Los_Angeles:20160211T120000
DTEND;TZID=America/Los_Angeles:20160215T120000
DTSTAMP:20260425T063424
CREATED:20151001T174230Z
LAST-MODIFIED:20151001T174443Z
UID:9955-1455192000-1455537600@www.californiaalpineclub.org
SUMMARY:Echo: President's Weekend - Anita and Nick
DESCRIPTION:Nick Gregoratos & \nAnita Cabrera \n430 Ellsworth St. \nSan Francisco\, CA 94110 \nnick.gregoratos@gmail.com \n415-206-9152
URL:https://www.californiaalpineclub.org/events/echo-presidents-weekend-anita-and-nick/
LOCATION:Echo Summit Lodge\, 9010 Johnson Pass Rd\, Twin Bridges\, CA\, 95721\, United States
CATEGORIES:Echo Summit Lodge Events
END:VEVENT
BEGIN:VEVENT
DTSTART;TZID=America/Los_Angeles:20160207T120000
DTEND;TZID=America/Los_Angeles:20160211T120000
DTSTAMP:20260425T063424
CREATED:20160113T175212Z
LAST-MODIFIED:20160113T175212Z
UID:10258-1454846400-1455192000@www.californiaalpineclub.org
SUMMARY:Echo: Private Event
DESCRIPTION:Kate Twain & Dave Chalk 707-996-2325
URL:https://www.californiaalpineclub.org/events/echo-private-event-2/
LOCATION:Echo Summit Lodge\, 9010 Johnson Pass Rd\, Twin Bridges\, CA\, 95721\, United States
CATEGORIES:Echo Summit Lodge Events
END:VEVENT
BEGIN:VEVENT
DTSTART;TZID=America/Los_Angeles:20160205T120000
DTEND;TZID=America/Los_Angeles:20160207T120000
DTSTAMP:20260425T063424
CREATED:20160113T174944Z
LAST-MODIFIED:20160113T174944Z
UID:10257-1454673600-1454846400@www.californiaalpineclub.org
SUMMARY:Echo: Family Snow Weekend Co-op Meals - Craig
DESCRIPTION:Craig Anderson \n9635 Appalachian Dr. \nSacramento\, CA 95827 \ncranders1@gmail.com \n928-607-3608
URL:https://www.californiaalpineclub.org/events/echo-family-snow-weekend-co-op-meals-craig/
LOCATION:Echo Summit Lodge\, 9010 Johnson Pass Rd\, Twin Bridges\, CA\, 95721\, United States
CATEGORIES:Echo Summit Lodge Events
END:VEVENT
BEGIN:VEVENT
DTSTART;TZID=America/Los_Angeles:20160129T120000
DTEND;TZID=America/Los_Angeles:20160203T120000
DTSTAMP:20260425T063424
CREATED:20151001T173850Z
LAST-MODIFIED:20151001T173850Z
UID:9954-1454068800-1454500800@www.californiaalpineclub.org
SUMMARY:Echo:  Hosted Event - Mary & Stefan
DESCRIPTION:Mary & Stefan Berlinski \nP. O. Box 776 \nMoss Landing\, CA 95039 \nmlarkin804@sbcglobal.net \n831-325-6215
URL:https://www.californiaalpineclub.org/events/echo-hosted-event-mary-stefan/
LOCATION:Echo Summit Lodge\, 9010 Johnson Pass Rd\, Twin Bridges\, CA\, 95721\, United States
CATEGORIES:Echo Summit Lodge Events
END:VEVENT
BEGIN:VEVENT
DTSTART;TZID=America/Los_Angeles:20160122T000000
DTEND;TZID=America/Los_Angeles:20160124T120000
DTSTAMP:20260425T063424
CREATED:20151001T173304Z
LAST-MODIFIED:20151001T173304Z
UID:9953-1453420800-1453636800@www.californiaalpineclub.org
SUMMARY:Echo: Hosted Event - Richard
DESCRIPTION:Richard Thornton \n913 Reddington CT \nWalnut Creek\, CA 94596 \n925-287-0764 \nRGThorn@pacbell.net
URL:https://www.californiaalpineclub.org/events/echo-hosted-event-richard-2/
LOCATION:Echo Summit Lodge\, 9010 Johnson Pass Rd\, Twin Bridges\, CA\, 95721\, United States
CATEGORIES:Echo Summit Lodge Events
END:VEVENT
BEGIN:VEVENT
DTSTART;TZID=America/Los_Angeles:20160114T120000
DTEND;TZID=America/Los_Angeles:20160118T120000
DTSTAMP:20260425T063424
CREATED:20151001T172909Z
LAST-MODIFIED:20151001T172909Z
UID:9952-1452772800-1453118400@www.californiaalpineclub.org
SUMMARY:Echo: MLK WKND-Anita and Nick
DESCRIPTION:Nick Gregoratos \n& Anita Cabrera \n400 Ellsworth St \nSan Francisco\, CA 94110 \nnick.gregoratos@gmail.com \n415-206-9152 \n 
URL:https://www.californiaalpineclub.org/events/echo-mlk-wknd-anita-and-nick/
LOCATION:Echo Summit Lodge\, 9010 Johnson Pass Rd\, Twin Bridges\, CA\, 95721\, United States
CATEGORIES:Echo Summit Lodge Events
END:VEVENT
BEGIN:VEVENT
DTSTART;TZID=America/Los_Angeles:20151230T120000
DTEND;TZID=America/Los_Angeles:20160104T120000
DTSTAMP:20260425T063424
CREATED:20151001T172338Z
LAST-MODIFIED:20151002T203343Z
UID:9951-1451476800-1451908800@www.californiaalpineclub.org
SUMMARY:Echo:  Hosted Event - Shelly & Bob
DESCRIPTION:Happy New Year! \nShelly Navine and Bob Henry \n1286 Hurlbutt Ave \nSebastopol\, CA 95472 \n707-829-3728 \nclyde33301@comcast.net \n  \n 
URL:https://www.californiaalpineclub.org/events/echo-hosted-event-shelly-bob/
LOCATION:Echo Summit Lodge\, 9010 Johnson Pass Rd\, Twin Bridges\, CA\, 95721\, United States
CATEGORIES:Echo Summit Lodge Events
END:VEVENT
BEGIN:VEVENT
DTSTART;TZID=America/Los_Angeles:20151225T120000
DTEND;TZID=America/Los_Angeles:20151227T120000
DTSTAMP:20260425T063424
CREATED:20151119T174516Z
LAST-MODIFIED:20151119T174516Z
UID:10115-1451044800-1451217600@www.californiaalpineclub.org
SUMMARY:Echo: Hosted Event - Jay
DESCRIPTION:Holiday Play and Club Discussions \n  \nJay Gustafson \n4024 Ash Street \nMill Valley\, CA 94941 \njaygustafson@yahoo.com
URL:https://www.californiaalpineclub.org/events/echo-hosted-event-jay/
LOCATION:Echo Summit Lodge\, 9010 Johnson Pass Rd\, Twin Bridges\, CA\, 95721\, United States
CATEGORIES:Echo Summit Lodge Events
END:VEVENT
BEGIN:VEVENT
DTSTART;TZID=America/Los_Angeles:20151218T120000
DTEND;TZID=America/Los_Angeles:20151220T120000
DTSTAMP:20260425T063424
CREATED:20151119T174922Z
LAST-MODIFIED:20151119T174922Z
UID:10116-1450440000-1450612800@www.californiaalpineclub.org
SUMMARY:Echo: Private Event - Carolyn
DESCRIPTION:Carolyn Williams \n916-677-9224 \nwildflowersbycarolyn@hotmail.com
URL:https://www.californiaalpineclub.org/events/echo-private-event-carolyn/
LOCATION:Echo Summit Lodge\, 9010 Johnson Pass Rd\, Twin Bridges\, CA\, 95721\, United States
CATEGORIES:Echo Summit Lodge Events
END:VEVENT
BEGIN:VEVENT
DTSTART;TZID=America/Los_Angeles:20151125T120000
DTEND;TZID=America/Los_Angeles:20151129T120000
DTSTAMP:20260425T063424
CREATED:20150811T215913Z
LAST-MODIFIED:20150811T215913Z
UID:9850-1448452800-1448798400@www.californiaalpineclub.org
SUMMARY:Echo: Thanksgiving - Hunter & Ken
DESCRIPTION:Hunter Merritt & Ken Patera \n1628 –  51st Street \nSacramento\, CA 95819 \nmerritt.hunter@gmail.com \n916-873-6253 \n 
URL:https://www.californiaalpineclub.org/events/echo-thanksgiving-hunter-ken/
LOCATION:Echo Summit Lodge\, 9010 Johnson Pass Rd\, Twin Bridges\, CA\, 95721\, United States
CATEGORIES:Echo Summit Lodge Events
END:VEVENT
BEGIN:VEVENT
DTSTART;TZID=America/Los_Angeles:20151112T120000
DTEND;TZID=America/Los_Angeles:20151115T120000
DTSTAMP:20260425T063424
CREATED:20150601T185126Z
LAST-MODIFIED:20150601T185126Z
UID:9661-1447329600-1447588800@www.californiaalpineclub.org
SUMMARY:Echo: Hosted Event - Lynn
DESCRIPTION:Lynn Garric \n5400 Alpine Rd \nSanta Rosa\, CA 95404 \ncransac@sonic.net \n707-756-2639
URL:https://www.californiaalpineclub.org/events/echo-hosted-event-lynn/
LOCATION:Echo Summit Lodge\, 9010 Johnson Pass Rd\, Twin Bridges\, CA\, 95721\, United States
CATEGORIES:Echo Summit Lodge Events
END:VEVENT
BEGIN:VEVENT
DTSTART;TZID=America/Los_Angeles:20151106T120000
DTEND;TZID=America/Los_Angeles:20151108T120000
DTSTAMP:20260425T063424
CREATED:20150601T184809Z
LAST-MODIFIED:20150601T184809Z
UID:9660-1446811200-1446984000@www.californiaalpineclub.org
SUMMARY:Echo:  Host Appreciation & Training - Cindy
DESCRIPTION:Cindy Toran \ncktoran@gmail.com \n707-321-3261
URL:https://www.californiaalpineclub.org/events/echo-host-appreciation-training-cindy/
LOCATION:Echo Summit Lodge\, 9010 Johnson Pass Rd\, Twin Bridges\, CA\, 95721\, United States
CATEGORIES:Echo Summit Lodge Events
END:VEVENT
BEGIN:VEVENT
DTSTART;TZID=America/Los_Angeles:20151030T120000
DTEND;TZID=America/Los_Angeles:20151101T120000
DTSTAMP:20260425T063424
CREATED:20150811T215347Z
LAST-MODIFIED:20150811T215347Z
UID:9849-1446206400-1446379200@www.californiaalpineclub.org
SUMMARY:Echo: Private Event - Tim Seeley
DESCRIPTION:
URL:https://www.californiaalpineclub.org/events/echo-private-event-tim-seeley/
LOCATION:Echo Summit Lodge\, 9010 Johnson Pass Rd\, Twin Bridges\, CA\, 95721\, United States
CATEGORIES:Echo Summit Lodge Events
END:VEVENT
BEGIN:VEVENT
DTSTART;TZID=America/Los_Angeles:20151018T000000
DTEND;TZID=America/Los_Angeles:20151025T120000
DTSTAMP:20260425T063424
CREATED:20150601T184350Z
LAST-MODIFIED:20150601T184350Z
UID:9659-1445126400-1445774400@www.californiaalpineclub.org
SUMMARY:Echo: Private Event - John & Barbara
DESCRIPTION:
URL:https://www.californiaalpineclub.org/events/echo-private-event-john-barbara/
LOCATION:Echo Summit Lodge\, 9010 Johnson Pass Rd\, Twin Bridges\, CA\, 95721\, United States
CATEGORIES:Echo Summit Lodge Events
END:VEVENT
BEGIN:VEVENT
DTSTART;TZID=America/Los_Angeles:20151011T120000
DTEND;TZID=America/Los_Angeles:20151018T120000
DTSTAMP:20260425T063424
CREATED:20150601T161611Z
LAST-MODIFIED:20150601T185502Z
UID:9654-1444564800-1445169600@www.californiaalpineclub.org
SUMMARY:Echo: Hosted Event - Fall Color Hikes- Lin & Barbara
DESCRIPTION:Lin Mangiante & Barbara Crockett \n424 Hazel Ave. \nMillbrae\, CA 94030 \nfoxtails@pacbell.net \n650-697-7403 \n 
URL:https://www.californiaalpineclub.org/events/echo-hosted-event-fall-color-hikes-lin-barbara/
LOCATION:Echo Summit Lodge\, 9010 Johnson Pass Rd\, Twin Bridges\, CA\, 95721\, United States
CATEGORIES:Echo Summit Lodge Events
END:VEVENT
BEGIN:VEVENT
DTSTART;TZID=America/Los_Angeles:20151008T120000
DTEND;TZID=America/Los_Angeles:20151011T120000
DTSTAMP:20260425T063424
CREATED:20150601T161205Z
LAST-MODIFIED:20150601T161205Z
UID:9653-1444305600-1444564800@www.californiaalpineclub.org
SUMMARY:Echo: Private Event - Lynn & Claudia
DESCRIPTION:
URL:https://www.californiaalpineclub.org/events/echo-private-event-lynn-claudia/
LOCATION:Echo Summit Lodge\, 9010 Johnson Pass Rd\, Twin Bridges\, CA\, 95721\, United States
CATEGORIES:Echo Summit Lodge Events
END:VEVENT
BEGIN:VEVENT
DTSTART;TZID=America/Los_Angeles:20151002T000000
DTEND;TZID=America/Los_Angeles:20151005T120000
DTSTAMP:20260425T063424
CREATED:20150601T161031Z
LAST-MODIFIED:20150601T161914Z
UID:9652-1443744000-1444046400@www.californiaalpineclub.org
SUMMARY:Echo:  Private Event - Nuala
DESCRIPTION:
URL:https://www.californiaalpineclub.org/events/echo-private-event-nuala/
LOCATION:Echo Summit Lodge\, 9010 Johnson Pass Rd\, Twin Bridges\, CA\, 95721\, United States
CATEGORIES:Echo Summit Lodge Events
END:VEVENT
BEGIN:VEVENT
DTSTART;TZID=America/Los_Angeles:20150924T120000
DTEND;TZID=America/Los_Angeles:20150927T120000
DTSTAMP:20260425T063424
CREATED:20150509T210531Z
LAST-MODIFIED:20150509T210531Z
UID:9582-1443096000-1443355200@www.californiaalpineclub.org
SUMMARY:Echo:  Fall Fun & Work Party
DESCRIPTION:Contact: Bob Henry \nclyde3301@comcast.net \n707-829-3728 \n 
URL:https://www.californiaalpineclub.org/events/echo-fall-fun-work-party/
LOCATION:Echo Summit Lodge\, 9010 Johnson Pass Rd\, Twin Bridges\, CA\, 95721\, United States
CATEGORIES:Echo Summit Lodge Events
END:VEVENT
BEGIN:VEVENT
DTSTART;TZID=America/Los_Angeles:20150918T120000
DTEND;TZID=America/Los_Angeles:20150920T120000
DTSTAMP:20260425T063424
CREATED:20150509T205953Z
LAST-MODIFIED:20150509T210020Z
UID:9580-1442577600-1442750400@www.californiaalpineclub.org
SUMMARY:Echo: Private Event - Lee & Phyllis
DESCRIPTION:
URL:https://www.californiaalpineclub.org/events/echo-private-event-lee-phyllis/
LOCATION:Echo Summit Lodge\, 9010 Johnson Pass Rd\, Twin Bridges\, CA\, 95721\, United States
CATEGORIES:Echo Summit Lodge Events
END:VEVENT
BEGIN:VEVENT
DTSTART;TZID=America/Los_Angeles:20150914T120000
DTEND;TZID=America/Los_Angeles:20150918T120000
DTSTAMP:20260425T063424
CREATED:20150811T214832Z
LAST-MODIFIED:20150811T214832Z
UID:9847-1442232000-1442577600@www.californiaalpineclub.org
SUMMARY:Echo: Co-Op Meals - Carol & Erik
DESCRIPTION:Carol and Erik Bodtker \n23 Ashland Drive \nNovato\, CA 94949 \ncbpostme@gmail.com \n415-884-0850
URL:https://www.californiaalpineclub.org/events/echo-co-op-meals-carol-erik/
LOCATION:Echo Summit Lodge\, 9010 Johnson Pass Rd\, Twin Bridges\, CA\, 95721\, United States
CATEGORIES:Echo Summit Lodge Events
END:VEVENT
BEGIN:VEVENT
DTSTART;TZID=America/Los_Angeles:20150911T120000
DTEND;TZID=America/Los_Angeles:20150913T120000
DTSTAMP:20260425T063424
CREATED:20150509T205738Z
LAST-MODIFIED:20150509T210135Z
UID:9579-1441972800-1442145600@www.californiaalpineclub.org
SUMMARY:Echo: Private Event - Carolyn & Fred
DESCRIPTION:
URL:https://www.californiaalpineclub.org/events/echo-private-carolyn-fred/
LOCATION:Echo Summit Lodge\, 9010 Johnson Pass Rd\, Twin Bridges\, CA\, 95721\, United States
CATEGORIES:Echo Summit Lodge Events
END:VEVENT
BEGIN:VEVENT
DTSTART;TZID=America/Los_Angeles:20150905T120000
DTEND;TZID=America/Los_Angeles:20150911T120000
DTSTAMP:20260425T063424
CREATED:20150524T161200Z
LAST-MODIFIED:20150818T004952Z
UID:9634-1441454400-1441972800@www.californiaalpineclub.org
SUMMARY:Echo:  Coop Meals - Susan and Ann
DESCRIPTION:Susan McCarthy & Ann Meneguzzi \n1141 Willow Glen Way \nSan Jose\, CA 95125 \nmccarthysf@gmail.com \n408-293-0891 \n  \n 
URL:https://www.californiaalpineclub.org/events/echo-coop-meals-susan-and-ann/
LOCATION:Echo Summit Lodge\, 9010 Johnson Pass Rd\, Twin Bridges\, CA\, 95721\, United States
CATEGORIES:Echo Summit Lodge Events
END:VEVENT
BEGIN:VEVENT
DTSTART;TZID=America/Los_Angeles:20150823T120000
DTEND;TZID=America/Los_Angeles:20150828T120000
DTSTAMP:20260425T063424
CREATED:20150813T152456Z
LAST-MODIFIED:20150818T153133Z
UID:9859-1440331200-1440763200@www.californiaalpineclub.org
SUMMARY:Echo: Hosted Event - Edie\, Diane\, and Bruce
DESCRIPTION:Edie Nelson & Diane and Bruce Friend are hosting. \nEdie Nelson \n74 Surrey Lane \nSan Rafael\, CA 94903 \n831-331-1754 \nEdie’s email is edieforsyth@hotmail.com.
URL:https://www.californiaalpineclub.org/events/echo-hosted-event-edie-diane-and-bruce/
LOCATION:Echo Summit Lodge\, 9010 Johnson Pass Rd\, Twin Bridges\, CA\, 95721\, United States
CATEGORIES:Echo Summit Lodge Events
END:VEVENT
BEGIN:VEVENT
DTSTART;TZID=America/Los_Angeles:20150821T120000
DTEND;TZID=America/Los_Angeles:20150823T120000
DTSTAMP:20260425T063424
CREATED:20150407T213557Z
LAST-MODIFIED:20150407T213557Z
UID:9418-1440158400-1440331200@www.californiaalpineclub.org
SUMMARY:Echo: Trail Clearing - Tom
DESCRIPTION:Tom Coleman \ntravmcgee@comcast.net \n415-531-4650
URL:https://www.californiaalpineclub.org/events/echo-trail-clearing-tom/
LOCATION:Echo Summit Lodge\, 9010 Johnson Pass Rd\, Twin Bridges\, CA\, 95721\, United States
CATEGORIES:Echo Summit Lodge Events
END:VEVENT
BEGIN:VEVENT
DTSTART;TZID=America/Los_Angeles:20150814T120000
DTEND;TZID=America/Los_Angeles:20150816T120000
DTSTAMP:20260425T063424
CREATED:20150407T212913Z
LAST-MODIFIED:20150407T213224Z
UID:9416-1439553600-1439726400@www.californiaalpineclub.org
SUMMARY:Echo: Hosted Event - Gary
DESCRIPTION:Gary Pryde \n5522 Auburn Blvd. \nSacramento\, CA 95841 \n916-224-5535 \ngarypryde@yahoo.com \n 
URL:https://www.californiaalpineclub.org/events/echo-hosted-event-gary/
LOCATION:Echo Summit Lodge\, 9010 Johnson Pass Rd\, Twin Bridges\, CA\, 95721\, United States
CATEGORIES:Echo Summit Lodge Events
END:VEVENT
BEGIN:VEVENT
DTSTART;TZID=America/Los_Angeles:20150811T120000
DTEND;TZID=America/Los_Angeles:20150814T120000
DTSTAMP:20260425T063424
CREATED:20150509T205325Z
LAST-MODIFIED:20150509T205325Z
UID:9578-1439294400-1439553600@www.californiaalpineclub.org
SUMMARY:Echo: Hikers Week - Co-op Meals - Edna
DESCRIPTION:2B hikes led daily \nEdna Trimm \n608 Tazewell Rd.\, NW \nVienna\, VA 22180 \nedna.trimm@verizon.net \n707-304-5197 \n 
URL:https://www.californiaalpineclub.org/events/echo-hikers-week-co-op-meals-edna/
LOCATION:Echo Summit Lodge\, 9010 Johnson Pass Rd\, Twin Bridges\, CA\, 95721\, United States
CATEGORIES:Echo Summit Lodge Events
END:VEVENT
BEGIN:VEVENT
DTSTART;TZID=America/Los_Angeles:20150809T120000
DTEND;TZID=America/Los_Angeles:20150811T120000
DTSTAMP:20260425T063424
CREATED:20150509T204613Z
LAST-MODIFIED:20150509T204613Z
UID:9577-1439121600-1439294400@www.californiaalpineclub.org
SUMMARY:Echo:  Co-op Meals - Kristina & Ben
DESCRIPTION:Kristina & Ben Gale \n158 Morningsun Ave. \nMill Valley\, CA 94941 \nkrissegale@yahoo.com \n415-381-9319
URL:https://www.californiaalpineclub.org/events/echo-co-op-meals-kristina-ben/
LOCATION:Echo Summit Lodge\, 9010 Johnson Pass Rd\, Twin Bridges\, CA\, 95721\, United States
CATEGORIES:Echo Summit Lodge Events
END:VEVENT
END:VCALENDAR