BEGIN:VCALENDAR
VERSION:2.0
PRODID:-//California Alpine Club - ECPv6.15.20//NONSGML v1.0//EN
CALSCALE:GREGORIAN
METHOD:PUBLISH
X-ORIGINAL-URL:https://www.californiaalpineclub.org
X-WR-CALDESC:Events for California Alpine Club
REFRESH-INTERVAL;VALUE=DURATION:PT1H
X-Robots-Tag:noindex
X-PUBLISHED-TTL:PT1H
BEGIN:VTIMEZONE
TZID:America/Los_Angeles
BEGIN:DAYLIGHT
TZOFFSETFROM:-0800
TZOFFSETTO:-0700
TZNAME:PDT
DTSTART:20150308T100000
END:DAYLIGHT
BEGIN:STANDARD
TZOFFSETFROM:-0700
TZOFFSETTO:-0800
TZNAME:PST
DTSTART:20151101T090000
END:STANDARD
BEGIN:DAYLIGHT
TZOFFSETFROM:-0800
TZOFFSETTO:-0700
TZNAME:PDT
DTSTART:20160313T100000
END:DAYLIGHT
BEGIN:STANDARD
TZOFFSETFROM:-0700
TZOFFSETTO:-0800
TZNAME:PST
DTSTART:20161106T090000
END:STANDARD
BEGIN:DAYLIGHT
TZOFFSETFROM:-0800
TZOFFSETTO:-0700
TZNAME:PDT
DTSTART:20170312T100000
END:DAYLIGHT
BEGIN:STANDARD
TZOFFSETFROM:-0700
TZOFFSETTO:-0800
TZNAME:PST
DTSTART:20171105T090000
END:STANDARD
BEGIN:DAYLIGHT
TZOFFSETFROM:-0800
TZOFFSETTO:-0700
TZNAME:PDT
DTSTART:20180311T100000
END:DAYLIGHT
BEGIN:STANDARD
TZOFFSETFROM:-0700
TZOFFSETTO:-0800
TZNAME:PST
DTSTART:20181104T090000
END:STANDARD
END:VTIMEZONE
BEGIN:VEVENT
DTSTART;TZID=America/Los_Angeles:20170220T120000
DTEND;TZID=America/Los_Angeles:20170224T120000
DTSTAMP:20260424T212248
CREATED:20160806T171037Z
LAST-MODIFIED:20160806T171037Z
UID:10850-1487592000-1487937600@www.californiaalpineclub.org
SUMMARY:Echo: Kids/Grandparent's Ski WKND - Kathy & Bill
DESCRIPTION:Kathy & Bill Faherty \n36 Cliffwood Place \nSanta Rosa\, CA 95409 \nkfaherty@mac.com \n707-539-7081
URL:https://www.californiaalpineclub.org/events/echo-kidsgrandparents-ski-wknd-kathy-bill/
LOCATION:Echo Summit Lodge\, 9010 Johnson Pass Rd\, Twin Bridges\, CA\, 95721\, United States
CATEGORIES:Echo Summit Lodge Events
END:VEVENT
BEGIN:VEVENT
DTSTART;TZID=America/Los_Angeles:20170216T120000
DTEND;TZID=America/Los_Angeles:20170220T120000
DTSTAMP:20260424T212248
CREATED:20160806T170612Z
LAST-MODIFIED:20160806T170612Z
UID:10849-1487246400-1487592000@www.californiaalpineclub.org
SUMMARY:Echo: Hosted Event - President's WKND - Anita & Nick
DESCRIPTION:Nick Gregoratos & Anita Cabrera \n430 Ellsworth St. \nSan Francisco\, CA 94110 \nnick.gregoratos@gmail.com \n315-206-9152
URL:https://www.californiaalpineclub.org/events/echo-hosted-event-presidents-wknd-anita-nick/
LOCATION:Echo Summit Lodge\, 9010 Johnson Pass Rd\, Twin Bridges\, CA\, 95721\, United States
CATEGORIES:Echo Summit Lodge Events
END:VEVENT
BEGIN:VEVENT
DTSTART;TZID=America/Los_Angeles:20170212T120000
DTEND;TZID=America/Los_Angeles:20170216T120000
DTSTAMP:20260424T212248
CREATED:20161116T203617Z
LAST-MODIFIED:20161116T203617Z
UID:11323-1486900800-1487246400@www.californiaalpineclub.org
SUMMARY:Echo:  Hosted Event - Mary & Stefan
DESCRIPTION:Mary & Stefan Berlinski \nP.O. Box 776 \nMoss Landing\, CA 95039 \nmlarkin804@sbcglobal.net \n831-325-6215
URL:https://www.californiaalpineclub.org/events/echo-hosted-event-mary-stefan-3/
LOCATION:Echo Summit Lodge\, 9010 Johnson Pass Rd\, Twin Bridges\, CA\, 95721\, United States
CATEGORIES:Echo Summit Lodge Events
END:VEVENT
BEGIN:VEVENT
DTSTART;TZID=America/Los_Angeles:20170210T120000
DTEND;TZID=America/Los_Angeles:20170212T120000
DTSTAMP:20260424T212248
CREATED:20160824T161748Z
LAST-MODIFIED:20160824T161748Z
UID:10968-1486728000-1486900800@www.californiaalpineclub.org
SUMMARY:Echo:  Hosted Event - Tom
DESCRIPTION:Tom Coleman \n32 Live Oak Drive \nPetaluma\, CA 94952 \ntravmcgee@comcast.net \n415-531-4650
URL:https://www.californiaalpineclub.org/events/echo-hosted-event-tom/
LOCATION:Echo Summit Lodge\, 9010 Johnson Pass Rd\, Twin Bridges\, CA\, 95721\, United States
CATEGORIES:Echo Summit Lodge Events
END:VEVENT
BEGIN:VEVENT
DTSTART;TZID=America/Los_Angeles:20170205T120000
DTEND;TZID=America/Los_Angeles:20170209T120000
DTSTAMP:20260424T212248
CREATED:20161026T174208Z
LAST-MODIFIED:20161026T174208Z
UID:11205-1486296000-1486641600@www.californiaalpineclub.org
SUMMARY:Echo: Private Event - Kate
DESCRIPTION:Kate Twain \nktwain@vom.com \n707-996-2325
URL:https://www.californiaalpineclub.org/events/echo-private-event-kate/
LOCATION:Echo Summit Lodge\, 9010 Johnson Pass Rd\, Twin Bridges\, CA\, 95721\, United States
CATEGORIES:Echo Summit Lodge Events
END:VEVENT
BEGIN:VEVENT
DTSTART;TZID=America/Los_Angeles:20170203T120000
DTEND;TZID=America/Los_Angeles:20170205T120000
DTSTAMP:20260424T212248
CREATED:20160806T010859Z
LAST-MODIFIED:20160920T025726Z
UID:10848-1486123200-1486296000@www.californiaalpineclub.org
SUMMARY:Echo: Hosted Event - Pete & Sandy
DESCRIPTION:Pete Castelli and Sandy Borden \nSandy Borden\n770 Clipper Heights Place\nAuburn\, CA 95603530-318-9693 \nsandynevada@yahoo.com \n 
URL:https://www.californiaalpineclub.org/events/echo-hosted-event-pete/
LOCATION:Echo Summit Lodge\, 9010 Johnson Pass Rd\, Twin Bridges\, CA\, 95721\, United States
CATEGORIES:Echo Summit Lodge Events
END:VEVENT
BEGIN:VEVENT
DTSTART;TZID=America/Los_Angeles:20170129T120000
DTEND;TZID=America/Los_Angeles:20170203T120000
DTSTAMP:20260424T212248
CREATED:20160806T010519Z
LAST-MODIFIED:20160806T010545Z
UID:10847-1485691200-1486123200@www.californiaalpineclub.org
SUMMARY:Echo:  Hosted Event - Dianna
DESCRIPTION:Dianna Klemmick \n1235 Howard Ave.\, #3 \nSan Carlos\, CA 94070 \ndklemmick@gmail.com \n650-520-6183
URL:https://www.californiaalpineclub.org/events/echo-hosted-event-dianna/
LOCATION:Echo Summit Lodge\, 9010 Johnson Pass Rd\, Twin Bridges\, CA\, 95721\, United States
CATEGORIES:Echo Summit Lodge Events
END:VEVENT
BEGIN:VEVENT
DTSTART;TZID=America/Los_Angeles:20170125T120000
DTEND;TZID=America/Los_Angeles:20170129T120000
DTSTAMP:20260424T212248
CREATED:20160806T010218Z
LAST-MODIFIED:20160806T010218Z
UID:10846-1485345600-1485691200@www.californiaalpineclub.org
SUMMARY:Echo:  Hosted Event - Mary & Stefan
DESCRIPTION:Mary & Stefan Berlinski \nP.O. Box 776 \nMoss Landing\, CA 95039 \nmlarkin804@sbcglobal.net \n831-325-6215
URL:https://www.californiaalpineclub.org/events/echo-hosted-event-mary-stefan-2/
LOCATION:Echo Summit Lodge\, 9010 Johnson Pass Rd\, Twin Bridges\, CA\, 95721\, United States
CATEGORIES:Echo Summit Lodge Events
END:VEVENT
BEGIN:VEVENT
DTSTART;TZID=America/Los_Angeles:20170120T120000
DTEND;TZID=America/Los_Angeles:20170122T120000
DTSTAMP:20260424T212248
CREATED:20160806T005913Z
LAST-MODIFIED:20160806T005935Z
UID:10845-1484913600-1485086400@www.californiaalpineclub.org
SUMMARY:Echo:  Hosted Event - Hunter
DESCRIPTION:Hunter Merritt \n1217 El Encanto Way \nSacramento\, CA 95831 \nmerritt.hunter@gmail.com \n916-873-6253
URL:https://www.californiaalpineclub.org/events/echo-hosted-event-hunter/
LOCATION:Echo Summit Lodge\, 9010 Johnson Pass Rd\, Twin Bridges\, CA\, 95721\, United States
CATEGORIES:Echo Summit Lodge Events
END:VEVENT
BEGIN:VEVENT
DTSTART;TZID=America/Los_Angeles:20170112T120000
DTEND;TZID=America/Los_Angeles:20170116T120000
DTSTAMP:20260424T212248
CREATED:20160806T005625Z
LAST-MODIFIED:20160806T005625Z
UID:10844-1484222400-1484568000@www.californiaalpineclub.org
SUMMARY:Echo:  Hosted Event - MLK - Anita and Nick
DESCRIPTION:Nick Gregoratos & Anita Cabrera \n430 Ellsworth St. \nSan Francisco\, CA 94110 \n415-206-9152 \nnick.gregoratos@gmail.com
URL:https://www.californiaalpineclub.org/events/echo-hosted-event-mlk-anita-nick/
LOCATION:Echo Summit Lodge\, 9010 Johnson Pass Rd\, Twin Bridges\, CA\, 95721\, United States
CATEGORIES:Echo Summit Lodge Events
END:VEVENT
BEGIN:VEVENT
DTSTART;TZID=America/Los_Angeles:20170109T120000
DTEND;TZID=America/Los_Angeles:20170112T120000
DTSTAMP:20260424T212248
CREATED:20161026T173752Z
LAST-MODIFIED:20161026T173752Z
UID:11204-1483963200-1484222400@www.californiaalpineclub.org
SUMMARY:Echo: Private Event - Jeff & Bridgette
DESCRIPTION:Jeff & Bridgette Grimshaw \nbgrimshaw@comcast.net
URL:https://www.californiaalpineclub.org/events/echo-private-event-jeff-bridgette/
LOCATION:Echo Summit Lodge\, 9010 Johnson Pass Rd\, Twin Bridges\, CA\, 95721\, United States
CATEGORIES:Echo Summit Lodge Events
END:VEVENT
BEGIN:VEVENT
DTSTART;TZID=America/Los_Angeles:20170104T120000
DTEND;TZID=America/Los_Angeles:20170109T120000
DTSTAMP:20260424T212248
CREATED:20160824T160945Z
LAST-MODIFIED:20161221T052009Z
UID:10966-1483531200-1483963200@www.californiaalpineclub.org
SUMMARY:Echo: Donata & Sandy - Family Snow Days
DESCRIPTION:FAMILY SNOW DAYS\nDonata Mikulik & Sandy Borden will host families and kids of all ages for weekdays and a weekend of fun!  Sledding\, snowballs\, skiing\, it’s up to you!  But we’l plan the food and rooms to make sure you can come bring the young ones for an adventurous mid-winter outing (or in-ning\, weather dependent).  Come prepared\, RSVP now\, and get your winter plans off to a good start! \nDeposit $15 per person per night required\, send check to: \nDonata Mikulik\n2037 W. Hearn Ave\, Santa Rosa\, CA 95407\nemail Donata at donatabo@hotmail.com and include our first and last meal\, including any dietary restrictions.  Any questions\, call Donata at 707-591-3129. \nHappy Snow Days!
URL:https://www.californiaalpineclub.org/events/echo-donata-pete-sandy-family-snow-days/
LOCATION:Echo Summit Lodge\, 9010 Johnson Pass Rd\, Twin Bridges\, CA\, 95721\, United States
CATEGORIES:Echo Summit Lodge Events
END:VEVENT
BEGIN:VEVENT
DTSTART;TZID=America/Los_Angeles:20161230T120000
DTEND;TZID=America/Los_Angeles:20170104T120000
DTSTAMP:20260424T212248
CREATED:20160806T004616Z
LAST-MODIFIED:20160806T004707Z
UID:10841-1483099200-1483531200@www.californiaalpineclub.org
SUMMARY:Echo:  Hosted Event - Bob & Shelly
DESCRIPTION:Happy New Year! \nShelly Navine & Bob Henry \n1286 Hurlbut Ave \nSebastopol\, CA 95472 \nclyde33301@comcast.net \n707-829-3728 \n 
URL:https://www.californiaalpineclub.org/events/echo-hosted-event-bob-shelly-2/
LOCATION:Echo Summit Lodge\, 9010 Johnson Pass Rd\, Twin Bridges\, CA\, 95721\, United States
CATEGORIES:Echo Summit Lodge Events
END:VEVENT
BEGIN:VEVENT
DTSTART;TZID=America/Los_Angeles:20161223T120000
DTEND;TZID=America/Los_Angeles:20161227T120000
DTSTAMP:20260424T212248
CREATED:20160806T004124Z
LAST-MODIFIED:20160806T004124Z
UID:10840-1482494400-1482840000@www.californiaalpineclub.org
SUMMARY:Echo: Hosted Event - Jay & Pete - Christmas
DESCRIPTION:Jay & Pete’s Outstanding Christmas at Echo! \nSki and snowshoe adventures\, kids\, and game nights \nJay Gustafson & Pete Castelli \n4024 Ash St \nMill Valley\, CA 94941 \njaygustafson@yahoo.com \n415-381-7261
URL:https://www.californiaalpineclub.org/events/echo-hosted-event-jay-pete-christmas/
LOCATION:Echo Summit Lodge\, 9010 Johnson Pass Rd\, Twin Bridges\, CA\, 95721\, United States
CATEGORIES:Echo Summit Lodge Events
END:VEVENT
BEGIN:VEVENT
DTSTART;TZID=America/Los_Angeles:20161218T120000
DTEND;TZID=America/Los_Angeles:20161222T120000
DTSTAMP:20260424T212248
CREATED:20161026T175122Z
LAST-MODIFIED:20161026T175122Z
UID:11207-1482062400-1482408000@www.californiaalpineclub.org
SUMMARY:Echo: Hosted Event - Tim
DESCRIPTION:Tim Seeley \n4819 Foxglove Ct. \nSanta Rosa\, CA 94941 \nseeley@sonic.net \n707-486-8288
URL:https://www.californiaalpineclub.org/events/echo-hosted-event-tim-2/
LOCATION:Echo Summit Lodge\, 9010 Johnson Pass Rd\, Twin Bridges\, CA\, 95721\, United States
CATEGORIES:Echo Summit Lodge Events
END:VEVENT
BEGIN:VEVENT
DTSTART;TZID=America/Los_Angeles:20161216T120000
DTEND;TZID=America/Los_Angeles:20161218T120000
DTSTAMP:20260424T212248
CREATED:20160806T003621Z
LAST-MODIFIED:20160806T003621Z
UID:10839-1481889600-1482062400@www.californiaalpineclub.org
SUMMARY:Echo: Private Event - Craig
DESCRIPTION:Craig Anderson \n928-607-3608
URL:https://www.californiaalpineclub.org/events/echo-private-event-craig/
LOCATION:Echo Summit Lodge\, 9010 Johnson Pass Rd\, Twin Bridges\, CA\, 95721\, United States
CATEGORIES:Echo Summit Lodge Events
END:VEVENT
BEGIN:VEVENT
DTSTART;TZID=America/Los_Angeles:20161123T120000
DTEND;TZID=America/Los_Angeles:20161127T120000
DTSTAMP:20260424T212248
CREATED:20160921T164039Z
LAST-MODIFIED:20160921T164039Z
UID:11107-1479902400-1480248000@www.californiaalpineclub.org
SUMMARY:Echo: Thanksgiving  Coop Meals - Laura\, Ken & Karen
DESCRIPTION:Laura\, Ken\,  & Karen Patera \n1312 Coloma Way \nWoodland\, CA 95695 \nlaura.patera@yahoo.com \n530-681-3119 \n 
URL:https://www.californiaalpineclub.org/events/echo-thanksgiving-coop-meals-laura-ken-karen/
LOCATION:Echo Summit Lodge\, 9010 Johnson Pass Rd\, Twin Bridges\, CA\, 95721\, United States
CATEGORIES:Echo Summit Lodge Events
END:VEVENT
BEGIN:VEVENT
DTSTART;TZID=America/Los_Angeles:20161118T120000
DTEND;TZID=America/Los_Angeles:20161120T120000
DTSTAMP:20260424T212248
CREATED:20160806T003014Z
LAST-MODIFIED:20160806T003014Z
UID:10837-1479470400-1479643200@www.californiaalpineclub.org
SUMMARY:Echo: Private Event - Carolyn
DESCRIPTION:Carolyn Williams \n916-677-9224
URL:https://www.californiaalpineclub.org/events/echo-private-event-carolyn-2/
LOCATION:Echo Summit Lodge\, 9010 Johnson Pass Rd\, Twin Bridges\, CA\, 95721\, United States
CATEGORIES:Echo Summit Lodge Events
END:VEVENT
BEGIN:VEVENT
DTSTART;TZID=America/Los_Angeles:20161110T120000
DTEND;TZID=America/Los_Angeles:20161113T120000
DTSTAMP:20260424T212248
CREATED:20160806T002634Z
LAST-MODIFIED:20160806T002634Z
UID:10836-1478779200-1479038400@www.californiaalpineclub.org
SUMMARY:Echo: Hosted Event - Lynn
DESCRIPTION:Lynn Garric \n5400 Alpine Rd. \nSanta Rosa\, CA 95404 \ncransac@sonic.net \n707-756-2639
URL:https://www.californiaalpineclub.org/events/echo-hosted-event-lynn-2/
LOCATION:Echo Summit Lodge\, 9010 Johnson Pass Rd\, Twin Bridges\, CA\, 95721\, United States
CATEGORIES:Echo Summit Lodge Events
END:VEVENT
BEGIN:VEVENT
DTSTART;TZID=America/Los_Angeles:20161104T080000
DTEND;TZID=America/Los_Angeles:20161106T170000
DTSTAMP:20260424T212248
CREATED:20160419T205717Z
LAST-MODIFIED:20160419T205717Z
UID:10553-1478246400-1478451600@www.californiaalpineclub.org
SUMMARY:Echo-Host Appreciation & Training
DESCRIPTION:Contact Cindy Toran @ cktoran@gmail.com \n707-321-3262
URL:https://www.californiaalpineclub.org/events/echo-host-appreciation-training-3/
LOCATION:CA
CATEGORIES:Echo Summit Lodge Events
END:VEVENT
BEGIN:VEVENT
DTSTART;TZID=America/Los_Angeles:20161028T120000
DTEND;TZID=America/Los_Angeles:20161030T120000
DTSTAMP:20260424T212248
CREATED:20160806T002235Z
LAST-MODIFIED:20160806T002235Z
UID:10835-1477656000-1477828800@www.californiaalpineclub.org
SUMMARY:Echo: Private Event - Piper & Curt
DESCRIPTION:Piper & Curt Lomax 408-205-1708
URL:https://www.californiaalpineclub.org/events/echo-private-event-piper-curt/
LOCATION:Echo Summit Lodge\, 9010 Johnson Pass Rd\, Twin Bridges\, CA\, 95721\, United States
CATEGORIES:Echo Summit Lodge Events
END:VEVENT
BEGIN:VEVENT
DTSTART;TZID=America/Los_Angeles:20161020T120000
DTEND;TZID=America/Los_Angeles:20161023T120000
DTSTAMP:20260424T212248
CREATED:20160526T171223Z
LAST-MODIFIED:20160526T171223Z
UID:10651-1476964800-1477224000@www.californiaalpineclub.org
SUMMARY:Echo: Private Event - Lynn
DESCRIPTION:Lynn Garric \ncransac@sonic.net \n707-756-2639
URL:https://www.californiaalpineclub.org/events/echo-private-event-lynn/
LOCATION:Echo Summit Lodge\, 9010 Johnson Pass Rd\, Twin Bridges\, CA\, 95721\, United States
CATEGORIES:Echo Summit Lodge Events
END:VEVENT
BEGIN:VEVENT
DTSTART;TZID=America/Los_Angeles:20161009T120000
DTEND;TZID=America/Los_Angeles:20161016T120000
DTSTAMP:20260424T212248
CREATED:20160526T170928Z
LAST-MODIFIED:20160526T170928Z
UID:10650-1476014400-1476619200@www.californiaalpineclub.org
SUMMARY:Echo: Fall Color Hikes - Lin & Barbara
DESCRIPTION:Lin Mangiante & Barbara Crockett \n424 Hazel Ave. \nMillbrae\, CA 94030 \nfoxtails@pacbell.net \n650-697-7403
URL:https://www.californiaalpineclub.org/events/echo-fall-color-hikes-lin-barbara/
LOCATION:Echo Summit Lodge\, 9010 Johnson Pass Rd\, Twin Bridges\, CA\, 95721\, United States
CATEGORIES:Echo Summit Lodge Events
END:VEVENT
BEGIN:VEVENT
DTSTART;TZID=America/Los_Angeles:20161006T120000
DTEND;TZID=America/Los_Angeles:20161009T120000
DTSTAMP:20260424T212248
CREATED:20160526T170520Z
LAST-MODIFIED:20160526T170520Z
UID:10649-1475755200-1476014400@www.californiaalpineclub.org
SUMMARY:Echo: Fall Retreat - Mary & Stefan
DESCRIPTION:Mary and Stefan Berlinski \nPO Box 776 \nMoss Landing\, CA 95039 \nmlarkin804@sbcglobal.net
URL:https://www.californiaalpineclub.org/events/echo-fall-retreat-mary-stefan/
LOCATION:Echo Summit Lodge\, 9010 Johnson Pass Rd\, Twin Bridges\, CA\, 95721\, United States
CATEGORIES:Echo Summit Lodge Events
END:VEVENT
BEGIN:VEVENT
DTSTART;TZID=America/Los_Angeles:20160930T120000
DTEND;TZID=America/Los_Angeles:20161002T120000
DTSTAMP:20260424T212248
CREATED:20160526T170119Z
LAST-MODIFIED:20160526T170119Z
UID:10648-1475236800-1475409600@www.californiaalpineclub.org
SUMMARY:Echo: Private Event - Jayma & Allan
DESCRIPTION:Jayma Brown \nAllan Lindberg \njaymabrown@earthlink.net \n510-237-0231
URL:https://www.californiaalpineclub.org/events/echo-private-event-jayma-allan/
LOCATION:Echo Summit Lodge\, 9010 Johnson Pass Rd\, Twin Bridges\, CA\, 95721\, United States
CATEGORIES:Echo Summit Lodge Events
END:VEVENT
BEGIN:VEVENT
DTSTART;TZID=America/Los_Angeles:20160923T120000
DTEND;TZID=America/Los_Angeles:20160925T120000
DTSTAMP:20260424T212248
CREATED:20160526T165806Z
LAST-MODIFIED:20160526T165806Z
UID:10647-1474632000-1474804800@www.californiaalpineclub.org
SUMMARY:Echo: Trail Clearing Weekend - Tom
DESCRIPTION:Tom Coleman \ntravmcgee@comcast.net \n415-531-4650
URL:https://www.californiaalpineclub.org/events/echo-trail-clearing-weekend-tom/
LOCATION:Echo Summit Lodge\, 9010 Johnson Pass Rd\, Twin Bridges\, CA\, 95721\, United States
CATEGORIES:Echo Summit Lodge Events
END:VEVENT
BEGIN:VEVENT
DTSTART;TZID=America/Los_Angeles:20160915T000000
DTEND;TZID=America/Los_Angeles:20160918T120000
DTSTAMP:20260424T212248
CREATED:20160526T165508Z
LAST-MODIFIED:20160526T165508Z
UID:10646-1473897600-1474200000@www.californiaalpineclub.org
SUMMARY:Echo:  Fall Work Party
DESCRIPTION:Bob Henry \nclyde3301@comcast \n707-829-3728
URL:https://www.californiaalpineclub.org/events/echo-fall-work-party/
LOCATION:Echo Summit Lodge\, 9010 Johnson Pass Rd\, Twin Bridges\, CA\, 95721\, United States
CATEGORIES:Echo Summit Lodge Events
END:VEVENT
BEGIN:VEVENT
DTSTART;TZID=America/Los_Angeles:20160909T120000
DTEND;TZID=America/Los_Angeles:20160913T120000
DTSTAMP:20260424T212248
CREATED:20160526T165216Z
LAST-MODIFIED:20160526T165216Z
UID:10645-1473422400-1473768000@www.californiaalpineclub.org
SUMMARY:Echo: Private Event - Gary
DESCRIPTION:Gary Milburn \ng.milburn@sbcglobal.com \n831-440-6592
URL:https://www.californiaalpineclub.org/events/echo-private-event-6/
LOCATION:Echo Summit Lodge\, 9010 Johnson Pass Rd\, Twin Bridges\, CA\, 95721\, United States
CATEGORIES:Echo Summit Lodge Events
END:VEVENT
BEGIN:VEVENT
DTSTART;TZID=America/Los_Angeles:20160906T120000
DTEND;TZID=America/Los_Angeles:20160908T120000
DTSTAMP:20260424T212248
CREATED:20160806T001648Z
LAST-MODIFIED:20160806T001728Z
UID:10833-1473163200-1473336000@www.californiaalpineclub.org
SUMMARY:Echo: Pre-work Party - Mary
DESCRIPTION:Mary Larkin-Berlinski \nmlarkin804@sbcglobal.net \n831-325-6215
URL:https://www.californiaalpineclub.org/events/echo-pre-work-party-mary/
LOCATION:Echo Summit Lodge\, 9010 Johnson Pass Rd\, Twin Bridges\, CA\, 95721\, United States
CATEGORIES:Echo Summit Lodge Events
END:VEVENT
BEGIN:VEVENT
DTSTART;TZID=America/Los_Angeles:20160819T120000
DTEND;TZID=America/Los_Angeles:20160825T120000
DTSTAMP:20260424T212248
CREATED:20160206T205234Z
LAST-MODIFIED:20160206T205234Z
UID:10376-1471608000-1472126400@www.californiaalpineclub.org
SUMMARY:Echo: Hosted Event - Edie & Diane
DESCRIPTION:Edie Nelson & Diane Friend \n74 Surrey Lane \nSan Rafael\, CA 94903 \nedieforsyth@hotmail.com \n831-331-1754
URL:https://www.californiaalpineclub.org/events/echo-hosted-event-edie-diane/
LOCATION:Echo Summit Lodge\, 9010 Johnson Pass Rd\, Twin Bridges\, CA\, 95721\, United States
CATEGORIES:Echo Summit Lodge Events
END:VEVENT
END:VCALENDAR