BEGIN:VCALENDAR
VERSION:2.0
PRODID:-//California Alpine Club - ECPv6.15.20//NONSGML v1.0//EN
CALSCALE:GREGORIAN
METHOD:PUBLISH
X-WR-CALNAME:California Alpine Club
X-ORIGINAL-URL:https://www.californiaalpineclub.org
X-WR-CALDESC:Events for California Alpine Club
REFRESH-INTERVAL;VALUE=DURATION:PT1H
X-Robots-Tag:noindex
X-PUBLISHED-TTL:PT1H
BEGIN:VTIMEZONE
TZID:America/Los_Angeles
BEGIN:DAYLIGHT
TZOFFSETFROM:-0800
TZOFFSETTO:-0700
TZNAME:PDT
DTSTART:20160313T100000
END:DAYLIGHT
BEGIN:STANDARD
TZOFFSETFROM:-0700
TZOFFSETTO:-0800
TZNAME:PST
DTSTART:20161106T090000
END:STANDARD
BEGIN:DAYLIGHT
TZOFFSETFROM:-0800
TZOFFSETTO:-0700
TZNAME:PDT
DTSTART:20170312T100000
END:DAYLIGHT
BEGIN:STANDARD
TZOFFSETFROM:-0700
TZOFFSETTO:-0800
TZNAME:PST
DTSTART:20171105T090000
END:STANDARD
BEGIN:DAYLIGHT
TZOFFSETFROM:-0800
TZOFFSETTO:-0700
TZNAME:PDT
DTSTART:20180311T100000
END:DAYLIGHT
BEGIN:STANDARD
TZOFFSETFROM:-0700
TZOFFSETTO:-0800
TZNAME:PST
DTSTART:20181104T090000
END:STANDARD
BEGIN:DAYLIGHT
TZOFFSETFROM:-0800
TZOFFSETTO:-0700
TZNAME:PDT
DTSTART:20190310T100000
END:DAYLIGHT
BEGIN:STANDARD
TZOFFSETFROM:-0700
TZOFFSETTO:-0800
TZNAME:PST
DTSTART:20191103T090000
END:STANDARD
END:VTIMEZONE
BEGIN:VEVENT
DTSTART;TZID=America/Los_Angeles:20180119T120000
DTEND;TZID=America/Los_Angeles:20180121T120000
DTSTAMP:20260424T132511
CREATED:20171101T155350Z
LAST-MODIFIED:20171101T155350Z
UID:13973-1516363200-1516536000@www.californiaalpineclub.org
SUMMARY:Echo: Family Ski Weekend - Hunter
DESCRIPTION:Hunter Merritt \n1217 El Encanto Way \nSacramento\, CA 95831 \nmerritt.hunter@gmail.com \n916-873=6253
URL:https://www.californiaalpineclub.org/events/echo-family-ski-weekend-hunter/
LOCATION:Echo Summit Lodge\, 9010 Johnson Pass Rd\, Twin Bridges\, CA\, 95721\, United States
CATEGORIES:Echo Summit Lodge Events
END:VEVENT
BEGIN:VEVENT
DTSTART;TZID=America/Los_Angeles:20180112T120000
DTEND;TZID=America/Los_Angeles:20180115T120000
DTSTAMP:20260424T132511
CREATED:20170930T224426Z
LAST-MODIFIED:20170930T224426Z
UID:13705-1515758400-1516017600@www.californiaalpineclub.org
SUMMARY:Echo: MLK Weekend - Tawny & Steven
DESCRIPTION:Tawny & Steven High \n1429 Badovinac Drive \nRoseville\, CA 95747 \ntawnyhigh@gmail.com \n916-759-2913
URL:https://www.californiaalpineclub.org/events/echo-mlk-weekend-tawny-steven/
LOCATION:Echo Summit Lodge\, 9010 Johnson Pass Rd\, Twin Bridges\, CA\, 95721\, United States
CATEGORIES:Echo Summit Lodge Events
END:VEVENT
BEGIN:VEVENT
DTSTART;TZID=America/Los_Angeles:20180104T120000
DTEND;TZID=America/Los_Angeles:20180107T120000
DTSTAMP:20260424T132511
CREATED:20170825T155327Z
LAST-MODIFIED:20170825T155327Z
UID:13353-1515067200-1515326400@www.californiaalpineclub.org
SUMMARY:Echo: Hosted Event - Craig
DESCRIPTION:Craig Anderson \n9635 Appalachian Dr\, \nSacramento\, CA 95827 \n928-607-3608 \ncranders1@gmail.com \n 
URL:https://www.californiaalpineclub.org/events/echo-hosted-event-craig/
LOCATION:Echo Summit Lodge\, 9010 Johnson Pass Rd\, Twin Bridges\, CA\, 95721\, United States
CATEGORIES:Echo Summit Lodge Events
END:VEVENT
BEGIN:VEVENT
DTSTART;TZID=America/Los_Angeles:20180101T000000
DTEND;TZID=America/Los_Angeles:20180104T120000
DTSTAMP:20260424T132511
CREATED:20170825T154545Z
LAST-MODIFIED:20170825T154545Z
UID:13352-1514764800-1515067200@www.californiaalpineclub.org
SUMMARY:Echo: Hosted Event - Sylvie
DESCRIPTION:Sylvie Shawn \n4626 Geranium Place \nOakland\, CA 94619 \nslangbehn@gmail.com \n707-756-2638
URL:https://www.californiaalpineclub.org/events/echo-hosted-event-sylvie-2/
LOCATION:Echo Summit Lodge\, 9010 Johnson Pass Rd\, Twin Bridges\, CA\, 95721\, United States
CATEGORIES:Echo Summit Lodge Events
END:VEVENT
BEGIN:VEVENT
DTSTART;TZID=America/Los_Angeles:20171228T120000
DTEND;TZID=America/Los_Angeles:20180101T120000
DTSTAMP:20260424T132511
CREATED:20170930T224003Z
LAST-MODIFIED:20170930T224004Z
UID:13703-1514462400-1514808000@www.californiaalpineclub.org
SUMMARY:Echo: Happy New Year! Margaret & Rick
DESCRIPTION:Margaret & Rick Jacobson \n1354 Ridley Ave. \nSanta Rosa 95401 \nmgjacobson66@gmail.com \n707-548-5740
URL:https://www.californiaalpineclub.org/events/echo-happy-new-year-margaret-rick/
LOCATION:Echo Summit Lodge\, 9010 Johnson Pass Rd\, Twin Bridges\, CA\, 95721\, United States
CATEGORIES:Echo Summit Lodge Events
END:VEVENT
BEGIN:VEVENT
DTSTART;TZID=America/Los_Angeles:20171221T120000
DTEND;TZID=America/Los_Angeles:20171226T120000
DTSTAMP:20260424T132511
CREATED:20171101T154815Z
LAST-MODIFIED:20171101T154815Z
UID:13971-1513857600-1514289600@www.californiaalpineclub.org
SUMMARY:Echo: Coop Holiday Cheer - Vicki
DESCRIPTION:Wine and Funny Hats \nVicki Olds \n534 6th Ave. \nSan Francisco\, CA 94118 \nvolds@studioflex.com \n415-221-2830
URL:https://www.californiaalpineclub.org/events/echo-coop-holiday-cheer-vicki/
LOCATION:Echo Summit Lodge\, 9010 Johnson Pass Rd\, Twin Bridges\, CA\, 95721\, United States
CATEGORIES:Echo Summit Lodge Events
END:VEVENT
BEGIN:VEVENT
DTSTART;TZID=America/Los_Angeles:20171215T120000
DTEND;TZID=America/Los_Angeles:20171217T120000
DTSTAMP:20260424T132511
CREATED:20170707T173704Z
LAST-MODIFIED:20170707T173704Z
UID:12945-1513339200-1513512000@www.californiaalpineclub.org
SUMMARY:Echo: Private Event - Craig
DESCRIPTION:Craig anderson \nCranders1@gmail.com \n928-607-3608
URL:https://www.californiaalpineclub.org/events/echo-private-event-craig-3/
LOCATION:Echo Summit Lodge\, 9010 Johnson Pass Rd\, Twin Bridges\, CA\, 95721\, United States
CATEGORIES:Echo Summit Lodge Events
END:VEVENT
BEGIN:VEVENT
DTSTART;TZID=America/Los_Angeles:20171122T120000
DTEND;TZID=America/Los_Angeles:20171126T120000
DTSTAMP:20260424T132511
CREATED:20170930T223633Z
LAST-MODIFIED:20171101T163454Z
UID:13701-1511352000-1511697600@www.californiaalpineclub.org
SUMMARY:Echo: Thanksgiving Potluck - Alana
DESCRIPTION:Alana Koch \nPO Box 1838 \nSausalito\, CA 94966 \nalanmkoch@gmail.com \n415-377-6849
URL:https://www.californiaalpineclub.org/events/echo-thanksgiving-potluck-alan/
LOCATION:Echo Summit Lodge\, 9010 Johnson Pass Rd\, Twin Bridges\, CA\, 95721\, United States
CATEGORIES:Echo Summit Lodge Events
END:VEVENT
BEGIN:VEVENT
DTSTART;TZID=America/Los_Angeles:20171109T120000
DTEND;TZID=America/Los_Angeles:20171113T120000
DTSTAMP:20260424T132511
CREATED:20170531T155522Z
LAST-MODIFIED:20171013T034923Z
UID:12691-1510228800-1510574400@www.californiaalpineclub.org
SUMMARY:Echo:  Hosted Event - Cindy
DESCRIPTION:Cindy Toran \n932 Ripley St \nSanta Rosa\, CA 95401 \ncktoran@gmail.com \n707-321-3262
URL:https://www.californiaalpineclub.org/events/echo-hosted-event-lynn-3/
LOCATION:Echo Summit Lodge\, 9010 Johnson Pass Rd\, Twin Bridges\, CA\, 95721\, United States
CATEGORIES:Echo Summit Lodge Events
END:VEVENT
BEGIN:VEVENT
DTSTART;TZID=America/Los_Angeles:20171103T120000
DTEND;TZID=America/Los_Angeles:20171105T120000
DTSTAMP:20260424T132511
CREATED:20170531T155250Z
LAST-MODIFIED:20170531T155250Z
UID:12690-1509710400-1509883200@www.californiaalpineclub.org
SUMMARY:Echo:  Host Appreciation & Training
DESCRIPTION:Cindy Toran \ncktoran@gmail.com \n707-321-3262
URL:https://www.californiaalpineclub.org/events/echo-host-appreciation-training-5/
LOCATION:Echo Summit Lodge\, 9010 Johnson Pass Rd\, Twin Bridges\, CA\, 95721\, United States
CATEGORIES:Echo Summit Lodge Events
END:VEVENT
BEGIN:VEVENT
DTSTART;TZID=America/Los_Angeles:20171027T120000
DTEND;TZID=America/Los_Angeles:20171029T120000
DTSTAMP:20260424T132511
CREATED:20170707T173345Z
LAST-MODIFIED:20170707T173345Z
UID:12944-1509105600-1509278400@www.californiaalpineclub.org
SUMMARY:Echo:  Private Event - Nick
DESCRIPTION:Nick Gregoratos \nnick.gregoratos@gmail.com \n510-919-6883
URL:https://www.californiaalpineclub.org/events/echo-private-event-nick/
LOCATION:Echo Summit Lodge\, 9010 Johnson Pass Rd\, Twin Bridges\, CA\, 95721\, United States
CATEGORIES:Echo Summit Lodge Events
END:VEVENT
BEGIN:VEVENT
DTSTART;TZID=America/Los_Angeles:20171020T120000
DTEND;TZID=America/Los_Angeles:20171022T120000
DTSTAMP:20260424T132511
CREATED:20170707T173043Z
LAST-MODIFIED:20170707T173043Z
UID:12943-1508500800-1508673600@www.californiaalpineclub.org
SUMMARY:Echo:  Private Event - Wendi & Diane
DESCRIPTION:Wendi Olmstead & Diane Mickelson \nwendiolmstead@comcast.net
URL:https://www.californiaalpineclub.org/events/echo-private-event-wendi-diane/
LOCATION:Echo Summit Lodge\, 9010 Johnson Pass Rd\, Twin Bridges\, CA\, 95721\, United States
CATEGORIES:Echo Summit Lodge Events
END:VEVENT
BEGIN:VEVENT
DTSTART;TZID=America/Los_Angeles:20171008T000000
DTEND;TZID=America/Los_Angeles:20171015T120000
DTSTAMP:20260424T132511
CREATED:20170427T162743Z
LAST-MODIFIED:20170427T162743Z
UID:12387-1507420800-1508068800@www.californiaalpineclub.org
SUMMARY:Echo:  Fall Color Hikes - Lin & Barbara
DESCRIPTION:Lin Mangiante & Barbara Crockett \n424 Hazel Ave \nMillbrae. CA 94030 \nfoxtails@pacbell.net \n650-697-7403
URL:https://www.californiaalpineclub.org/events/echo-fall-color-hikes-lin-barbara-2/
LOCATION:Echo Summit Lodge\, 9010 Johnson Pass Rd\, Twin Bridges\, CA\, 95721\, United States
CATEGORIES:Echo Summit Lodge Events
END:VEVENT
BEGIN:VEVENT
DTSTART;TZID=America/Los_Angeles:20171005T120000
DTEND;TZID=America/Los_Angeles:20171007T120000
DTSTAMP:20260424T132511
CREATED:20170427T162400Z
LAST-MODIFIED:20170427T162400Z
UID:12386-1507204800-1507377600@www.californiaalpineclub.org
SUMMARY:Echo:  Private Event - Lynn
DESCRIPTION:Lynn Garric \ncransac@sonic.net \n707-756-2639
URL:https://www.californiaalpineclub.org/events/echo-private-event-lynn-2/
LOCATION:Echo Summit Lodge\, 9010 Johnson Pass Rd\, Twin Bridges\, CA\, 95721\, United States
CATEGORIES:Echo Summit Lodge Events
END:VEVENT
BEGIN:VEVENT
DTSTART;TZID=America/Los_Angeles:20171001T120000
DTEND;TZID=America/Los_Angeles:20171005T120000
DTSTAMP:20260424T132511
CREATED:20170825T153905Z
LAST-MODIFIED:20170825T153905Z
UID:13351-1506859200-1507204800@www.californiaalpineclub.org
SUMMARY:Echo: Private Event - Edie
DESCRIPTION:Edie Nelson \nedieforsyth@hotmail.com \n831-331-1754
URL:https://www.californiaalpineclub.org/events/echo-private-event-edie/
LOCATION:Echo Summit Lodge\, 9010 Johnson Pass Rd\, Twin Bridges\, CA\, 95721\, United States
CATEGORIES:Echo Summit Lodge Events
END:VEVENT
BEGIN:VEVENT
DTSTART;TZID=America/Los_Angeles:20170922T120000
DTEND;TZID=America/Los_Angeles:20170926T120000
DTSTAMP:20260424T132511
CREATED:20170427T162102Z
LAST-MODIFIED:20170427T162102Z
UID:12385-1506081600-1506427200@www.californiaalpineclub.org
SUMMARY:Echo: Private Event - Emily & John
DESCRIPTION:Emily and John Lockett \nauntem@sonic.net \n707-576-0948
URL:https://www.californiaalpineclub.org/events/echo-private-event-emily-john/
LOCATION:Echo Summit Lodge\, 9010 Johnson Pass Rd\, Twin Bridges\, CA\, 95721\, United States
CATEGORIES:Echo Summit Lodge Events
END:VEVENT
BEGIN:VEVENT
DTSTART;TZID=America/Los_Angeles:20170917T120000
DTEND;TZID=America/Los_Angeles:20170920T120000
DTSTAMP:20260424T132511
CREATED:20170707T172612Z
LAST-MODIFIED:20170707T172612Z
UID:12942-1505649600-1505908800@www.californiaalpineclub.org
SUMMARY:Echo:  Edible Pedal - Sandy & Mary
DESCRIPTION:Come cycle with us on this 10-93 mile supported ride in the beautiful Washoe Valley. You will be responsible for your ride sign-up fees.  Please note the ride is on Sunday\, the same day our events starts.  http://www.ediblepedal100.org \nSandy Borden & Mary Cahill \n770 Clipper Heights Pl. \nAuburn\, CA 95603 \nsandynevada@yahoo.com \n530-318-9693 \n 
URL:https://www.californiaalpineclub.org/events/echo-edible-pedal-sandy-mary/
LOCATION:Echo Summit Lodge\, 9010 Johnson Pass Rd\, Twin Bridges\, CA\, 95721\, United States
CATEGORIES:Echo Summit Lodge Events
END:VEVENT
BEGIN:VEVENT
DTSTART;TZID=America/Los_Angeles:20170914T120000
DTEND;TZID=America/Los_Angeles:20170917T120000
DTSTAMP:20260424T132511
CREATED:20170427T161810Z
LAST-MODIFIED:20170427T161810Z
UID:12384-1505390400-1505649600@www.californiaalpineclub.org
SUMMARY:Echo:  Fall Fun & Work Party
DESCRIPTION:Bob Henry \nclyde33301@comcast.net \n707-829-3728
URL:https://www.californiaalpineclub.org/events/echo-fall-fun-work-party-2/
LOCATION:Echo Summit Lodge\, 9010 Johnson Pass Rd\, Twin Bridges\, CA\, 95721\, United States
CATEGORIES:Echo Summit Lodge Events
END:VEVENT
BEGIN:VEVENT
DTSTART;TZID=America/Los_Angeles:20170908T080000
DTEND;TZID=America/Los_Angeles:20170910T170000
DTSTAMP:20260424T132511
CREATED:20170427T161439Z
LAST-MODIFIED:20170707T171923Z
UID:12383-1504857600-1505062800@www.californiaalpineclub.org
SUMMARY:Echo:  Trail Clearing - Jerry
DESCRIPTION:Jerry Schweickert \ngischweickert@gmail.com \n925-373-6813
URL:https://www.californiaalpineclub.org/events/echo-trail-clearing-tom-2/
LOCATION:Echo Summit Lodge\, 9010 Johnson Pass Rd\, Twin Bridges\, CA\, 95721\, United States
CATEGORIES:Echo Summit Lodge Events
END:VEVENT
BEGIN:VEVENT
DTSTART;TZID=America/Los_Angeles:20170901T120000
DTEND;TZID=America/Los_Angeles:20170905T120000
DTSTAMP:20260424T132511
CREATED:20170531T154825Z
LAST-MODIFIED:20170531T154825Z
UID:12689-1504267200-1504612800@www.californiaalpineclub.org
SUMMARY:Echo:  Labor Day Weekend - Shirley
DESCRIPTION:Shirley Stiles \n2478 Copperfield Ct. \nSanta Rosa\, CA 95401 \ns.stiles@att.net \n707-393-1425
URL:https://www.californiaalpineclub.org/events/echo-labor-day-weekend-shirley/
LOCATION:Echo Summit Lodge\, 9010 Johnson Pass Rd\, Twin Bridges\, CA\, 95721\, United States
CATEGORIES:Echo Summit Lodge Events
END:VEVENT
BEGIN:VEVENT
DTSTART;TZID=America/Los_Angeles:20170827T120000
DTEND;TZID=America/Los_Angeles:20170901T120000
DTSTAMP:20260424T132511
CREATED:20170707T171533Z
LAST-MODIFIED:20170707T171533Z
UID:12940-1503835200-1504267200@www.californiaalpineclub.org
SUMMARY:Echo: Hosted - Edie and Eva
DESCRIPTION:Edie Nelson & Eva Libien \n177 Mark Twain Ave. \nSan Rafael\, CA 94903 \n831-331-1754 \nedieforsyth@hotmail.com \n 
URL:https://www.californiaalpineclub.org/events/echo-hosted-edie-eva/
LOCATION:Echo Summit Lodge\, 9010 Johnson Pass Rd\, Twin Bridges\, CA\, 95721\, United States
CATEGORIES:Echo Summit Lodge Events
END:VEVENT
BEGIN:VEVENT
DTSTART;TZID=America/Los_Angeles:20170825T120000
DTEND;TZID=America/Los_Angeles:20170827T120000
DTSTAMP:20260424T132511
CREATED:20170427T161119Z
LAST-MODIFIED:20170427T161119Z
UID:12382-1503662400-1503835200@www.californiaalpineclub.org
SUMMARY:Echo: Coop Meals - Kristina and Kristin
DESCRIPTION:Kristina Gale and Kristin Jenson \n158 Morning Sun Ave. \nMill Valley\, CA 94941 \n415-717-3894 \nkrissegale@yahoo.com
URL:https://www.californiaalpineclub.org/events/echo-coop-meals-kristina-kristin/
LOCATION:Echo Summit Lodge\, 9010 Johnson Pass Rd\, Twin Bridges\, CA\, 95721\, United States
CATEGORIES:Echo Summit Lodge Events
END:VEVENT
BEGIN:VEVENT
DTSTART;TZID=America/Los_Angeles:20170816T120000
DTEND;TZID=America/Los_Angeles:20170820T120000
DTSTAMP:20260424T132511
CREATED:20170531T154342Z
LAST-MODIFIED:20170531T154342Z
UID:12688-1502884800-1503230400@www.californiaalpineclub.org
SUMMARY:Echo:  Coop Meals - Bob & Shelly
DESCRIPTION:Shelly Navine & Bob Henry \n1286 Hurlbut Ave. \nSebastopol\, CA 95472 \nclyde3301@comcast \n707-829-3728
URL:https://www.californiaalpineclub.org/events/echo-coop-meals-bob-shelly/
LOCATION:Echo Summit Lodge\, 9010 Johnson Pass Rd\, Twin Bridges\, CA\, 95721\, United States
CATEGORIES:Echo Summit Lodge Events
END:VEVENT
BEGIN:VEVENT
DTSTART;TZID=America/Los_Angeles:20170813T120000
DTEND;TZID=America/Los_Angeles:20170815T120000
DTSTAMP:20260424T132511
CREATED:20170707T170923Z
LAST-MODIFIED:20170707T171106Z
UID:12939-1502625600-1502798400@www.californiaalpineclub.org
SUMMARY:Echo:  Coop Meals = Craig
DESCRIPTION:Craig Anderson \n9635 Appalachian Dr.\, \nSacramento\, CA 95827 \n928-607-3608 \nCranders1@gmail.com
URL:https://www.californiaalpineclub.org/events/echo-coop-meals-craig-2/
LOCATION:Echo Summit Lodge\, 9010 Johnson Pass Rd\, Twin Bridges\, CA\, 95721\, United States
CATEGORIES:Echo Summit Lodge Events
END:VEVENT
BEGIN:VEVENT
DTSTART;TZID=America/Los_Angeles:20170811T120000
DTEND;TZID=America/Los_Angeles:20170813T120000
DTSTAMP:20260424T132511
CREATED:20170427T160633Z
LAST-MODIFIED:20170427T160633Z
UID:12381-1502452800-1502625600@www.californiaalpineclub.org
SUMMARY:Echo:  Girl Scout Event - Edie
DESCRIPTION:Edie Nelson \n177 Mark Twain Ave. \nSan Rafael\, CA 94903 \nedieforsyth@hotmail.com \n831=331-1754 \n 
URL:https://www.californiaalpineclub.org/events/echo-girl-scout-event-edie/
LOCATION:Echo Summit Lodge\, 9010 Johnson Pass Rd\, Twin Bridges\, CA\, 95721\, United States
CATEGORIES:Echo Summit Lodge Events
END:VEVENT
BEGIN:VEVENT
DTSTART;TZID=America/Los_Angeles:20170808T120000
DTEND;TZID=America/Los_Angeles:20170811T120000
DTSTAMP:20260424T132511
CREATED:20170707T170415Z
LAST-MODIFIED:20170707T170415Z
UID:12938-1502193600-1502452800@www.californiaalpineclub.org
SUMMARY:Echo: Mini Work Party - Winter Wood
DESCRIPTION:Mini work party to cut and split logs for winter.  This is generally done at the spring work party but was postponed due to snow.  Need 6-8 helpers. \n  \nContact:  Bob Henry \nclyde3301@comcast.net \n707-829-3728
URL:https://www.californiaalpineclub.org/events/echo-mini-work-party-winter-wood/
LOCATION:Echo Summit Lodge\, 9010 Johnson Pass Rd\, Twin Bridges\, CA\, 95721\, United States
CATEGORIES:Echo Summit Lodge Events
END:VEVENT
BEGIN:VEVENT
DTSTART;TZID=America/Los_Angeles:20170803T120000
DTEND;TZID=America/Los_Angeles:20170807T120000
DTSTAMP:20260424T132511
CREATED:20170427T160239Z
LAST-MODIFIED:20170427T160239Z
UID:12380-1501761600-1502107200@www.californiaalpineclub.org
SUMMARY:Echo: Coop Meals - Rani
DESCRIPTION:Rani Devadasan \n1225 Denlyn St. \nNovato\, CA 94947 \nputri0525@aol.com \n415-497-5568
URL:https://www.californiaalpineclub.org/events/echo-coop-meals-rani/
LOCATION:Echo Summit Lodge\, 9010 Johnson Pass Rd\, Twin Bridges\, CA\, 95721\, United States
CATEGORIES:Echo Summit Lodge Events
END:VEVENT
BEGIN:VEVENT
DTSTART;TZID=America/Los_Angeles:20170731T120000
DTEND;TZID=America/Los_Angeles:20170803T120000
DTSTAMP:20260424T132511
CREATED:20170728T015311Z
LAST-MODIFIED:20170728T015311Z
UID:13128-1501502400-1501761600@www.californiaalpineclub.org
SUMMARY:Echo: Hosted Kid Friendly Event - Wendi & Diane
DESCRIPTION:Wendi Olmstead \n& Diane Mickelson \n707-766-8038 \nwendiolmstead@comcast.net
URL:https://www.californiaalpineclub.org/events/echo-hosted-kid-friendly-event-wendi-diane/
LOCATION:Echo Summit Lodge\, 9010 Johnson Pass Rd\, Twin Bridges\, CA\, 95721\, United States
CATEGORIES:Echo Summit Lodge Events
END:VEVENT
BEGIN:VEVENT
DTSTART;TZID=America/Los_Angeles:20170727T120000
DTEND;TZID=America/Los_Angeles:20170731T120000
DTSTAMP:20260424T132511
CREATED:20170226T204232Z
LAST-MODIFIED:20170226T204232Z
UID:11901-1501156800-1501502400@www.californiaalpineclub.org
SUMMARY:Echo: Hosted Event:  Lillian. Genie & Tim
DESCRIPTION:Lillian Young \nGenie & Tim Frye \n3650 Sneath Lane \nSan Bruno\, CA 94066 \nlcyou@sbcglobal.net \n650-588-5689
URL:https://www.californiaalpineclub.org/events/echo-hosted-event-lillian-genie-tim-3/
LOCATION:Echo Summit Lodge\, 9010 Johnson Pass Rd\, Twin Bridges\, CA\, 95721\, United States
CATEGORIES:Echo Summit Lodge Events
END:VEVENT
BEGIN:VEVENT
DTSTART;TZID=America/Los_Angeles:20170722T120000
DTEND;TZID=America/Los_Angeles:20170727T120000
DTSTAMP:20260424T132511
CREATED:20170226T203809Z
LAST-MODIFIED:20170226T203809Z
UID:11900-1500724800-1501156800@www.californiaalpineclub.org
SUMMARY:Echo: Coop Meals - Jan & Jim
DESCRIPTION:Jan McCulloch \nJim Nixon \n50 Seacrest Ct. \nDaly City\, CA 94015 \njimnixon2000@yahoo.com \n650-756-7771
URL:https://www.californiaalpineclub.org/events/echo-coop-meals-jan-jim/
LOCATION:Echo Summit Lodge\, 9010 Johnson Pass Rd\, Twin Bridges\, CA\, 95721\, United States
CATEGORIES:Echo Summit Lodge Events
END:VEVENT
END:VCALENDAR