BEGIN:VCALENDAR
VERSION:2.0
PRODID:-//California Alpine Club - ECPv6.15.20//NONSGML v1.0//EN
CALSCALE:GREGORIAN
METHOD:PUBLISH
X-WR-CALNAME:California Alpine Club
X-ORIGINAL-URL:https://www.californiaalpineclub.org
X-WR-CALDESC:Events for California Alpine Club
REFRESH-INTERVAL;VALUE=DURATION:PT1H
X-Robots-Tag:noindex
X-PUBLISHED-TTL:PT1H
BEGIN:VTIMEZONE
TZID:America/Los_Angeles
BEGIN:DAYLIGHT
TZOFFSETFROM:-0800
TZOFFSETTO:-0700
TZNAME:PDT
DTSTART:20170312T100000
END:DAYLIGHT
BEGIN:STANDARD
TZOFFSETFROM:-0700
TZOFFSETTO:-0800
TZNAME:PST
DTSTART:20171105T090000
END:STANDARD
BEGIN:DAYLIGHT
TZOFFSETFROM:-0800
TZOFFSETTO:-0700
TZNAME:PDT
DTSTART:20180311T100000
END:DAYLIGHT
BEGIN:STANDARD
TZOFFSETFROM:-0700
TZOFFSETTO:-0800
TZNAME:PST
DTSTART:20181104T090000
END:STANDARD
BEGIN:DAYLIGHT
TZOFFSETFROM:-0800
TZOFFSETTO:-0700
TZNAME:PDT
DTSTART:20190310T100000
END:DAYLIGHT
BEGIN:STANDARD
TZOFFSETFROM:-0700
TZOFFSETTO:-0800
TZNAME:PST
DTSTART:20191103T090000
END:STANDARD
END:VTIMEZONE
BEGIN:VEVENT
DTSTART;TZID=America/Los_Angeles:20180810T120000
DTEND;TZID=America/Los_Angeles:20180812T120000
DTSTAMP:20260424T084414
CREATED:20180702T174944Z
LAST-MODIFIED:20180702T174944Z
UID:16218-1533902400-1534075200@www.californiaalpineclub.org
SUMMARY:Echo: Hosted Event - Cindy
DESCRIPTION:Cindy Toran \n921 Ripley St. \nSanta Rosa\, CA 95401 \ncktoran@gmail.com \n707-321-3262
URL:https://www.californiaalpineclub.org/events/echo-hosted-event-cindy/
LOCATION:Echo Summit Lodge\, 9010 Johnson Pass Rd\, Twin Bridges\, CA\, 95721\, United States
CATEGORIES:Echo Summit Lodge Events
END:VEVENT
BEGIN:VEVENT
DTSTART;TZID=America/Los_Angeles:20180803T120000
DTEND;TZID=America/Los_Angeles:20180809T120000
DTSTAMP:20260424T084414
CREATED:20180427T192802Z
LAST-MODIFIED:20180721T234752Z
UID:15838-1533297600-1533816000@www.californiaalpineclub.org
SUMMARY:Echo: Available for Trained Hosts
DESCRIPTION:
URL:https://www.californiaalpineclub.org/events/echo-hosted-event-anne-shirlee/
LOCATION:Echo Summit Lodge\, 9010 Johnson Pass Rd\, Twin Bridges\, CA\, 95721\, United States
CATEGORIES:Echo Summit Lodge Events
END:VEVENT
BEGIN:VEVENT
DTSTART;TZID=America/Los_Angeles:20180729T120000
DTEND;TZID=America/Los_Angeles:20180803T120000
DTSTAMP:20260424T084414
CREATED:20180331T185427Z
LAST-MODIFIED:20180331T185427Z
UID:15470-1532865600-1533297600@www.californiaalpineclub.org
SUMMARY:Echo:  Hosted Event - Diane\, Bruce & Edie
DESCRIPTION:Diane & Bruce Friend \nEdie Nelson \n6124 Chabot Rd. \nOakland\, CA 94618 \nbifedf@comcast.net \n510-654-4218
URL:https://www.californiaalpineclub.org/events/echo-hosted-event-diane-bruce-edie/
LOCATION:Echo Summit Lodge\, 9010 Johnson Pass Rd\, Twin Bridges\, CA\, 95721\, United States
CATEGORIES:Echo Summit Lodge Events
END:VEVENT
BEGIN:VEVENT
DTSTART;TZID=America/Los_Angeles:20180726T120000
DTEND;TZID=America/Los_Angeles:20180729T120000
DTSTAMP:20260424T084414
CREATED:20180331T185033Z
LAST-MODIFIED:20180331T185033Z
UID:15468-1532606400-1532865600@www.californiaalpineclub.org
SUMMARY:Echo: Hosted Event - Lillian\, Genie & Tim
DESCRIPTION:Lillian Young \nGenie & Tim Frye \n3650 Sneath Ln. \nSan Bruno\, CA 94066 \nlcyou@sbcglobal.net \n650-588-5689
URL:https://www.californiaalpineclub.org/events/echo-hosted-event-lillian-genie-tim-4/
LOCATION:Echo Summit Lodge\, 9010 Johnson Pass Rd\, Twin Bridges\, CA\, 95721\, United States
CATEGORIES:Echo Summit Lodge Events
END:VEVENT
BEGIN:VEVENT
DTSTART;TZID=America/Los_Angeles:20180722T120000
DTEND;TZID=America/Los_Angeles:20180726T120000
DTSTAMP:20260424T084414
CREATED:20180331T184651Z
LAST-MODIFIED:20180331T184651Z
UID:15466-1532260800-1532606400@www.californiaalpineclub.org
SUMMARY:Echo:  Coop Meals - Jan & JIm
DESCRIPTION:Jan McCulloch & Jim Nixon \n50 Seacrest Ct. \nDaly City\, CA 94015 \n650-756-7771 \njimnixon2000@yahoo.com
URL:https://www.californiaalpineclub.org/events/echo-coop-meals-jan-jim-2/
LOCATION:Echo Summit Lodge\, 9010 Johnson Pass Rd\, Twin Bridges\, CA\, 95721\, United States
CATEGORIES:Echo Summit Lodge Events
END:VEVENT
BEGIN:VEVENT
DTSTART;TZID=America/Los_Angeles:20180716T120000
DTEND;TZID=America/Los_Angeles:20180722T120000
DTSTAMP:20260424T084414
CREATED:20180331T184317Z
LAST-MODIFIED:20180331T184317Z
UID:15463-1531742400-1532260800@www.californiaalpineclub.org
SUMMARY:Echo: Coop Meals - Wendy & Geno
DESCRIPTION:Wendy & Geno Wells – Sierra Reflections \n3710 Gross Road\, #21 \nSanta Cruz\, CA 95062 \nwestwell55@gmail.com \n831-462-6505 \n 
URL:https://www.californiaalpineclub.org/events/echo-coop-meals-wendy-geno/
LOCATION:Echo Summit Lodge\, 9010 Johnson Pass Rd\, Twin Bridges\, CA\, 95721\, United States
CATEGORIES:Echo Summit Lodge Events
END:VEVENT
BEGIN:VEVENT
DTSTART;TZID=America/Los_Angeles:20180714T120000
DTEND;TZID=America/Los_Angeles:20180716T120000
DTSTAMP:20260424T084414
CREATED:20180427T192246Z
LAST-MODIFIED:20180427T192246Z
UID:15836-1531569600-1531742400@www.californiaalpineclub.org
SUMMARY:Echo: Hosted Event - Brigitte & Jeff
DESCRIPTION:Brigitte & Jeff Grimshaw \n6270 Carlotta Ct. \nSebastopol. CA 95472 \nbgrimshaw@comcast.net \n707-484-2599
URL:https://www.californiaalpineclub.org/events/echo-hosted-event-brigitte-jeff/
LOCATION:Echo Summit Lodge\, 9010 Johnson Pass Rd\, Twin Bridges\, CA\, 95721\, United States
CATEGORIES:Echo Summit Lodge Events
END:VEVENT
BEGIN:VEVENT
DTSTART;TZID=America/Los_Angeles:20180707T120000
DTEND;TZID=America/Los_Angeles:20180714T120000
DTSTAMP:20260424T084414
CREATED:20180331T183743Z
LAST-MODIFIED:20180427T191818Z
UID:15460-1530964800-1531569600@www.californiaalpineclub.org
SUMMARY:Echo:  Hosted Event - Kathy & Bill
DESCRIPTION:Kathy & Bill Faherty \n36 Cliffwood Place \nSanta Rosa\, CA 95409 \nkfaherty@icloud.com \n707-206-2876 \n 
URL:https://www.californiaalpineclub.org/events/echo-hosted-event-kathy-bill-2/
LOCATION:Echo Summit Lodge\, 9010 Johnson Pass Rd\, Twin Bridges\, CA\, 95721\, United States
CATEGORIES:Echo Summit Lodge Events
END:VEVENT
BEGIN:VEVENT
DTSTART;TZID=America/Los_Angeles:20180702T120000
DTEND;TZID=America/Los_Angeles:20180707T120000
DTSTAMP:20260424T084414
CREATED:20180331T183408Z
LAST-MODIFIED:20180331T183408Z
UID:15458-1530532800-1530964800@www.californiaalpineclub.org
SUMMARY:Echo:  Coop Meals - 4th of July - Tim
DESCRIPTION:Tim Seeley \n4819 Foxglove Ct. \nSanta Rosa\, CA 95405 \nseeley@sonic.net \n707-486-8288
URL:https://www.californiaalpineclub.org/events/echo-coop-meals-4th-july-tim/
LOCATION:Echo Summit Lodge\, 9010 Johnson Pass Rd\, Twin Bridges\, CA\, 95721\, United States
CATEGORIES:Echo Summit Lodge Events
END:VEVENT
BEGIN:VEVENT
DTSTART;TZID=America/Los_Angeles:20180624T120000
DTEND;TZID=America/Los_Angeles:20180628T120000
DTSTAMP:20260424T084414
CREATED:20180427T191411Z
LAST-MODIFIED:20180427T191644Z
UID:15832-1529841600-1530187200@www.californiaalpineclub.org
SUMMARY:Echo: Early Summer Hikes - Wendi & Jane
DESCRIPTION:Early Summer Hikes – All ages \nWendi Olmstead & Jane Kiser \n1444 Sunrise Pkwy \nPetaluma\, CA 94954 \nwendiolmstead@comcast.net \n707-766-8038
URL:https://www.californiaalpineclub.org/events/echo-early-summer-hikes-ages/
LOCATION:Echo Summit Lodge\, 9010 Johnson Pass Rd\, Twin Bridges\, CA\, 95721\, United States
CATEGORIES:Echo Summit Lodge Events
END:VEVENT
BEGIN:VEVENT
DTSTART;TZID=America/Los_Angeles:20180617T120000
DTEND;TZID=America/Los_Angeles:20180624T120000
DTSTAMP:20260424T084414
CREATED:20180331T183014Z
LAST-MODIFIED:20180331T183014Z
UID:15456-1529236800-1529841600@www.californiaalpineclub.org
SUMMARY:Echo: Summer Wildflower Hikes - Lin & Barbara
DESCRIPTION:Lin Mangiante & Barbara Crockett \n424 Hazel Ave. \nMillbrae. CA 94030 \n650-697-7403 \nfoxtails@pacbell.net \n 
URL:https://www.californiaalpineclub.org/events/echo-summer-wildflower-hikes-lin-barbara/
LOCATION:Echo Summit Lodge\, 9010 Johnson Pass Rd\, Twin Bridges\, CA\, 95721\, United States
CATEGORIES:Echo Summit Lodge Events
END:VEVENT
BEGIN:VEVENT
DTSTART;TZID=America/Los_Angeles:20180614T120000
DTEND;TZID=America/Los_Angeles:20180617T120000
DTSTAMP:20260424T084414
CREATED:20180427T190138Z
LAST-MODIFIED:20180427T190138Z
UID:15830-1528977600-1529236800@www.californiaalpineclub.org
SUMMARY:Echo:  Teen Idle & Chill - Camille
DESCRIPTION:Camille Smith-Ballon \nPO Box 3731 \nSanta Cruz\, CA 95063 \n831-239-0730 \ncamillecruz@gmail.com
URL:https://www.californiaalpineclub.org/events/echo-teen-idle-chill-camille/
LOCATION:Echo Summit Lodge\, 9010 Johnson Pass Rd\, Twin Bridges\, CA\, 95721\, United States
CATEGORIES:Echo Summit Lodge Events
END:VEVENT
BEGIN:VEVENT
DTSTART;TZID=America/Los_Angeles:20180606T120000
DTEND;TZID=America/Los_Angeles:20180610T120000
DTSTAMP:20260424T084414
CREATED:20180331T182235Z
LAST-MODIFIED:20180331T182235Z
UID:15454-1528286400-1528632000@www.californiaalpineclub.org
SUMMARY:Echo:  Birding & Conservation - Karen & Jerry
DESCRIPTION:Karen and Jerry Wagner \n2622 Wawona Drive \nSanta Rosa\, CA 95405 \noldmawagner@gmail.com \n707-528-8197
URL:https://www.californiaalpineclub.org/events/echo-birding-conservation-karen-jerry/
LOCATION:Echo Summit Lodge\, 9010 Johnson Pass Rd\, Twin Bridges\, CA\, 95721\, United States
CATEGORIES:Echo Summit Lodge Events
END:VEVENT
BEGIN:VEVENT
DTSTART;TZID=America/Los_Angeles:20180524T120000
DTEND;TZID=America/Los_Angeles:20180529T120000
DTSTAMP:20260424T084414
CREATED:20180207T202843Z
LAST-MODIFIED:20180207T202843Z
UID:14934-1527163200-1527595200@www.californiaalpineclub.org
SUMMARY:Echo:  Memorial Day Wknd - Sandra
DESCRIPTION:Sandra Chapelle \n380 Stoddard Way \nAuburn\, CA 95603 \n530-886-8738 \nchapellesandra@yahoo.com
URL:https://www.californiaalpineclub.org/events/echo-memorial-day-wknd-sandra/
LOCATION:Echo Summit Lodge\, 9010 Johnson Pass Rd\, Twin Bridges\, CA\, 95721\, United States
CATEGORIES:Echo Summit Lodge Events
END:VEVENT
BEGIN:VEVENT
DTSTART;TZID=America/Los_Angeles:20180517T120000
DTEND;TZID=America/Los_Angeles:20180520T120000
DTSTAMP:20260424T084414
CREATED:20180207T202345Z
LAST-MODIFIED:20180207T202457Z
UID:14931-1526558400-1526817600@www.californiaalpineclub.org
SUMMARY:Echo:  Spring Work & Fun Party
DESCRIPTION:Bob Henry \nclyde33301@comcast.net \n707-829-3728
URL:https://www.californiaalpineclub.org/events/echo-spring-work-fun-party/
LOCATION:Echo Summit Lodge\, 9010 Johnson Pass Rd\, Twin Bridges\, CA\, 95721\, United States
CATEGORIES:Echo Summit Lodge Events
END:VEVENT
BEGIN:VEVENT
DTSTART;TZID=America/Los_Angeles:20180511T120000
DTEND;TZID=America/Los_Angeles:20180513T120000
DTSTAMP:20260424T084414
CREATED:20180207T201732Z
LAST-MODIFIED:20180207T201900Z
UID:14927-1526040000-1526212800@www.californiaalpineclub.org
SUMMARY:Echo:  Mothers' Wknd Day - Coop Meals - Donata
DESCRIPTION:Donata Mikulik \n2037 W. Hearn Ave. \nSanta Rosa\, CA 95407 \n707-591-3129 \ndonatabo@hotmail.com \n 
URL:https://www.californiaalpineclub.org/events/echo-mothers-wknd-day-coop-meals-donate/
LOCATION:Echo Summit Lodge\, 9010 Johnson Pass Rd\, Twin Bridges\, CA\, 95721\, United States
CATEGORIES:Echo Summit Lodge Events
END:VEVENT
BEGIN:VEVENT
DTSTART;TZID=America/Los_Angeles:20180504T120000
DTEND;TZID=America/Los_Angeles:20180506T120000
DTSTAMP:20260424T084414
CREATED:20180207T201233Z
LAST-MODIFIED:20180207T201233Z
UID:14925-1525435200-1525608000@www.californiaalpineclub.org
SUMMARY:Echo:  Host Appreciation & Training
DESCRIPTION:Cindy Toran \ncktoran@gmail.com \n707-321-3262
URL:https://www.californiaalpineclub.org/events/echo-host-appreciation-training-6/
LOCATION:Echo Summit Lodge\, 9010 Johnson Pass Rd\, Twin Bridges\, CA\, 95721\, United States
CATEGORIES:Echo Summit Lodge Events
END:VEVENT
BEGIN:VEVENT
DTSTART;TZID=America/Los_Angeles:20180411T120000
DTEND;TZID=America/Los_Angeles:20180415T120000
DTSTAMP:20260424T084414
CREATED:20180207T200909Z
LAST-MODIFIED:20180207T200909Z
UID:14923-1523448000-1523793600@www.californiaalpineclub.org
SUMMARY:Echo:  Private Event - Patty & Chris
DESCRIPTION:Patty & Chris Dunhill \n650-537-7645 \npattyzdunhill@yahoo.com
URL:https://www.californiaalpineclub.org/events/echo-private-event-patty-chris/
LOCATION:Echo Summit Lodge\, 9010 Johnson Pass Rd\, Twin Bridges\, CA\, 95721\, United States
CATEGORIES:Echo Summit Lodge Events
END:VEVENT
BEGIN:VEVENT
DTSTART;TZID=America/Los_Angeles:20180329T120000
DTEND;TZID=America/Los_Angeles:20180403T120000
DTSTAMP:20260424T084414
CREATED:20171201T032223Z
LAST-MODIFIED:20180207T203142Z
UID:14237-1522324800-1522756800@www.californiaalpineclub.org
SUMMARY:Echo: Hosted Event - Jay & Mark
DESCRIPTION:Jay Gustafson & Mark Cooper \n402A Ash St.\, Mill Valley\, CA 94941 \njaygustafson@yahoo.com \n415-381-7261 \n 
URL:https://www.californiaalpineclub.org/events/echo-hosted-event-jay-mark/
LOCATION:Echo Summit Lodge\, 9010 Johnson Pass Rd\, Twin Bridges\, CA\, 95721\, United States
CATEGORIES:Echo Summit Lodge Events
END:VEVENT
BEGIN:VEVENT
DTSTART;TZID=America/Los_Angeles:20180323T120000
DTEND;TZID=America/Los_Angeles:20180326T120000
DTSTAMP:20260424T084414
CREATED:20171101T162815Z
LAST-MODIFIED:20171101T162928Z
UID:13989-1521806400-1522065600@www.californiaalpineclub.org
SUMMARY:Echo: Young Families Ski and Snow - Donata
DESCRIPTION:Donata Mikulik \n2037 W. Hearn \nSanta Rosa\,  CA 95407 \ndonatabo@hotmail.com \n707-591-3129 \n 
URL:https://www.californiaalpineclub.org/events/echo-young-families-ski-snow-donate/
LOCATION:Echo Summit Lodge\, 9010 Johnson Pass Rd\, Twin Bridges\, CA\, 95721\, United States
CATEGORIES:Echo Summit Lodge Events
END:VEVENT
BEGIN:VEVENT
DTSTART;TZID=America/Los_Angeles:20180315T120000
DTEND;TZID=America/Los_Angeles:20180318T120000
DTSTAMP:20260424T084414
CREATED:20171101T162337Z
LAST-MODIFIED:20171101T162337Z
UID:13987-1521115200-1521374400@www.californiaalpineclub.org
SUMMARY:Echo: Hosted Event - Karen & Jerry
DESCRIPTION:Karen & Jerry Wagner \n2622 Wawona Drive \nSanta Rosa\, CA 95405 \noldmawagner@gmail.com \n707-528-8197
URL:https://www.californiaalpineclub.org/events/echo-hosted-event-karen-jerry-3/
LOCATION:Echo Summit Lodge\, 9010 Johnson Pass Rd\, Twin Bridges\, CA\, 95721\, United States
CATEGORIES:Echo Summit Lodge Events
END:VEVENT
BEGIN:VEVENT
DTSTART;TZID=America/Los_Angeles:20180306T120000
DTEND;TZID=America/Los_Angeles:20180311T120000
DTSTAMP:20260424T084414
CREATED:20171101T161936Z
LAST-MODIFIED:20171101T161936Z
UID:13985-1520337600-1520769600@www.californiaalpineclub.org
SUMMARY:Echo: Alpine Winter Retreat - Mary
DESCRIPTION:Mary Larkin-Berlinski \nPO Box 776 \nMoss landing\, CA 95039 \nmlarkin804@sbcglobal.net \n831-345-6963
URL:https://www.californiaalpineclub.org/events/echo-alpine-winter-retreat-mary/
LOCATION:Echo Summit Lodge\, 9010 Johnson Pass Rd\, Twin Bridges\, CA\, 95721\, United States
CATEGORIES:Echo Summit Lodge Events
END:VEVENT
BEGIN:VEVENT
DTSTART;TZID=America/Los_Angeles:20180302T120000
DTEND;TZID=America/Los_Angeles:20180304T120000
DTSTAMP:20260424T084414
CREATED:20171101T161455Z
LAST-MODIFIED:20171101T161455Z
UID:13983-1519992000-1520164800@www.californiaalpineclub.org
SUMMARY:Echo: Family Snow Wknd - Coop Meals - Craig
DESCRIPTION:Craig Anderson \n9635 Appalachian Dr. \nSacramento\, CA 95827 \nCranders1@gmail.com \n928-607-3608
URL:https://www.californiaalpineclub.org/events/echo-family-snow-wknd-coop-meals-craig/
LOCATION:Echo Summit Lodge\, 9010 Johnson Pass Rd\, Twin Bridges\, CA\, 95721\, United States
CATEGORIES:Echo Summit Lodge Events
END:VEVENT
BEGIN:VEVENT
DTSTART;TZID=America/Los_Angeles:20180223T120000
DTEND;TZID=America/Los_Angeles:20180302T120000
DTSTAMP:20260424T084414
CREATED:20171201T031545Z
LAST-MODIFIED:20180207T200207Z
UID:14235-1519387200-1519992000@www.californiaalpineclub.org
SUMMARY:Echo: Hosted Event - Nick & Anita
DESCRIPTION:Nick Gregoratos \n430 Ellsworth St. \nSan Francisco CA 94130 \nnick.gregoratos@gmail.com \n510-919-6883
URL:https://www.californiaalpineclub.org/events/echo-hosted-event-nick/
LOCATION:Echo Summit Lodge\, 9010 Johnson Pass Rd\, Twin Bridges\, CA\, 95721\, United States
CATEGORIES:Echo Summit Lodge Events
END:VEVENT
BEGIN:VEVENT
DTSTART;TZID=America/Los_Angeles:20180219T120000
DTEND;TZID=America/Los_Angeles:20180223T120000
DTSTAMP:20260424T084414
CREATED:20171101T160843Z
LAST-MODIFIED:20171101T160953Z
UID:13980-1519041600-1519387200@www.californiaalpineclub.org
SUMMARY:Echo: Kids & Grandparents Ski Week - Kathy & Bill
DESCRIPTION:Kathy and Bill Faherty \n36 Cliffwood Place \nSanta Rosa\, CA 95409 \nkfaherty@mac.com \n707-539-7081 \n 
URL:https://www.californiaalpineclub.org/events/echo-kids-grandparents-ski-wknd-kathy-bill/
LOCATION:Echo Summit Lodge\, 9010 Johnson Pass Rd\, Twin Bridges\, CA\, 95721\, United States
CATEGORIES:Echo Summit Lodge Events
END:VEVENT
BEGIN:VEVENT
DTSTART;TZID=America/Los_Angeles:20180216T120000
DTEND;TZID=America/Los_Angeles:20180219T120000
DTSTAMP:20260424T084414
CREATED:20171201T030830Z
LAST-MODIFIED:20171201T031058Z
UID:14233-1518782400-1519041600@www.californiaalpineclub.org
SUMMARY:Echo: President's Weekend - Patty & Chris
DESCRIPTION:Patty & Chris Dunhill \n452 Griffin Ave.\, Pacifica 94004 \npattyzdunhill@yahoo.com \n650-537-7645
URL:https://www.californiaalpineclub.org/events/echo-presidents-weekend-patty-chris/
LOCATION:Echo Summit Lodge\, 9010 Johnson Pass Rd\, Twin Bridges\, CA\, 95721\, United States
CATEGORIES:Echo Summit Lodge Events
END:VEVENT
BEGIN:VEVENT
DTSTART;TZID=America/Los_Angeles:20180208T120000
DTEND;TZID=America/Los_Angeles:20180212T120000
DTSTAMP:20260424T084414
CREATED:20170930T224804Z
LAST-MODIFIED:20170930T224804Z
UID:13707-1518091200-1518436800@www.californiaalpineclub.org
SUMMARY:Echo: Hosted Event - Bob & Shelly
DESCRIPTION:Shelly Navine & Bob Henry \n1286 Hurlbut Ave. \nSebastopol\, CA 95472 \nclyde3301@comcast.net \n707-829-3728
URL:https://www.californiaalpineclub.org/events/echo-hosted-event-bob-shelly-3/
LOCATION:Echo Summit Lodge\, 9010 Johnson Pass Rd\, Twin Bridges\, CA\, 95721\, United States
CATEGORIES:Echo Summit Lodge Events
END:VEVENT
BEGIN:VEVENT
DTSTART;TZID=America/Los_Angeles:20180204T120000
DTEND;TZID=America/Los_Angeles:20180208T120000
DTSTAMP:20260424T084414
CREATED:20171101T160332Z
LAST-MODIFIED:20171101T160332Z
UID:13978-1517745600-1518091200@www.californiaalpineclub.org
SUMMARY:Echo: Private Event - Dave
DESCRIPTION:Dave Chalk \nchalk@sonic.net \n707-539-8847
URL:https://www.californiaalpineclub.org/events/echo-private-event-dave/
LOCATION:Echo Summit Lodge\, 9010 Johnson Pass Rd\, Twin Bridges\, CA\, 95721\, United States
CATEGORIES:Echo Summit Lodge Events
END:VEVENT
BEGIN:VEVENT
DTSTART;TZID=America/Los_Angeles:20180202T120000
DTEND;TZID=America/Los_Angeles:20180204T120000
DTSTAMP:20260424T084414
CREATED:20171101T155934Z
LAST-MODIFIED:20171101T160100Z
UID:13975-1517572800-1517745600@www.californiaalpineclub.org
SUMMARY:Echo: CAC Leadership Snow Wknd - Jay & Mary
DESCRIPTION:Jay Gustafson & Mary Cosgrove \n4024 Ash Street \nMill Valley\, CA 94941 \njaygustafson@yahoo.com \n415-381-7261
URL:https://www.californiaalpineclub.org/events/echo-ca-leadership-snow-wknd-jay-mary/
LOCATION:Echo Summit Lodge\, 9010 Johnson Pass Rd\, Twin Bridges\, CA\, 95721\, United States
CATEGORIES:Echo Summit Lodge Events
END:VEVENT
BEGIN:VEVENT
DTSTART;TZID=America/Los_Angeles:20180123T120000
DTEND;TZID=America/Los_Angeles:20180128T120000
DTSTAMP:20260424T084414
CREATED:20170825T155738Z
LAST-MODIFIED:20170825T155738Z
UID:13354-1516708800-1517140800@www.californiaalpineclub.org
SUMMARY:Echo: Hosted Event: Mary
DESCRIPTION:Mary Larkin-Berlinski \nP.O. Box 776 \nMoss Landing\, CA 95039 \nmlarkin804@sbcglobal.net \n831-345-6963
URL:https://www.californiaalpineclub.org/events/echo-hosted-event-mary-4/
LOCATION:Echo Summit Lodge\, 9010 Johnson Pass Rd\, Twin Bridges\, CA\, 95721\, United States
CATEGORIES:Echo Summit Lodge Events
END:VEVENT
END:VCALENDAR