BEGIN:VCALENDAR
VERSION:2.0
PRODID:-//California Alpine Club - ECPv6.15.20//NONSGML v1.0//EN
CALSCALE:GREGORIAN
METHOD:PUBLISH
X-WR-CALNAME:California Alpine Club
X-ORIGINAL-URL:https://www.californiaalpineclub.org
X-WR-CALDESC:Events for California Alpine Club
REFRESH-INTERVAL;VALUE=DURATION:PT1H
X-Robots-Tag:noindex
X-PUBLISHED-TTL:PT1H
BEGIN:VTIMEZONE
TZID:America/Los_Angeles
BEGIN:DAYLIGHT
TZOFFSETFROM:-0800
TZOFFSETTO:-0700
TZNAME:PDT
DTSTART:20180311T100000
END:DAYLIGHT
BEGIN:STANDARD
TZOFFSETFROM:-0700
TZOFFSETTO:-0800
TZNAME:PST
DTSTART:20181104T090000
END:STANDARD
BEGIN:DAYLIGHT
TZOFFSETFROM:-0800
TZOFFSETTO:-0700
TZNAME:PDT
DTSTART:20190310T100000
END:DAYLIGHT
BEGIN:STANDARD
TZOFFSETFROM:-0700
TZOFFSETTO:-0800
TZNAME:PST
DTSTART:20191103T090000
END:STANDARD
BEGIN:DAYLIGHT
TZOFFSETFROM:-0800
TZOFFSETTO:-0700
TZNAME:PDT
DTSTART:20200308T100000
END:DAYLIGHT
BEGIN:STANDARD
TZOFFSETFROM:-0700
TZOFFSETTO:-0800
TZNAME:PST
DTSTART:20201101T090000
END:STANDARD
END:VTIMEZONE
BEGIN:VEVENT
DTSTART;TZID=America/Los_Angeles:20190707T120000
DTEND;TZID=America/Los_Angeles:20190712T120000
DTSTAMP:20260424T002825
CREATED:20190331T164033Z
LAST-MODIFIED:20190331T164033Z
UID:18611-1562500800-1562932800@www.californiaalpineclub.org
SUMMARY:Echo: Coop Meals - Jan & Jim
DESCRIPTION:Jan McCulloch & Jim Nixon \n50 Seacrest Ct\, Daly City\, CA  94015 \njanmariemcculloch@gmail.com \n650-922-6081
URL:https://www.californiaalpineclub.org/events/echo-coop-meals-jan-jim-3/
LOCATION:Echo Summit Lodge\, 9010 Johnson Pass Rd\, Twin Bridges\, CA\, 95721\, United States
CATEGORIES:Echo Summit Lodge Events
END:VEVENT
BEGIN:VEVENT
DTSTART;TZID=America/Los_Angeles:20190702T120000
DTEND;TZID=America/Los_Angeles:20190707T120000
DTSTAMP:20260424T002825
CREATED:20190303T184737Z
LAST-MODIFIED:20190303T184737Z
UID:18380-1562068800-1562500800@www.californiaalpineclub.org
SUMMARY:Echo: 4th of July - Coop Meals - Tim
DESCRIPTION:Tim Seeley \n11855 Butte Creek Island Rd\, Chico\, CA  95929 \nseeley@sonic.net \n707-486-8288 \n 
URL:https://www.californiaalpineclub.org/events/echo-4th-of-july-coop-meals-tim/
LOCATION:Echo Summit Lodge\, 9010 Johnson Pass Rd\, Twin Bridges\, CA\, 95721\, United States
CATEGORIES:Echo Summit Lodge Events
END:VEVENT
BEGIN:VEVENT
DTSTART;TZID=America/Los_Angeles:20190623T120000
DTEND;TZID=America/Los_Angeles:20190630T120000
DTSTAMP:20260424T002825
CREATED:20190303T184450Z
LAST-MODIFIED:20190314T035141Z
UID:18378-1561291200-1561896000@www.californiaalpineclub.org
SUMMARY:Echo: Spring Wildflower Hikes - Sandy Finegan & Jo Wolf
DESCRIPTION:Sandy Finegan & Jo Wolf \n2136 Broderick St Apt 12\, San Francisco\, CA  94115 \nsandyfinegan@me.com \n415-845-4695
URL:https://www.californiaalpineclub.org/events/echo-spring-wildflower-hikes-sandy/
LOCATION:Echo Summit Lodge\, 9010 Johnson Pass Rd\, Twin Bridges\, CA\, 95721\, United States
CATEGORIES:Echo Summit Lodge Events
END:VEVENT
BEGIN:VEVENT
DTSTART;TZID=America/Los_Angeles:20190620T120000
DTEND;TZID=America/Los_Angeles:20190623T120000
DTSTAMP:20260424T002825
CREATED:20190331T163221Z
LAST-MODIFIED:20190331T163221Z
UID:18609-1561032000-1561291200@www.californiaalpineclub.org
SUMMARY:Echo: Summer Hiking Piper & Curt
DESCRIPTION:Piper & Curt Lomax \n1563 Peacock Ave\, Sunnyvale\, CA  94087 \npiper.lomax@gmail.com \n408-205-1708
URL:https://www.californiaalpineclub.org/events/echo-summer-hiking-piper-curt/
LOCATION:Echo Summit Lodge\, 9010 Johnson Pass Rd\, Twin Bridges\, CA\, 95721\, United States
CATEGORIES:Echo Summit Lodge Events
END:VEVENT
BEGIN:VEVENT
DTSTART;TZID=America/Los_Angeles:20190617T120000
DTEND;TZID=America/Los_Angeles:20190620T120000
DTSTAMP:20260424T002825
CREATED:20190331T162924Z
LAST-MODIFIED:20190331T162924Z
UID:18607-1560772800-1561032000@www.californiaalpineclub.org
SUMMARY:Echo: Coop Meals - Wendy & Gene
DESCRIPTION:Wendy & Geno Wells \n3710 Gross Road #21\, Santa Cruz\, CA  95062 \nwestwell55@gmail.com \n831-334-2817
URL:https://www.californiaalpineclub.org/events/echo-coop-meals-wendy-gene/
LOCATION:Echo Summit Lodge\, 9010 Johnson Pass Rd\, Twin Bridges\, CA\, 95721\, United States
CATEGORIES:Echo Summit Lodge Events
END:VEVENT
BEGIN:VEVENT
DTSTART;TZID=America/Los_Angeles:20190612T120000
DTEND;TZID=America/Los_Angeles:20190616T120000
DTSTAMP:20260424T002825
CREATED:20190303T184043Z
LAST-MODIFIED:20190303T184043Z
UID:18376-1560340800-1560686400@www.californiaalpineclub.org
SUMMARY:Echo: Conservation Benefit & Birding
DESCRIPTION:Karen & Jerry Wagner \n2622 Wawona Dr\, Santa Rosa\, CA  95405 \noldmawagner@gmail.com \n707-528-8197
URL:https://www.californiaalpineclub.org/events/echo-conservation-benefit-birding/
LOCATION:Echo Summit Lodge\, 9010 Johnson Pass Rd\, Twin Bridges\, CA\, 95721\, United States
CATEGORIES:Echo Summit Lodge Events
END:VEVENT
BEGIN:VEVENT
DTSTART;TZID=America/Los_Angeles:20190608T120000
DTEND;TZID=America/Los_Angeles:20190612T120000
DTSTAMP:20260424T002825
CREATED:20190303T183727Z
LAST-MODIFIED:20190303T183727Z
UID:18374-1559995200-1560340800@www.californiaalpineclub.org
SUMMARY:Echo: Rapids Rage & Retreat for Teens
DESCRIPTION:For Teens and those that revel in the carefree days of SUMMER \nThe rafting will be swift\, the music will be played and the days will be doing whatever any teenager would do…eat\, play\, snooze\, eat AGAIN and a general celebration that SCHOOL IS OUT!! \nCamille Smith-Ballon \nPO Box 3731\, Santa Cruz\, CA  95063 \ncamillecruzfit@gmail.com \n831-239-0730
URL:https://www.californiaalpineclub.org/events/echo-rapids-rage-retreat-for-teens/
LOCATION:Echo Summit Lodge\, 9010 Johnson Pass Rd\, Twin Bridges\, CA\, 95721\, United States
CATEGORIES:Echo Summit Lodge Events
END:VEVENT
BEGIN:VEVENT
DTSTART;TZID=America/Los_Angeles:20190531T120000
DTEND;TZID=America/Los_Angeles:20190602T120000
DTSTAMP:20260424T002825
CREATED:20190503T211639Z
LAST-MODIFIED:20190503T211639Z
UID:18919-1559304000-1559476800@www.californiaalpineclub.org
SUMMARY:Echo:  Kid Friendly WKND - Diane & Wendi
DESCRIPTION:Bring your kids\, grandkids\, or just yourself\, for a pre-summer weekend stay. Bring some crafts\, games\, or other activities for the kids to enjoy!  Of course\, there will be plenty to do and see outdoors\, too! \nDiane Mickelson & Wendi Olmstead \n3060 Middle Two Rock Rd\, Petaluma\, CA  94952 \ndntmickel@aol.com \n707 696-7239
URL:https://www.californiaalpineclub.org/events/echo-kid-friendly-wknd-diane-wendi/
LOCATION:Echo Summit Lodge\, 9010 Johnson Pass Rd\, Twin Bridges\, CA\, 95721\, United States
CATEGORIES:Echo Summit Lodge Events
END:VEVENT
BEGIN:VEVENT
DTSTART;TZID=America/Los_Angeles:20190522T120000
DTEND;TZID=America/Los_Angeles:20190526T120000
DTSTAMP:20260424T002825
CREATED:20190201T005304Z
LAST-MODIFIED:20190201T005304Z
UID:18107-1558526400-1558872000@www.californiaalpineclub.org
SUMMARY:Echo:  Hosted Event - Feney & Kathleen
DESCRIPTION:Start your Memorial Day weekend getaway with this trip hosted by four hikers who like wine and wildflowers.  We invite our guests to stop by en route at one of the many wineries on Camino Road just outside Placerville to bring a local bottle to share with an appetizer.  We will also host a pick-a- hike each day. Reservations no later than May 10. Check payment holds reservation. Hosted meals. \n  \nFeney Matthews & Kathleen Nemetz            510 414-3573 \n721 Hilldale Ave\, Berkeley\, CA  94708 \nfeney1@gmail.com \nThanks! \n 
URL:https://www.californiaalpineclub.org/events/echo-hosted-event-feney-kathleen/
LOCATION:CA
CATEGORIES:Echo Summit Lodge Events
END:VEVENT
BEGIN:VEVENT
DTSTART;TZID=America/Los_Angeles:20190516T120000
DTEND;TZID=America/Los_Angeles:20190519T120000
DTSTAMP:20260424T002825
CREATED:20190201T004756Z
LAST-MODIFIED:20190201T004756Z
UID:18105-1558008000-1558267200@www.californiaalpineclub.org
SUMMARY:Echo:  Spring Work & Fun Party
DESCRIPTION:Bob Henry \nclyde33301@comcast.net \n707-217-7601
URL:https://www.californiaalpineclub.org/events/echo-spring-work-fun-party-2/
LOCATION:Echo Summit Lodge\, 9010 Johnson Pass Rd\, Twin Bridges\, CA\, 95721\, United States
CATEGORIES:Echo Summit Lodge Events
END:VEVENT
BEGIN:VEVENT
DTSTART;TZID=America/Los_Angeles:20190510T120000
DTEND;TZID=America/Los_Angeles:20190512T120000
DTSTAMP:20260424T002825
CREATED:20190331T162359Z
LAST-MODIFIED:20190331T162359Z
UID:18605-1557489600-1557662400@www.californiaalpineclub.org
SUMMARY:Echo: Private Event
DESCRIPTION:Tawny High \ntawnyhigh@hotmail.com \n916-759-2913
URL:https://www.californiaalpineclub.org/events/echo-private-event-18/
LOCATION:Echo Summit Lodge\, 9010 Johnson Pass Rd\, Twin Bridges\, CA\, 95721\, United States
CATEGORIES:Echo Summit Lodge Events
END:VEVENT
BEGIN:VEVENT
DTSTART;TZID=America/Los_Angeles:20190503T120000
DTEND;TZID=America/Los_Angeles:20190505T120000
DTSTAMP:20260424T002825
CREATED:20190201T004428Z
LAST-MODIFIED:20190201T004428Z
UID:18103-1556884800-1557057600@www.californiaalpineclub.org
SUMMARY:Echo: Host Appreciation and Training - Cindy
DESCRIPTION:Cindy Toran \ncktoran@gmail.com \n707-321-3262 \n 
URL:https://www.californiaalpineclub.org/events/echo-host-appreciation-and-training-cindy/
LOCATION:Echo Summit Lodge\, 9010 Johnson Pass Rd\, Twin Bridges\, CA\, 95721\, United States
CATEGORIES:Echo Summit Lodge Events
END:VEVENT
BEGIN:VEVENT
DTSTART;TZID=America/Los_Angeles:20190410T120000
DTEND;TZID=America/Los_Angeles:20190414T120000
DTSTAMP:20260424T002825
CREATED:20190303T183119Z
LAST-MODIFIED:20190303T183119Z
UID:18372-1554897600-1555243200@www.californiaalpineclub.org
SUMMARY:Echo: Private Event
DESCRIPTION:Patty Dunhill 650 537-7645 \npattyzdunhill@yahoo.com
URL:https://www.californiaalpineclub.org/events/echo-private-event-19/
LOCATION:Echo Summit Lodge\, 9010 Johnson Pass Rd\, Twin Bridges\, CA\, 95721\, United States
CATEGORIES:Echo Summit Lodge Events
END:VEVENT
BEGIN:VEVENT
DTSTART;TZID=America/Los_Angeles:20190404T120000
DTEND;TZID=America/Los_Angeles:20190407T120000
DTSTAMP:20260424T002825
CREATED:20190201T004010Z
LAST-MODIFIED:20190201T004103Z
UID:18100-1554379200-1554638400@www.californiaalpineclub.org
SUMMARY:Echo: Hosted Event - Rex & Suzanne - X-Cntry & Snoshoe
DESCRIPTION:Rex and Suzanne Rolle \n378 W. Weimar Road \nColfax\, CA 95713 \nsuzanne@graceyoga.com \n530-637-5088 \n 
URL:https://www.californiaalpineclub.org/events/echo-hosted-event-rex-suzane-x-cntry-snoshoe/
LOCATION:Echo Summit Lodge\, 9010 Johnson Pass Rd\, Twin Bridges\, CA\, 95721\, United States
CATEGORIES:Echo Summit Lodge Events
END:VEVENT
BEGIN:VEVENT
DTSTART;TZID=America/Los_Angeles:20190327T120000
DTEND;TZID=America/Los_Angeles:20190331T120000
DTSTAMP:20260424T002825
CREATED:20190303T182612Z
LAST-MODIFIED:20190303T182612Z
UID:18368-1553688000-1554033600@www.californiaalpineclub.org
SUMMARY:Echo: Hosted Event - Nick & Anita
DESCRIPTION:Nick Gregoratos & Anita Cabrera \n430 Ellsworth St\, San Francisco\, CA  94110 \nnick.gregoratos@gmail.com \n510-919-6883
URL:https://www.californiaalpineclub.org/events/echo-hosted-event-nick-anita-2/
LOCATION:Echo Summit Lodge\, 9010 Johnson Pass Rd\, Twin Bridges\, CA\, 95721\, United States
CATEGORIES:Echo Summit Lodge Events
END:VEVENT
BEGIN:VEVENT
DTSTART;TZID=America/Los_Angeles:20190320T120000
DTEND;TZID=America/Los_Angeles:20190325T120000
DTSTAMP:20260424T002825
CREATED:20181001T192610Z
LAST-MODIFIED:20181001T192711Z
UID:16982-1553083200-1553515200@www.californiaalpineclub.org
SUMMARY:Echo: Families Ski Wknd - Donata
DESCRIPTION:Donata Mikulik \n2037 W. Hearn \nSanta Rosa\, CA 95407 \ndonatabo@hotmail.com \n707-591-3129 \n 
URL:https://www.californiaalpineclub.org/events/echo-families-ski-wknd/
LOCATION:Echo Summit Lodge\, 9010 Johnson Pass Rd\, Twin Bridges\, CA\, 95721\, United States
CATEGORIES:Echo Summit Lodge Events
END:VEVENT
BEGIN:VEVENT
DTSTART;TZID=America/Los_Angeles:20190317T120000
DTEND;TZID=America/Los_Angeles:20190320T120000
DTSTAMP:20260424T002825
CREATED:20190303T182221Z
LAST-MODIFIED:20190303T182221Z
UID:18366-1552824000-1553083200@www.californiaalpineclub.org
SUMMARY:Echo: Private Event
DESCRIPTION:Sandy Borden \nsandynevada@yahoo.com \n530-318-9693
URL:https://www.californiaalpineclub.org/events/echo-private-event-17/
LOCATION:Echo Summit Lodge\, 9010 Johnson Pass Rd\, Twin Bridges\, CA\, 95721\, United States
CATEGORIES:Echo Summit Lodge Events
END:VEVENT
BEGIN:VEVENT
DTSTART;TZID=America/Los_Angeles:20190313T120000
DTEND;TZID=America/Los_Angeles:20190317T120000
DTSTAMP:20260424T002825
CREATED:20181116T162346Z
LAST-MODIFIED:20190303T181918Z
UID:17423-1552478400-1552824000@www.californiaalpineclub.org
SUMMARY:Echo: Co-Hosted - Wagner Family
DESCRIPTION:Karen\, Jerry\, Caspar & Brooke Wagner \n2622 Wawona Dr. \nSanta Rosa\, CA 95405 \noldmawagner@gmail.com \n707-528-8197
URL:https://www.californiaalpineclub.org/events/echo-co-hosted-wagner-family/
LOCATION:Echo Summit Lodge\, 9010 Johnson Pass Rd\, Twin Bridges\, CA\, 95721\, United States
CATEGORIES:Echo Summit Lodge Events
END:VEVENT
BEGIN:VEVENT
DTSTART;TZID=America/Los_Angeles:20190307T080000
DTEND;TZID=America/Los_Angeles:20190311T170000
DTSTAMP:20260424T002825
CREATED:20190303T181739Z
LAST-MODIFIED:20190303T181756Z
UID:18364-1551945600-1552323600@www.californiaalpineclub.org
SUMMARY:Echo: Serious Ski/Snowboard Wknd
DESCRIPTION:Jay Gosuico\, Mark Cooper & Jay Gustafson \n3028 Handel Way\, Sacramento\, CA  95826 \noutsidejay@gmail.com \n916-710-3390
URL:https://www.californiaalpineclub.org/events/echo-serious-ski-snowboard-wknd-2/
LOCATION:Echo Summit Lodge\, 9010 Johnson Pass Rd\, Twin Bridges\, CA\, 95721\, United States
CATEGORIES:Echo Summit Lodge Events
END:VEVENT
BEGIN:VEVENT
DTSTART;TZID=America/Los_Angeles:20190301T120000
DTEND;TZID=America/Los_Angeles:20190303T120000
DTSTAMP:20260424T002825
CREATED:20181116T161107Z
LAST-MODIFIED:20190303T181431Z
UID:17418-1551441600-1551614400@www.californiaalpineclub.org
SUMMARY:Echo:  Music on the Mountain - Hunter and Lori
DESCRIPTION:COOP MEALS \nCome up to Echo Friday or Saturday to sing and play music and enjoy the company of members and friends! Bring an instrument if you have one\, or borrow a guitar and sing a tune with us! Co-op meals (Hosts will buy food\, expect cooks to step up for prep) and kids will be welcomed. CAUTION: it may be noisy! \nHunter & Lori Merritt \n1217 El Encanto Way\, Sacramento\, CA  95831 \nmerritt.hunter@gmail.com \n916-873-6253
URL:https://www.californiaalpineclub.org/events/echo-music-on-the-mountain/
LOCATION:Echo Summit Lodge\, 9010 Johnson Pass Rd\, Twin Bridges\, CA\, 95721\, United States
CATEGORIES:Echo Summit Lodge Events
END:VEVENT
BEGIN:VEVENT
DTSTART;TZID=America/Los_Angeles:20190222T120000
DTEND;TZID=America/Los_Angeles:20190225T120000
DTSTAMP:20260424T002825
CREATED:20181219T175451Z
LAST-MODIFIED:20181219T175451Z
UID:17744-1550836800-1551096000@www.californiaalpineclub.org
SUMMARY:Echo: Family Ski WKND - Coop Meals - Eliah
DESCRIPTION:Eliah Gilfenbaum \n747 61st St. \nOakland\, CA 94609 \neliahg@gmail.com \n202-679-0765 \n 
URL:https://www.californiaalpineclub.org/events/echo-family-ski-wknd-coop-meals-eliah/
LOCATION:Echo Summit Lodge\, 9010 Johnson Pass Rd\, Twin Bridges\, CA\, 95721\, United States
CATEGORIES:Echo Summit Lodge Events
END:VEVENT
BEGIN:VEVENT
DTSTART;TZID=America/Los_Angeles:20190217T120000
DTEND;TZID=America/Los_Angeles:20190222T120000
DTSTAMP:20260424T002825
CREATED:20181116T160102Z
LAST-MODIFIED:20181116T160102Z
UID:17416-1550404800-1550836800@www.californiaalpineclub.org
SUMMARY:Echo: Coop Meals - Amy & Chris
DESCRIPTION:Amy Pertschuk & Chris Krueger \n45 Plymouth Ave \nMill Valley\, CA 94941 \namy@kpwest.com \n415-686-5990
URL:https://www.californiaalpineclub.org/events/echo-coop-meals-amy-chris/
LOCATION:Echo Summit Lodge\, 9010 Johnson Pass Rd\, Twin Bridges\, CA\, 95721\, United States
CATEGORIES:Echo Summit Lodge Events
END:VEVENT
BEGIN:VEVENT
DTSTART;TZID=America/Los_Angeles:20190215T120000
DTEND;TZID=America/Los_Angeles:20190217T120000
DTSTAMP:20260424T002825
CREATED:20190201T003149Z
LAST-MODIFIED:20190201T003149Z
UID:18098-1550232000-1550404800@www.californiaalpineclub.org
SUMMARY:Echo: Hosted Event - Edie
DESCRIPTION:Edie Nelson \n177 Mark Twain Ave \nSan Rafael\, CA 94903 \nedieforsyth@hotmail.com \n831-331-1754
URL:https://www.californiaalpineclub.org/events/echo-hosted-event-edie-2/
LOCATION:Echo Summit Lodge\, 9010 Johnson Pass Rd\, Twin Bridges\, CA\, 95721\, United States
CATEGORIES:Echo Summit Lodge Events
END:VEVENT
BEGIN:VEVENT
DTSTART;TZID=America/Los_Angeles:20190210T120000
DTEND;TZID=America/Los_Angeles:20190215T120000
DTSTAMP:20260424T002825
CREATED:20181219T174902Z
LAST-MODIFIED:20181219T174902Z
UID:17742-1549800000-1550232000@www.californiaalpineclub.org
SUMMARY:Echo: Hosted Event - Nick & Anita
DESCRIPTION:Nick Gregoratos  & Anita Cabrera \n430 Ellsworth St. \nSan Francisco\, CA 94110 \nnickgregoratos@gmail.com \n510-919-6883
URL:https://www.californiaalpineclub.org/events/echo-hosted-event-nick-anita/
LOCATION:Echo Summit Lodge\, 9010 Johnson Pass Rd\, Twin Bridges\, CA\, 95721\, United States
CATEGORIES:Echo Summit Lodge Events
END:VEVENT
BEGIN:VEVENT
DTSTART;TZID=America/Los_Angeles:20190208T120000
DTEND;TZID=America/Los_Angeles:20190210T120000
DTSTAMP:20260424T002825
CREATED:20181116T155615Z
LAST-MODIFIED:20181116T155615Z
UID:17414-1549627200-1549800000@www.californiaalpineclub.org
SUMMARY:Echo: Family Snow Play WKND
DESCRIPTION:Craig Anderson \n9635 Appalachian Dr. \nSacramento\, CA 95827 \nCranders1@gmail.com \n928-607-3608
URL:https://www.californiaalpineclub.org/events/echo-family-snow-play-wknd/
LOCATION:Echo Summit Lodge\, 9010 Johnson Pass Rd\, Twin Bridges\, CA\, 95721\, United States
CATEGORIES:Echo Summit Lodge Events
END:VEVENT
BEGIN:VEVENT
DTSTART;TZID=America/Los_Angeles:20190203T120000
DTEND;TZID=America/Los_Angeles:20190207T120000
DTSTAMP:20260424T002825
CREATED:20180831T194546Z
LAST-MODIFIED:20180831T194546Z
UID:16762-1549195200-1549540800@www.californiaalpineclub.org
SUMMARY:Echo:  Private Event
DESCRIPTION:Kate Twain \nktwain@vom.com \n707-694-9130
URL:https://www.californiaalpineclub.org/events/echo-private-event-13/
LOCATION:Echo Summit Lodge\, 9010 Johnson Pass Rd\, Twin Bridges\, CA\, 95721\, United States
CATEGORIES:Echo Summit Lodge Events
END:VEVENT
BEGIN:VEVENT
DTSTART;TZID=America/Los_Angeles:20190131T120000
DTEND;TZID=America/Los_Angeles:20190203T120000
DTSTAMP:20260424T002825
CREATED:20181219T174404Z
LAST-MODIFIED:20181219T174404Z
UID:17738-1548936000-1549195200@www.californiaalpineclub.org
SUMMARY:Echo: Hosted Event - Laura & Ken
DESCRIPTION:Laura and Ken Patera \n1312 Coloma Way \nW00dland\, CA 95695 \nlaura.patera@yahoo.com \n530-315-6101
URL:https://www.californiaalpineclub.org/events/echo-hosted-event-laura-ken/
LOCATION:Echo Summit Lodge\, 9010 Johnson Pass Rd\, Twin Bridges\, CA\, 95721\, United States
CATEGORIES:Echo Summit Lodge Events
END:VEVENT
BEGIN:VEVENT
DTSTART;TZID=America/Los_Angeles:20190123T080000
DTEND;TZID=America/Los_Angeles:20190129T170000
DTSTAMP:20260424T002825
CREATED:20181116T030034Z
LAST-MODIFIED:20181116T030034Z
UID:17411-1548230400-1548781200@www.californiaalpineclub.org
SUMMARY:Echo:  Hosted Winter Retreat - Mary
DESCRIPTION:Mary Larkin-Berlinski \nPO Box 776 \nMoss Landing\, CA 95039 \nmlarkin804@sbcglobal.net \n831-345-6963
URL:https://www.californiaalpineclub.org/events/echo-hosted-winter-retreat-mary/
LOCATION:Echo Summit Lodge\, 9010 Johnson Pass Rd\, Twin Bridges\, CA\, 95721\, United States
CATEGORIES:Echo Summit Lodge Events
END:VEVENT
BEGIN:VEVENT
DTSTART;TZID=America/Los_Angeles:20190117T120000
DTEND;TZID=America/Los_Angeles:20190121T120000
DTSTAMP:20260424T002825
CREATED:20181116T025706Z
LAST-MODIFIED:20181116T025706Z
UID:17409-1547726400-1548072000@www.californiaalpineclub.org
SUMMARY:Echo: Serious Ski/Snowboard WKND
DESCRIPTION:Jay Gosuico\, Mark Cooper & Gustafson \n3028 Handel Way \nSacramento\, CA 95826 \noutsidejay@gmail.com \n916-710-3390
URL:https://www.californiaalpineclub.org/events/echo-serious-ski-snowboard-wknd/
LOCATION:Echo Summit Lodge\, 9010 Johnson Pass Rd\, Twin Bridges\, CA\, 95721\, United States
CATEGORIES:Echo Summit Lodge Events
END:VEVENT
BEGIN:VEVENT
DTSTART;TZID=America/Los_Angeles:20190106T120000
DTEND;TZID=America/Los_Angeles:20190113T120000
DTSTAMP:20260424T002825
CREATED:20181116T025100Z
LAST-MODIFIED:20181116T025100Z
UID:17406-1546776000-1547380800@www.californiaalpineclub.org
SUMMARY:Echo: Coop Meals - Bob and Shelly
DESCRIPTION:Shelly Navine and Bob Henry \n1286 Hurlbut Ave \nSebastopol\, CA 95472 \nshelly.navine@gmail.com \n707-829-3728
URL:https://www.californiaalpineclub.org/events/echo-coop-meals-bob-and-shelly/
LOCATION:Echo Summit Lodge\, 9010 Johnson Pass Rd\, Twin Bridges\, CA\, 95721\, United States
CATEGORIES:Echo Summit Lodge Events
END:VEVENT
END:VCALENDAR