BEGIN:VCALENDAR
VERSION:2.0
PRODID:-//California Alpine Club - ECPv6.15.20//NONSGML v1.0//EN
CALSCALE:GREGORIAN
METHOD:PUBLISH
X-ORIGINAL-URL:https://www.californiaalpineclub.org
X-WR-CALDESC:Events for California Alpine Club
REFRESH-INTERVAL;VALUE=DURATION:PT1H
X-Robots-Tag:noindex
X-PUBLISHED-TTL:PT1H
BEGIN:VTIMEZONE
TZID:America/Los_Angeles
BEGIN:DAYLIGHT
TZOFFSETFROM:-0800
TZOFFSETTO:-0700
TZNAME:PDT
DTSTART:20180311T100000
END:DAYLIGHT
BEGIN:STANDARD
TZOFFSETFROM:-0700
TZOFFSETTO:-0800
TZNAME:PST
DTSTART:20181104T090000
END:STANDARD
BEGIN:DAYLIGHT
TZOFFSETFROM:-0800
TZOFFSETTO:-0700
TZNAME:PDT
DTSTART:20190310T100000
END:DAYLIGHT
BEGIN:STANDARD
TZOFFSETFROM:-0700
TZOFFSETTO:-0800
TZNAME:PST
DTSTART:20191103T090000
END:STANDARD
BEGIN:DAYLIGHT
TZOFFSETFROM:-0800
TZOFFSETTO:-0700
TZNAME:PDT
DTSTART:20200308T100000
END:DAYLIGHT
BEGIN:STANDARD
TZOFFSETFROM:-0700
TZOFFSETTO:-0800
TZNAME:PST
DTSTART:20201101T090000
END:STANDARD
BEGIN:DAYLIGHT
TZOFFSETFROM:-0800
TZOFFSETTO:-0700
TZNAME:PDT
DTSTART:20210314T100000
END:DAYLIGHT
BEGIN:STANDARD
TZOFFSETFROM:-0700
TZOFFSETTO:-0800
TZNAME:PST
DTSTART:20211107T090000
END:STANDARD
END:VTIMEZONE
BEGIN:VEVENT
DTSTART;TZID=America/Los_Angeles:20200313T120000
DTEND;TZID=America/Los_Angeles:20200318T120000
DTSTAMP:20260423T185612
CREATED:20191010T191929Z
LAST-MODIFIED:20191010T191929Z
UID:20177-1584100800-1584532800@www.californiaalpineclub.org
SUMMARY:Echo: Hosted Event - Kids & Family Snow Play - Donata
DESCRIPTION:Donata Mikulik \n2037 W. Hearn\, Santa Rosa\, CA  95407 \ndonatabo@hotmail.com \n707-591-3129 \n 
URL:https://www.californiaalpineclub.org/events/echo-hosted-event-kids-family-snow-play-donata/
LOCATION:Echo Summit Lodge\, 9010 Johnson Pass Rd\, Twin Bridges\, CA\, 95721\, United States
CATEGORIES:Echo Summit Lodge Events
END:VEVENT
BEGIN:VEVENT
DTSTART;TZID=America/Los_Angeles:20200303T120000
DTEND;TZID=America/Los_Angeles:20200310T120000
DTSTAMP:20260423T185612
CREATED:20191010T191442Z
LAST-MODIFIED:20191010T191442Z
UID:20175-1583236800-1583841600@www.californiaalpineclub.org
SUMMARY:Echo: Hosted Event - Jay\, Mark & Jay
DESCRIPTION:SERIOUS SKI/SNOWBOARD WKND \nJay Gustafson\, Mark Cooper & Jay Gosuico \n402A Ash St\, Mill Valley\, CA  94941 \njaygustafson@yahoo.com \n415-381-7261
URL:https://www.californiaalpineclub.org/events/echo-hosted-event-jay-mark-jay-2/
LOCATION:Echo Summit Lodge\, 9010 Johnson Pass Rd\, Twin Bridges\, CA\, 95721\, United States
CATEGORIES:Echo Summit Lodge Events
END:VEVENT
BEGIN:VEVENT
DTSTART;TZID=America/Los_Angeles:20200223T120000
DTEND;TZID=America/Los_Angeles:20200301T120000
DTSTAMP:20260423T185612
CREATED:20191031T160110Z
LAST-MODIFIED:20191031T160110Z
UID:20335-1582459200-1583064000@www.californiaalpineclub.org
SUMMARY:Echo: Coop Meals - Shelly & Bob
DESCRIPTION:Shelly Navine & Bob Henry \n1286 Hurlbut Ave\, Sebastopol\, CA  95472 \nshelly.navine@gmail.com \n707-217-7600
URL:https://www.californiaalpineclub.org/events/echo-coop-meals-shelly-bob/
LOCATION:Echo Summit Lodge\, 9010 Johnson Pass Rd\, Twin Bridges\, CA\, 95721\, United States
CATEGORIES:Echo Summit Lodge Events
END:VEVENT
BEGIN:VEVENT
DTSTART;TZID=America/Los_Angeles:20200219T120000
DTEND;TZID=America/Los_Angeles:20200223T120000
DTSTAMP:20260423T185612
CREATED:20191010T191058Z
LAST-MODIFIED:20191010T191058Z
UID:20173-1582113600-1582459200@www.californiaalpineclub.org
SUMMARY:Echo: Hosted Event - Eliah
DESCRIPTION:Eliah Gilfenbaum \n747 61st St\, Oakland\, CA  94609 \neliahg@gmail.com \n202-679-0765
URL:https://www.californiaalpineclub.org/events/echo-hosted-event-eliah/
LOCATION:Echo Summit Lodge\, 9010 Johnson Pass Rd\, Twin Bridges\, CA\, 95721\, United States
CATEGORIES:Echo Summit Lodge Events
END:VEVENT
BEGIN:VEVENT
DTSTART;TZID=America/Los_Angeles:20200213T120000
DTEND;TZID=America/Los_Angeles:20200219T120000
DTSTAMP:20260423T185612
CREATED:20190905T221338Z
LAST-MODIFIED:20200201T220858Z
UID:19961-1581595200-1582113600@www.californiaalpineclub.org
SUMMARY:Echo: Hosted Event - Patty & Chris
DESCRIPTION:Patty & Chris Dunhill \n452 Griffin Ave\, Pacifica\, CA  94044 \npattyzdunhill@yahoo.com \n650 537-7646
URL:https://www.californiaalpineclub.org/events/echo-hosted-event-patty-chris/
LOCATION:Echo Summit Lodge\, 9010 Johnson Pass Rd\, Twin Bridges\, CA\, 95721\, United States
CATEGORIES:Echo Summit Lodge Events
END:VEVENT
BEGIN:VEVENT
DTSTART;TZID=America/Los_Angeles:20200204T120000
DTEND;TZID=America/Los_Angeles:20200211T120000
DTSTAMP:20260423T185612
CREATED:20191211T212433Z
LAST-MODIFIED:20191211T212433Z
UID:20716-1580817600-1581422400@www.californiaalpineclub.org
SUMMARY:Echo: Hosted Event - Nick
DESCRIPTION:Nick Gregoratos \n510-919-6883 \n430 Ellsworth St\, San Francisco\, CA  94110 \nnick.gregoratos@gmail.com
URL:https://www.californiaalpineclub.org/events/echo-hosted-event-nick-2/
LOCATION:Echo Summit Lodge\, 9010 Johnson Pass Rd\, Twin Bridges\, CA\, 95721\, United States
CATEGORIES:Echo Summit Lodge Events
END:VEVENT
BEGIN:VEVENT
DTSTART;TZID=America/Los_Angeles:20200131T120000
DTEND;TZID=America/Los_Angeles:20200204T120000
DTSTAMP:20260423T185612
CREATED:20191031T155631Z
LAST-MODIFIED:20200201T220740Z
UID:20333-1580472000-1580817600@www.californiaalpineclub.org
SUMMARY:Echo:  Hosted Event - Scott
DESCRIPTION:Families\, backcountry skiers\, vegetarians\, and all are welcome \nScott Stoller \n210 Fairlawn Dr\, Berkeley\, CA  94708 \nscott@wholehealing.net \n510-725-0159 \n 
URL:https://www.californiaalpineclub.org/events/echo-hosted-event-scott/
LOCATION:Echo Summit Lodge\, 9010 Johnson Pass Rd\, Twin Bridges\, CA\, 95721\, United States
CATEGORIES:Echo Summit Lodge Events
END:VEVENT
BEGIN:VEVENT
DTSTART;TZID=America/Los_Angeles:20200126T120000
DTEND;TZID=America/Los_Angeles:20200131T120000
DTSTAMP:20260423T185612
CREATED:20190905T221031Z
LAST-MODIFIED:20191031T155254Z
UID:19959-1580040000-1580472000@www.californiaalpineclub.org
SUMMARY:Echo - Private Event
DESCRIPTION:Kate Twain \n707-694-9130 \nktwain@vom.com
URL:https://www.californiaalpineclub.org/events/echo-private-event-28/
LOCATION:Echo Summit Lodge\, 9010 Johnson Pass Rd\, Twin Bridges\, CA\, 95721\, United States
CATEGORIES:Echo Summit Lodge Events
END:VEVENT
BEGIN:VEVENT
DTSTART;TZID=America/Los_Angeles:20200121T120000
DTEND;TZID=America/Los_Angeles:20200126T120000
DTSTAMP:20260423T185612
CREATED:20190905T220549Z
LAST-MODIFIED:20190905T220738Z
UID:19956-1579608000-1580040000@www.californiaalpineclub.org
SUMMARY:Echo: Hosted Winter Retreat - Mary
DESCRIPTION:Mary Larkin-Berlinski \nP.O. Box 776\,  Moss Landing\, CA  95039 \nmlarkin804@sbcglobal.net \n831-345-6963
URL:https://www.californiaalpineclub.org/events/echo-hosted-winter-retreat/
LOCATION:Echo Summit Lodge\, 9010 Johnson Pass Rd\, Twin Bridges\, CA\, 95721\, United States
CATEGORIES:Echo Summit Lodge Events
END:VEVENT
BEGIN:VEVENT
DTSTART;TZID=America/Los_Angeles:20200117T120000
DTEND;TZID=America/Los_Angeles:20200120T120000
DTSTAMP:20260423T185612
CREATED:20190905T220204Z
LAST-MODIFIED:20190905T220204Z
UID:19954-1579262400-1579521600@www.californiaalpineclub.org
SUMMARY:Echo: Hosted Event - Chris & Patty
DESCRIPTION:Patty & Chris Dunhill \n452 Griffin Ave\, Pacifica\, CA  94044 \npattyzdunhill@yahoo.com \n650 537-7646
URL:https://www.californiaalpineclub.org/events/echo-hosted-event-chris-patty/
LOCATION:Echo Summit Lodge\, 9010 Johnson Pass Rd\, Twin Bridges\, CA\, 95721\, United States
CATEGORIES:Echo Summit Lodge Events
END:VEVENT
BEGIN:VEVENT
DTSTART;TZID=America/Los_Angeles:20200110T120000
DTEND;TZID=America/Los_Angeles:20200112T120000
DTSTAMP:20260423T185612
CREATED:20191031T154802Z
LAST-MODIFIED:20191031T154802Z
UID:20331-1578657600-1578830400@www.californiaalpineclub.org
SUMMARY:Echo: Family Ski Wknd - Hunter
DESCRIPTION:Hunter Merritt \n1217 El Encanto Way\, Sacramento\, CA 95831 \nmerritt.hunter@gmail.com \n916-873-6253
URL:https://www.californiaalpineclub.org/events/echo-family-ski-wknd-hunter/
LOCATION:Echo Summit Lodge\, 9010 Johnson Pass Rd\, Twin Bridges\, CA\, 95721\, United States
CATEGORIES:Echo Summit Lodge Events
END:VEVENT
BEGIN:VEVENT
DTSTART;TZID=America/Los_Angeles:20200102T120000
DTEND;TZID=America/Los_Angeles:20200107T120000
DTSTAMP:20260423T185612
CREATED:20191010T190323Z
LAST-MODIFIED:20191010T190323Z
UID:20171-1577966400-1578398400@www.californiaalpineclub.org
SUMMARY:Echo: Hosted Event - Jay\, Mark & Jay
DESCRIPTION:SERIOUS SKI/SNOWBOARD WKND \nJay Gustafson\, Mark Cooper & Jay Gosuico \n402A Ash St\, Mill Valley\, CA  94941 \njaygustafson@yahoo.com \n  \n415-381-7261
URL:https://www.californiaalpineclub.org/events/echo-hosted-event-jay-mark-jay/
LOCATION:Echo Summit Lodge\, 9010 Johnson Pass Rd\, Twin Bridges\, CA\, 95721\, United States
CATEGORIES:Echo Summit Lodge Events
END:VEVENT
BEGIN:VEVENT
DTSTART;TZID=America/Los_Angeles:20191228T120000
DTEND;TZID=America/Los_Angeles:20200102T120000
DTSTAMP:20260423T185612
CREATED:20191010T185804Z
LAST-MODIFIED:20191010T185804Z
UID:20169-1577534400-1577966400@www.californiaalpineclub.org
SUMMARY:Echo: Hosted Event - Patty & Chris - Happy New Year!
DESCRIPTION:Patty & Chris Dunhill \n452 Griffin Ave\, Pacifica\, CA  94044 \npattyzdunhill@yahoo.com \n650 537-7646
URL:https://www.californiaalpineclub.org/events/echo-hosted-event-patty-chris-happy-new-year/
LOCATION:Echo Summit Lodge\, 9010 Johnson Pass Rd\, Twin Bridges\, CA\, 95721\, United States
CATEGORIES:Echo Summit Lodge Events
END:VEVENT
BEGIN:VEVENT
DTSTART;TZID=America/Los_Angeles:20191223T120000
DTEND;TZID=America/Los_Angeles:20191227T120000
DTSTAMP:20260423T185612
CREATED:20191211T212027Z
LAST-MODIFIED:20191211T212027Z
UID:20714-1577102400-1577448000@www.californiaalpineclub.org
SUMMARY:Echo: Hosted Holiday Time - Kathleen & Art
DESCRIPTION:Kathleen O’Dea & Art Ewart \n415-246-6441 \n2360 Dominic Dr\, Novato\, CA  94947 \nkathleensodea@gmail.com
URL:https://www.californiaalpineclub.org/events/echo-hosted-holiday-time-kathleen-art/
LOCATION:Echo Summit Lodge\, 9010 Johnson Pass Rd\, Twin Bridges\, CA\, 95721\, United States
CATEGORIES:Echo Summit Lodge Events
END:VEVENT
BEGIN:VEVENT
DTSTART;TZID=America/Los_Angeles:20191216T120000
DTEND;TZID=America/Los_Angeles:20191219T120000
DTSTAMP:20260423T185612
CREATED:20191211T211725Z
LAST-MODIFIED:20191211T211725Z
UID:20712-1576497600-1576756800@www.californiaalpineclub.org
SUMMARY:Echo: Hosted Event - Joel
DESCRIPTION:Joel Blackwell \n916-277-4884 \n147 Buena Vista Ave\, Corte Madera\, CA  94925 \ngrassrootsguy@joelblackwell.com
URL:https://www.californiaalpineclub.org/events/echo-hosted-event-joel/
LOCATION:Echo Summit Lodge\, 9010 Johnson Pass Rd\, Twin Bridges\, CA\, 95721\, United States
CATEGORIES:Echo Summit Lodge Events
END:VEVENT
BEGIN:VEVENT
DTSTART;TZID=America/Los_Angeles:20191213T120000
DTEND;TZID=America/Los_Angeles:20191216T120000
DTSTAMP:20260423T185612
CREATED:20191031T154125Z
LAST-MODIFIED:20191031T154125Z
UID:20328-1576238400-1576497600@www.californiaalpineclub.org
SUMMARY:Echo:  Hosted Event - Brooke & Casper
DESCRIPTION:Brooke & Caspar Wagner \n1132 Foothill St\, Redwood City\, CA  94061 \nbrookelwagner@gmail.com \n831-227-7770
URL:https://www.californiaalpineclub.org/events/echo-hosted-event-brooke-casper/
LOCATION:Echo Summit Lodge\, 9010 Johnson Pass Rd\, Twin Bridges\, CA\, 95721\, United States
CATEGORIES:Echo Summit Lodge Events
END:VEVENT
BEGIN:VEVENT
DTSTART;TZID=America/Los_Angeles:20191128T120000
DTEND;TZID=America/Los_Angeles:20191201T120000
DTSTAMP:20260423T185612
CREATED:20191031T153649Z
LAST-MODIFIED:20191031T153649Z
UID:20326-1574942400-1575201600@www.californiaalpineclub.org
SUMMARY:Echo:  Thanksgiving - Jay & Mary
DESCRIPTION:Mary Cosgrove & Jay Gustafson \n402A Ash St\, Mill Valley\, CA 94941 \nwilddoveis@gmail.com \n415-381-7261
URL:https://www.californiaalpineclub.org/events/echo-thanksgiving-jay-mary/
LOCATION:Echo Summit Lodge\, 9010 Johnson Pass Rd\, Twin Bridges\, CA\, 95721\, United States
CATEGORIES:Echo Summit Lodge Events
END:VEVENT
BEGIN:VEVENT
DTSTART;TZID=America/Los_Angeles:20191115T120000
DTEND;TZID=America/Los_Angeles:20191117T120000
DTSTAMP:20260423T185612
CREATED:20190530T190841Z
LAST-MODIFIED:20190530T190841Z
UID:19149-1573819200-1573992000@www.californiaalpineclub.org
SUMMARY:Echo: Basic First Aid/CPR
DESCRIPTION:Active trained hosts are first priority.  Cost = $75 for the class\, lodging and meals Fri dinner through Sun breakfast.  Minimum number of students is 16.  No refunds for cancellations after Sept. 30th.  To reserve a space\, contact: \nCindy Toran \n707-321-3262 \ncktoran@gmail.com
URL:https://www.californiaalpineclub.org/events/echo-basic-first-aid-cpr/
LOCATION:Echo Summit Lodge\, 9010 Johnson Pass Rd\, Twin Bridges\, CA\, 95721\, United States
CATEGORIES:Echo Summit Lodge Events
END:VEVENT
BEGIN:VEVENT
DTSTART;TZID=America/Los_Angeles:20191108T120000
DTEND;TZID=America/Los_Angeles:20191111T120000
DTSTAMP:20260423T185612
CREATED:20190905T215648Z
LAST-MODIFIED:20190905T215648Z
UID:19952-1573214400-1573473600@www.californiaalpineclub.org
SUMMARY:Echo: Private Event
DESCRIPTION:Lynn Garric \n707-756-2639 \ncransac@sonic.net
URL:https://www.californiaalpineclub.org/events/echo-private-event-27/
LOCATION:Echo Summit Lodge\, 9010 Johnson Pass Rd\, Twin Bridges\, CA\, 95721\, United States
CATEGORIES:Echo Summit Lodge Events
END:VEVENT
BEGIN:VEVENT
DTSTART;TZID=America/Los_Angeles:20191101T120000
DTEND;TZID=America/Los_Angeles:20191103T120000
DTSTAMP:20260423T185612
CREATED:20190905T215349Z
LAST-MODIFIED:20190905T215349Z
UID:19950-1572609600-1572782400@www.californiaalpineclub.org
SUMMARY:Echo: Private Event
DESCRIPTION:Kristina & Ben Gale \n415-717-3894 \nkrissegale@yahoo.com
URL:https://www.californiaalpineclub.org/events/echo-private-event-26/
LOCATION:Echo Summit Lodge\, 9010 Johnson Pass Rd\, Twin Bridges\, CA\, 95721\, United States
CATEGORIES:Echo Summit Lodge Events
END:VEVENT
BEGIN:VEVENT
DTSTART;TZID=America/Los_Angeles:20191029T120000
DTEND;TZID=America/Los_Angeles:20191031T120000
DTSTAMP:20260423T185612
CREATED:20190503T215219Z
LAST-MODIFIED:20190503T215219Z
UID:18941-1572350400-1572523200@www.californiaalpineclub.org
SUMMARY:Echo: Private Event
DESCRIPTION:Becky Sterling-Fay \n415-246-8428 \nbeckysf@comcast.net
URL:https://www.californiaalpineclub.org/events/echo-private-event-24/
LOCATION:Echo Summit Lodge\, 9010 Johnson Pass Rd\, Twin Bridges\, CA\, 95721\, United States
CATEGORIES:Echo Summit Lodge Events
END:VEVENT
BEGIN:VEVENT
DTSTART;TZID=America/Los_Angeles:20191020T120000
DTEND;TZID=America/Los_Angeles:20191027T120000
DTSTAMP:20260423T185612
CREATED:20190503T215036Z
LAST-MODIFIED:20190503T215036Z
UID:18939-1571572800-1572177600@www.californiaalpineclub.org
SUMMARY:Echo: Fall Color Hikes - Sandy & Jo
DESCRIPTION:Sandy Finegan & Jo Wolf \n2136 Broderick St Apt 12\, San Francisco\, CA  94115 \nsandyfinegan@me.com \n415-845-4695
URL:https://www.californiaalpineclub.org/events/echo-fall-color-hikes-sandy-jo/
LOCATION:Echo Summit Lodge\, 9010 Johnson Pass Rd\, Twin Bridges\, CA\, 95721\, United States
CATEGORIES:Echo Summit Lodge Events
END:VEVENT
BEGIN:VEVENT
DTSTART;TZID=America/Los_Angeles:20191017T120000
DTEND;TZID=America/Los_Angeles:20191020T120000
DTSTAMP:20260423T185612
CREATED:20190503T214831Z
LAST-MODIFIED:20190503T214831Z
UID:18937-1571313600-1571572800@www.californiaalpineclub.org
SUMMARY:Echo: Private Event
DESCRIPTION:Mary Larkin-Berlinski \n831-345-6963 \nmlarkin804@sbcglobal.net
URL:https://www.californiaalpineclub.org/events/echo-private-event-23/
LOCATION:Echo Summit Lodge\, 9010 Johnson Pass Rd\, Twin Bridges\, CA\, 95721\, United States
CATEGORIES:Echo Summit Lodge Events
END:VEVENT
BEGIN:VEVENT
DTSTART;TZID=America/Los_Angeles:20191010T120000
DTEND;TZID=America/Los_Angeles:20191013T120000
DTSTAMP:20260423T185612
CREATED:20190503T214630Z
LAST-MODIFIED:20190503T214630Z
UID:18935-1570708800-1570968000@www.californiaalpineclub.org
SUMMARY:Echo: Private Event
DESCRIPTION:Nick Gregoratos \n510-919-6883 \nnick.gregoratos@gmail.com
URL:https://www.californiaalpineclub.org/events/echo-private-event-22/
LOCATION:Echo Summit Lodge\, 9010 Johnson Pass Rd\, Twin Bridges\, CA\, 95721\, United States
CATEGORIES:Echo Summit Lodge Events
END:VEVENT
BEGIN:VEVENT
DTSTART;TZID=America/Los_Angeles:20191007T120000
DTEND;TZID=America/Los_Angeles:20191009T120000
DTSTAMP:20260423T185612
CREATED:20190905T215035Z
LAST-MODIFIED:20190905T215035Z
UID:19947-1570449600-1570622400@www.californiaalpineclub.org
SUMMARY:Echo: Private Event
DESCRIPTION:Mary Cosgrove \n415-381-7261 \nwilddoveis@gmail.com
URL:https://www.californiaalpineclub.org/events/echo-private-event-25/
LOCATION:Echo Summit Lodge\, 9010 Johnson Pass Rd\, Twin Bridges\, CA\, 95721\, United States
CATEGORIES:Echo Summit Lodge Events
END:VEVENT
BEGIN:VEVENT
DTSTART;TZID=America/Los_Angeles:20191004T120000
DTEND;TZID=America/Los_Angeles:20191006T120000
DTSTAMP:20260423T185612
CREATED:20190503T214328Z
LAST-MODIFIED:20190503T214328Z
UID:18933-1570190400-1570363200@www.californiaalpineclub.org
SUMMARY:Echo: Trail Clearing WKND
DESCRIPTION:Jerry Schweickert \n925-373-6813 \ngjschweickert@gmail.com
URL:https://www.californiaalpineclub.org/events/echo-trail-clearing-wknd/
LOCATION:Echo Summit Lodge\, 9010 Johnson Pass Rd\, Twin Bridges\, CA\, 95721\, United States
CATEGORIES:Echo Summit Lodge Events
END:VEVENT
BEGIN:VEVENT
DTSTART;TZID=America/Los_Angeles:20190922T120000
DTEND;TZID=America/Los_Angeles:20190929T120000
DTSTAMP:20260423T185612
CREATED:20190503T214042Z
LAST-MODIFIED:20190503T214042Z
UID:18931-1569153600-1569758400@www.californiaalpineclub.org
SUMMARY:Echo: Private Event
DESCRIPTION:John Hills & Jon Burau \n530-400-5267 \neyeski-2@sbcglobal.net
URL:https://www.californiaalpineclub.org/events/echo-private-event-21/
LOCATION:Echo Summit Lodge\, 9010 Johnson Pass Rd\, Twin Bridges\, CA\, 95721\, United States
CATEGORIES:Echo Summit Lodge Events
END:VEVENT
BEGIN:VEVENT
DTSTART;TZID=America/Los_Angeles:20190919T120000
DTEND;TZID=America/Los_Angeles:20190922T120000
DTSTAMP:20260423T185612
CREATED:20190503T213843Z
LAST-MODIFIED:20190503T213843Z
UID:18929-1568894400-1569153600@www.californiaalpineclub.org
SUMMARY:Echo: Fall Work & Fun Party
DESCRIPTION:Contact:  Bob Henry \n707-217-7601 \nclyde33301@comcast.net
URL:https://www.californiaalpineclub.org/events/echo-fall-work-fun-party-2/
LOCATION:Echo Summit Lodge\, 9010 Johnson Pass Rd\, Twin Bridges\, CA\, 95721\, United States
CATEGORIES:Echo Summit Lodge Events
END:VEVENT
BEGIN:VEVENT
DTSTART;TZID=America/Los_Angeles:20190913T120000
DTEND;TZID=America/Los_Angeles:20190915T120000
DTSTAMP:20260423T185612
CREATED:20190503T213527Z
LAST-MODIFIED:20190503T213527Z
UID:18927-1568376000-1568548800@www.californiaalpineclub.org
SUMMARY:Echo: Host Appreciation & Training
DESCRIPTION:  \nCindy Toran \n707-321-3262 \ncktoran@gmail.com
URL:https://www.californiaalpineclub.org/events/echo-host-appreciation-training-8/
LOCATION:Echo Summit Lodge\, 9010 Johnson Pass Rd\, Twin Bridges\, CA\, 95721\, United States
CATEGORIES:Echo Summit Lodge Events
END:VEVENT
BEGIN:VEVENT
DTSTART;TZID=America/Los_Angeles:20190906T120000
DTEND;TZID=America/Los_Angeles:20190910T120000
DTSTAMP:20260423T185612
CREATED:20190503T212840Z
LAST-MODIFIED:20190503T212840Z
UID:18925-1567771200-1568116800@www.californiaalpineclub.org
SUMMARY:Echo: Private Event
DESCRIPTION:Emily & John Lockett \n707-576-0948 \nauntem@sonic.net
URL:https://www.californiaalpineclub.org/events/echo-private-event-20/
LOCATION:Echo Summit Lodge\, 9010 Johnson Pass Rd\, Twin Bridges\, CA\, 95721\, United States
CATEGORIES:Echo Summit Lodge Events
END:VEVENT
END:VCALENDAR