BEGIN:VCALENDAR
VERSION:2.0
PRODID:-//California Alpine Club - ECPv6.15.20//NONSGML v1.0//EN
CALSCALE:GREGORIAN
METHOD:PUBLISH
X-WR-CALNAME:California Alpine Club
X-ORIGINAL-URL:https://www.californiaalpineclub.org
X-WR-CALDESC:Events for California Alpine Club
REFRESH-INTERVAL;VALUE=DURATION:PT1H
X-Robots-Tag:noindex
X-PUBLISHED-TTL:PT1H
BEGIN:VTIMEZONE
TZID:America/Los_Angeles
BEGIN:DAYLIGHT
TZOFFSETFROM:-0800
TZOFFSETTO:-0700
TZNAME:PDT
DTSTART:20190310T100000
END:DAYLIGHT
BEGIN:STANDARD
TZOFFSETFROM:-0700
TZOFFSETTO:-0800
TZNAME:PST
DTSTART:20191103T090000
END:STANDARD
BEGIN:DAYLIGHT
TZOFFSETFROM:-0800
TZOFFSETTO:-0700
TZNAME:PDT
DTSTART:20200308T100000
END:DAYLIGHT
BEGIN:STANDARD
TZOFFSETFROM:-0700
TZOFFSETTO:-0800
TZNAME:PST
DTSTART:20201101T090000
END:STANDARD
BEGIN:DAYLIGHT
TZOFFSETFROM:-0800
TZOFFSETTO:-0700
TZNAME:PDT
DTSTART:20210314T100000
END:DAYLIGHT
BEGIN:STANDARD
TZOFFSETFROM:-0700
TZOFFSETTO:-0800
TZNAME:PST
DTSTART:20211107T090000
END:STANDARD
END:VTIMEZONE
BEGIN:VEVENT
DTSTART;TZID=America/Los_Angeles:20200723T120000
DTEND;TZID=America/Los_Angeles:20200726T120000
DTSTAMP:20260423T155702
CREATED:20200501T195338Z
LAST-MODIFIED:20200611T191649Z
UID:21633-1595505600-1595764800@www.californiaalpineclub.org
SUMMARY:Echo: Hosted Event - Lillian\, Genie & Tim - CANCELLED
DESCRIPTION:Lillian Young & Genie and Tim Frye \n3650 Sneath Lane \nSan Bruno\, CA 94066 \nlcyou@sbcglobal.net \n650-588-5689
URL:https://www.californiaalpineclub.org/events/echo-hosted-event-lillian-genie-tim-6/
LOCATION:Echo Summit Lodge\, 9010 Johnson Pass Rd\, Twin Bridges\, CA\, 95721\, United States
CATEGORIES:Echo Summit Lodge Events
END:VEVENT
BEGIN:VEVENT
DTSTART;TZID=America/Los_Angeles:20200720T120000
DTEND;TZID=America/Los_Angeles:20200723T120000
DTSTAMP:20260423T155702
CREATED:20200711T210511Z
LAST-MODIFIED:20200711T210511Z
UID:21866-1595246400-1595505600@www.californiaalpineclub.org
SUMMARY:Echo:  Private Event - Mary Ann & Gayle
DESCRIPTION:Mary Ann Bernard & Gayle Abbott \n510-908-4858 \nmary_ann_bernard@hotmail.com
URL:https://www.californiaalpineclub.org/events/echo-private-event-mary-ann-gayle/
LOCATION:Echo Summit Lodge\, 9010 Johnson Pass Rd\, Twin Bridges\, CA\, 95721\, United States
CATEGORIES:Echo Summit Lodge Events
END:VEVENT
BEGIN:VEVENT
DTSTART;TZID=America/Los_Angeles:20200717T120000
DTEND;TZID=America/Los_Angeles:20200719T120000
DTSTAMP:20260423T155702
CREATED:20200711T205920Z
LAST-MODIFIED:20200711T205920Z
UID:21864-1594987200-1595160000@www.californiaalpineclub.org
SUMMARY:Echo:  Private Event - Jayma & Allan
DESCRIPTION:Jayma Brown & Allan Lindberg \n510-237-0231 \njaymabrown@earthlink.net
URL:https://www.californiaalpineclub.org/events/echo-private-event-jayma-allan-2/
LOCATION:Echo Summit Lodge\, 9010 Johnson Pass Rd\, Twin Bridges\, CA\, 95721\, United States
CATEGORIES:Echo Summit Lodge Events
END:VEVENT
BEGIN:VEVENT
DTSTART;TZID=America/Los_Angeles:20200713T120000
DTEND;TZID=America/Los_Angeles:20200716T120000
DTSTAMP:20260423T155702
CREATED:20200711T205450Z
LAST-MODIFIED:20200711T205450Z
UID:21861-1594641600-1594900800@www.californiaalpineclub.org
SUMMARY:Echo:  Private Event - Bob & Shelly
DESCRIPTION:Bob Henry & Shelly Navine \n707-217-7601 \nclyde33301@comcast.net
URL:https://www.californiaalpineclub.org/events/echo-private-event-bob-shelly/
LOCATION:Echo Summit Lodge\, 9010 Johnson Pass Rd\, Twin Bridges\, CA\, 95721\, United States
CATEGORIES:Echo Summit Lodge Events
END:VEVENT
BEGIN:VEVENT
DTSTART;TZID=America/Los_Angeles:20200712T120000
DTEND;TZID=America/Los_Angeles:20200717T120000
DTSTAMP:20260423T155702
CREATED:20200301T000816Z
LAST-MODIFIED:20200711T205637Z
UID:21340-1594555200-1594987200@www.californiaalpineclub.org
SUMMARY:Echo:  Hosted Event - Edie & Diane - Cancelled
DESCRIPTION:Edie Nelson & Diane Friend \n831-331-1754 \n177 Mark Twain Ave\, San Rafael\, CA  94903 \nedieforsyth@hotmail.com
URL:https://www.californiaalpineclub.org/events/echo-hosted-event-edie-diane-2/
LOCATION:Echo Summit Lodge\, 9010 Johnson Pass Rd\, Twin Bridges\, CA\, 95721\, United States
CATEGORIES:Echo Summit Lodge Events
END:VEVENT
BEGIN:VEVENT
DTSTART;TZID=America/Los_Angeles:20200708T120000
DTEND;TZID=America/Los_Angeles:20200711T120000
DTSTAMP:20260423T155702
CREATED:20200711T205110Z
LAST-MODIFIED:20200711T205110Z
UID:21859-1594209600-1594468800@www.californiaalpineclub.org
SUMMARY:Echo:  Private Event - Nick
DESCRIPTION:Nick Gregoratos \n510-919-6883 \nnick.gregoratos@gmail.com
URL:https://www.californiaalpineclub.org/events/echo-private-event-nick-2/
LOCATION:Echo Summit Lodge\, 9010 Johnson Pass Rd\, Twin Bridges\, CA\, 95721\, United States
CATEGORIES:Echo Summit Lodge Events
END:VEVENT
BEGIN:VEVENT
DTSTART;TZID=America/Los_Angeles:20200706T120000
DTEND;TZID=America/Los_Angeles:20200710T120000
DTSTAMP:20260423T155702
CREATED:20200501T194937Z
LAST-MODIFIED:20200611T191331Z
UID:21631-1594036800-1594382400@www.californiaalpineclub.org
SUMMARY:Echo:  Coop Meals - Jan & Jim -CANCELLED
DESCRIPTION:Jan McCulloch & Jim Nixon \n50 Seacrest Ct. \nDaly Cith\, CA 94015 \n650-922-6082 \njanmariemcculloch@gmail.com
URL:https://www.californiaalpineclub.org/events/echo-coop-meals-jan-jim-4/
LOCATION:Echo Summit Lodge\, 9010 Johnson Pass Rd\, Twin Bridges\, CA\, 95721\, United States
CATEGORIES:Echo Summit Lodge Events
END:VEVENT
BEGIN:VEVENT
DTSTART;TZID=America/Los_Angeles:20200701T120000
DTEND;TZID=America/Los_Angeles:20200706T120000
DTSTAMP:20260423T155702
CREATED:20200301T000429Z
LAST-MODIFIED:20200301T000429Z
UID:21337-1593604800-1594036800@www.californiaalpineclub.org
SUMMARY:Echo: 4th of July - COOP Meals - Tim
DESCRIPTION:Tim Seeley \n707-486-8288 \n11855 Butte Creek Island Rd\, Chico\, CA  95929 \nseeley@sonic.net
URL:https://www.californiaalpineclub.org/events/echo-4th-of-july-coop-meals-tim-2/
LOCATION:Echo Summit Lodge\, 9010 Johnson Pass Rd\, Twin Bridges\, CA\, 95721\, United States
CATEGORIES:Echo Summit Lodge Events
END:VEVENT
BEGIN:VEVENT
DTSTART;TZID=America/Los_Angeles:20200621T120000
DTEND;TZID=America/Los_Angeles:20200628T120000
DTSTAMP:20260423T155702
CREATED:20200301T000048Z
LAST-MODIFIED:20200301T000048Z
UID:21335-1592740800-1593345600@www.californiaalpineclub.org
SUMMARY:Echo: Hosted Event - Jo & John
DESCRIPTION:SPRING WILDFLOWER HIKES \nJo Wolf\, John Newman\, etc \n805-612-0970 \n6256 Clara St\, Ventura\, CA  93003 \nwolfjo@sbcglobal.net
URL:https://www.californiaalpineclub.org/events/echo-hosted-event-jo-john/
LOCATION:Echo Summit Lodge\, 9010 Johnson Pass Rd\, Twin Bridges\, CA\, 95721\, United States
CATEGORIES:Echo Summit Lodge Events
END:VEVENT
BEGIN:VEVENT
DTSTART;VALUE=DATE:20200616
DTEND;VALUE=DATE:20200622
DTSTAMP:20260423T155702
CREATED:20200229T235709Z
LAST-MODIFIED:20200430T215410Z
UID:21333-1592265600-1592783999@www.californiaalpineclub.org
SUMMARY:Echo: Hosted Event - Richard
DESCRIPTION:Richard Thornton \n510-918-9001 \n317 Paloma Ave\, San Rafael\, CA  94901 \nRGThorn@pacbell.net
URL:https://www.californiaalpineclub.org/events/echo-hosted-event-richard-5/
LOCATION:Echo Summit Lodge\, 9010 Johnson Pass Rd\, Twin Bridges\, CA\, 95721\, United States
CATEGORIES:Echo Summit Lodge Events
END:VEVENT
BEGIN:VEVENT
DTSTART;TZID=America/Los_Angeles:20200610T120000
DTEND;TZID=America/Los_Angeles:20200614T120000
DTSTAMP:20260423T155702
CREATED:20200229T235346Z
LAST-MODIFIED:20200430T215152Z
UID:21331-1591790400-1592136000@www.californiaalpineclub.org
SUMMARY:CANCELLED:  Echo: Conservation Benefit & Birding - COOP Meals
DESCRIPTION:Karen & Jerry Wagner \n707-528-8197 \n2622 Wawona Dr\, Santa Rosa\, CA  95405 \noldmawagner@gmail.com
URL:https://www.californiaalpineclub.org/events/echo-conservation-benefit-birding-coop-meals/
LOCATION:Echo Summit Lodge\, 9010 Johnson Pass Rd\, Twin Bridges\, CA\, 95721\, United States
CATEGORIES:Echo Summit Lodge Events
END:VEVENT
BEGIN:VEVENT
DTSTART;TZID=America/Los_Angeles:20200607T120000
DTEND;TZID=America/Los_Angeles:20200610T120000
DTSTAMP:20260423T155702
CREATED:20200229T235031Z
LAST-MODIFIED:20200430T215125Z
UID:21328-1591531200-1591790400@www.californiaalpineclub.org
SUMMARY:CANCELLED: Echo: Hosted Event - Edna
DESCRIPTION:Edna Trimm \n703-304-5197 \nPO Box 407\, Vienna\, VA 22183 \nednatrimm@gmail.com
URL:https://www.californiaalpineclub.org/events/echo-hosted-event-edna/
LOCATION:Echo Summit Lodge\, 9010 Johnson Pass Rd\, Twin Bridges\, CA\, 95721\, United States
CATEGORIES:Echo Summit Lodge Events
END:VEVENT
BEGIN:VEVENT
DTSTART;TZID=America/Los_Angeles:20200605T120000
DTEND;TZID=America/Los_Angeles:20200607T120000
DTSTAMP:20260423T155702
CREATED:20200201T222346Z
LAST-MODIFIED:20200430T215032Z
UID:21136-1591358400-1591531200@www.californiaalpineclub.org
SUMMARY:CANCELLED: Echo: Host Appreciation & Training
DESCRIPTION:  \nCindy Toran \n707-321-3262 \ncktoran@gmail.com
URL:https://www.californiaalpineclub.org/events/echo-host-appreciation-training-9/
LOCATION:Echo Summit Lodge\, 9010 Johnson Pass Rd\, Twin Bridges\, CA\, 95721\, United States
CATEGORIES:Echo Summit Lodge Events
END:VEVENT
BEGIN:VEVENT
DTSTART;TZID=America/Los_Angeles:20200528T120000
DTEND;TZID=America/Los_Angeles:20200531T120000
DTSTAMP:20260423T155702
CREATED:20200201T222108Z
LAST-MODIFIED:20200430T214945Z
UID:21134-1590667200-1590926400@www.californiaalpineclub.org
SUMMARY:CANCELLED/POSTPONED:  Echo: Spring Work & Fun Party
DESCRIPTION:Contact:  Bob Henry \n707-217-7601 \nclyde33301@comcast.net
URL:https://www.californiaalpineclub.org/events/echo-spring-work-fun-party-3/
LOCATION:Echo Summit Lodge\, 9010 Johnson Pass Rd\, Twin Bridges\, CA\, 95721\, United States
CATEGORIES:Echo Summit Lodge Events
END:VEVENT
BEGIN:VEVENT
DTSTART;TZID=America/Los_Angeles:20200508T120000
DTEND;TZID=America/Los_Angeles:20200510T123000
DTSTAMP:20260423T155702
CREATED:20200201T221822Z
LAST-MODIFIED:20200430T214903Z
UID:21132-1588939200-1589113800@www.californiaalpineclub.org
SUMMARY:CANCELLED Echo: Private Event
DESCRIPTION:Craig Anderson \n928-607-3608 \nCranders1@gmail.com
URL:https://www.californiaalpineclub.org/events/echo-private-event-30/
LOCATION:Echo Summit Lodge\, 9010 Johnson Pass Rd\, Twin Bridges\, CA\, 95721\, United States
CATEGORIES:Echo Summit Lodge Events
END:VEVENT
BEGIN:VEVENT
DTSTART;TZID=America/Los_Angeles:20200501T120000
DTEND;TZID=America/Los_Angeles:20200504T120000
DTSTAMP:20260423T155702
CREATED:20200201T221537Z
LAST-MODIFIED:20200430T214757Z
UID:21130-1588334400-1588593600@www.californiaalpineclub.org
SUMMARY:CANCELLED Echo: Private Event
DESCRIPTION:Jerry & Dianne Schweickert \n925-549-4492 \ngjschweickert@gmail.com
URL:https://www.californiaalpineclub.org/events/echo-private-event-29/
LOCATION:Echo Summit Lodge\, 9010 Johnson Pass Rd\, Twin Bridges\, CA\, 95721\, United States
CATEGORIES:Echo Summit Lodge Events
END:VEVENT
BEGIN:VEVENT
DTSTART;TZID=America/Los_Angeles:20200423T120000
DTEND;TZID=America/Los_Angeles:20200426T120000
DTSTAMP:20260423T155702
CREATED:20200229T234319Z
LAST-MODIFIED:20200229T234319Z
UID:21326-1587643200-1587902400@www.californiaalpineclub.org
SUMMARY:Echo: Private Event
DESCRIPTION:Anita Cabrera \n415-722-0237 \naa_cabrera@msn.com
URL:https://www.californiaalpineclub.org/events/echo-private-event-31/
LOCATION:Echo Summit Lodge\, 9010 Johnson Pass Rd\, Twin Bridges\, CA\, 95721\, United States
CATEGORIES:Echo Summit Lodge Events
END:VEVENT
BEGIN:VEVENT
DTSTART;TZID=America/Los_Angeles:20200325T120000
DTEND;TZID=America/Los_Angeles:20200329T120000
DTSTAMP:20260423T155702
CREATED:20191031T160629Z
LAST-MODIFIED:20200317T032229Z
UID:20337-1585137600-1585483200@www.californiaalpineclub.org
SUMMARY:Available for Trained Hosts
DESCRIPTION:
URL:https://www.californiaalpineclub.org/events/echo-hosted-event-brooke-casper-2/
LOCATION:Echo Summit Lodge\, 9010 Johnson Pass Rd\, Twin Bridges\, CA\, 95721\, United States
CATEGORIES:Echo Summit Lodge Events
END:VEVENT
BEGIN:VEVENT
DTSTART;TZID=America/Los_Angeles:20200322T120000
DTEND;TZID=America/Los_Angeles:20200325T120000
DTSTAMP:20260423T155702
CREATED:20191211T213222Z
LAST-MODIFIED:20200317T032146Z
UID:20720-1584878400-1585137600@www.californiaalpineclub.org
SUMMARY:Available for Trained Hosts
DESCRIPTION:
URL:https://www.californiaalpineclub.org/events/echo-hosted-event-martha-lynn/
LOCATION:Echo Summit Lodge\, 9010 Johnson Pass Rd\, Twin Bridges\, CA\, 95721\, United States
CATEGORIES:Echo Summit Lodge Events
END:VEVENT
BEGIN:VEVENT
DTSTART;TZID=America/Los_Angeles:20200319T120000
DTEND;TZID=America/Los_Angeles:20200322T120000
DTSTAMP:20260423T155702
CREATED:20191211T212946Z
LAST-MODIFIED:20200317T032040Z
UID:20718-1584619200-1584878400@www.californiaalpineclub.org
SUMMARY:Available for Trained Hosts
DESCRIPTION:
URL:https://www.californiaalpineclub.org/events/echo-hosted-event-mary-6/
LOCATION:Echo Summit Lodge\, 9010 Johnson Pass Rd\, Twin Bridges\, CA\, 95721\, United States
CATEGORIES:Echo Summit Lodge Events
END:VEVENT
BEGIN:VEVENT
DTSTART;TZID=America/Los_Angeles:20200313T120000
DTEND;TZID=America/Los_Angeles:20200318T120000
DTSTAMP:20260423T155702
CREATED:20191010T191929Z
LAST-MODIFIED:20191010T191929Z
UID:20177-1584100800-1584532800@www.californiaalpineclub.org
SUMMARY:Echo: Hosted Event - Kids & Family Snow Play - Donata
DESCRIPTION:Donata Mikulik \n2037 W. Hearn\, Santa Rosa\, CA  95407 \ndonatabo@hotmail.com \n707-591-3129 \n 
URL:https://www.californiaalpineclub.org/events/echo-hosted-event-kids-family-snow-play-donata/
LOCATION:Echo Summit Lodge\, 9010 Johnson Pass Rd\, Twin Bridges\, CA\, 95721\, United States
CATEGORIES:Echo Summit Lodge Events
END:VEVENT
BEGIN:VEVENT
DTSTART;TZID=America/Los_Angeles:20200303T120000
DTEND;TZID=America/Los_Angeles:20200310T120000
DTSTAMP:20260423T155702
CREATED:20191010T191442Z
LAST-MODIFIED:20191010T191442Z
UID:20175-1583236800-1583841600@www.californiaalpineclub.org
SUMMARY:Echo: Hosted Event - Jay\, Mark & Jay
DESCRIPTION:SERIOUS SKI/SNOWBOARD WKND \nJay Gustafson\, Mark Cooper & Jay Gosuico \n402A Ash St\, Mill Valley\, CA  94941 \njaygustafson@yahoo.com \n415-381-7261
URL:https://www.californiaalpineclub.org/events/echo-hosted-event-jay-mark-jay-2/
LOCATION:Echo Summit Lodge\, 9010 Johnson Pass Rd\, Twin Bridges\, CA\, 95721\, United States
CATEGORIES:Echo Summit Lodge Events
END:VEVENT
BEGIN:VEVENT
DTSTART;TZID=America/Los_Angeles:20200223T120000
DTEND;TZID=America/Los_Angeles:20200301T120000
DTSTAMP:20260423T155702
CREATED:20191031T160110Z
LAST-MODIFIED:20191031T160110Z
UID:20335-1582459200-1583064000@www.californiaalpineclub.org
SUMMARY:Echo: Coop Meals - Shelly & Bob
DESCRIPTION:Shelly Navine & Bob Henry \n1286 Hurlbut Ave\, Sebastopol\, CA  95472 \nshelly.navine@gmail.com \n707-217-7600
URL:https://www.californiaalpineclub.org/events/echo-coop-meals-shelly-bob/
LOCATION:Echo Summit Lodge\, 9010 Johnson Pass Rd\, Twin Bridges\, CA\, 95721\, United States
CATEGORIES:Echo Summit Lodge Events
END:VEVENT
BEGIN:VEVENT
DTSTART;TZID=America/Los_Angeles:20200219T120000
DTEND;TZID=America/Los_Angeles:20200223T120000
DTSTAMP:20260423T155702
CREATED:20191010T191058Z
LAST-MODIFIED:20191010T191058Z
UID:20173-1582113600-1582459200@www.californiaalpineclub.org
SUMMARY:Echo: Hosted Event - Eliah
DESCRIPTION:Eliah Gilfenbaum \n747 61st St\, Oakland\, CA  94609 \neliahg@gmail.com \n202-679-0765
URL:https://www.californiaalpineclub.org/events/echo-hosted-event-eliah/
LOCATION:Echo Summit Lodge\, 9010 Johnson Pass Rd\, Twin Bridges\, CA\, 95721\, United States
CATEGORIES:Echo Summit Lodge Events
END:VEVENT
BEGIN:VEVENT
DTSTART;TZID=America/Los_Angeles:20200213T120000
DTEND;TZID=America/Los_Angeles:20200219T120000
DTSTAMP:20260423T155702
CREATED:20190905T221338Z
LAST-MODIFIED:20200201T220858Z
UID:19961-1581595200-1582113600@www.californiaalpineclub.org
SUMMARY:Echo: Hosted Event - Patty & Chris
DESCRIPTION:Patty & Chris Dunhill \n452 Griffin Ave\, Pacifica\, CA  94044 \npattyzdunhill@yahoo.com \n650 537-7646
URL:https://www.californiaalpineclub.org/events/echo-hosted-event-patty-chris/
LOCATION:Echo Summit Lodge\, 9010 Johnson Pass Rd\, Twin Bridges\, CA\, 95721\, United States
CATEGORIES:Echo Summit Lodge Events
END:VEVENT
BEGIN:VEVENT
DTSTART;TZID=America/Los_Angeles:20200204T120000
DTEND;TZID=America/Los_Angeles:20200211T120000
DTSTAMP:20260423T155702
CREATED:20191211T212433Z
LAST-MODIFIED:20191211T212433Z
UID:20716-1580817600-1581422400@www.californiaalpineclub.org
SUMMARY:Echo: Hosted Event - Nick
DESCRIPTION:Nick Gregoratos \n510-919-6883 \n430 Ellsworth St\, San Francisco\, CA  94110 \nnick.gregoratos@gmail.com
URL:https://www.californiaalpineclub.org/events/echo-hosted-event-nick-2/
LOCATION:Echo Summit Lodge\, 9010 Johnson Pass Rd\, Twin Bridges\, CA\, 95721\, United States
CATEGORIES:Echo Summit Lodge Events
END:VEVENT
BEGIN:VEVENT
DTSTART;TZID=America/Los_Angeles:20200131T120000
DTEND;TZID=America/Los_Angeles:20200204T120000
DTSTAMP:20260423T155702
CREATED:20191031T155631Z
LAST-MODIFIED:20200201T220740Z
UID:20333-1580472000-1580817600@www.californiaalpineclub.org
SUMMARY:Echo:  Hosted Event - Scott
DESCRIPTION:Families\, backcountry skiers\, vegetarians\, and all are welcome \nScott Stoller \n210 Fairlawn Dr\, Berkeley\, CA  94708 \nscott@wholehealing.net \n510-725-0159 \n 
URL:https://www.californiaalpineclub.org/events/echo-hosted-event-scott/
LOCATION:Echo Summit Lodge\, 9010 Johnson Pass Rd\, Twin Bridges\, CA\, 95721\, United States
CATEGORIES:Echo Summit Lodge Events
END:VEVENT
BEGIN:VEVENT
DTSTART;TZID=America/Los_Angeles:20200126T120000
DTEND;TZID=America/Los_Angeles:20200131T120000
DTSTAMP:20260423T155702
CREATED:20190905T221031Z
LAST-MODIFIED:20191031T155254Z
UID:19959-1580040000-1580472000@www.californiaalpineclub.org
SUMMARY:Echo - Private Event
DESCRIPTION:Kate Twain \n707-694-9130 \nktwain@vom.com
URL:https://www.californiaalpineclub.org/events/echo-private-event-28/
LOCATION:Echo Summit Lodge\, 9010 Johnson Pass Rd\, Twin Bridges\, CA\, 95721\, United States
CATEGORIES:Echo Summit Lodge Events
END:VEVENT
BEGIN:VEVENT
DTSTART;TZID=America/Los_Angeles:20200121T120000
DTEND;TZID=America/Los_Angeles:20200126T120000
DTSTAMP:20260423T155702
CREATED:20190905T220549Z
LAST-MODIFIED:20190905T220738Z
UID:19956-1579608000-1580040000@www.californiaalpineclub.org
SUMMARY:Echo: Hosted Winter Retreat - Mary
DESCRIPTION:Mary Larkin-Berlinski \nP.O. Box 776\,  Moss Landing\, CA  95039 \nmlarkin804@sbcglobal.net \n831-345-6963
URL:https://www.californiaalpineclub.org/events/echo-hosted-winter-retreat/
LOCATION:Echo Summit Lodge\, 9010 Johnson Pass Rd\, Twin Bridges\, CA\, 95721\, United States
CATEGORIES:Echo Summit Lodge Events
END:VEVENT
BEGIN:VEVENT
DTSTART;TZID=America/Los_Angeles:20200117T120000
DTEND;TZID=America/Los_Angeles:20200120T120000
DTSTAMP:20260423T155702
CREATED:20190905T220204Z
LAST-MODIFIED:20190905T220204Z
UID:19954-1579262400-1579521600@www.californiaalpineclub.org
SUMMARY:Echo: Hosted Event - Chris & Patty
DESCRIPTION:Patty & Chris Dunhill \n452 Griffin Ave\, Pacifica\, CA  94044 \npattyzdunhill@yahoo.com \n650 537-7646
URL:https://www.californiaalpineclub.org/events/echo-hosted-event-chris-patty/
LOCATION:Echo Summit Lodge\, 9010 Johnson Pass Rd\, Twin Bridges\, CA\, 95721\, United States
CATEGORIES:Echo Summit Lodge Events
END:VEVENT
END:VCALENDAR