BEGIN:VCALENDAR
VERSION:2.0
PRODID:-//California Alpine Club - ECPv6.15.20//NONSGML v1.0//EN
CALSCALE:GREGORIAN
METHOD:PUBLISH
X-WR-CALNAME:California Alpine Club
X-ORIGINAL-URL:https://www.californiaalpineclub.org
X-WR-CALDESC:Events for California Alpine Club
REFRESH-INTERVAL;VALUE=DURATION:PT1H
X-Robots-Tag:noindex
X-PUBLISHED-TTL:PT1H
BEGIN:VTIMEZONE
TZID:America/Los_Angeles
BEGIN:DAYLIGHT
TZOFFSETFROM:-0800
TZOFFSETTO:-0700
TZNAME:PDT
DTSTART:20190310T100000
END:DAYLIGHT
BEGIN:STANDARD
TZOFFSETFROM:-0700
TZOFFSETTO:-0800
TZNAME:PST
DTSTART:20191103T090000
END:STANDARD
BEGIN:DAYLIGHT
TZOFFSETFROM:-0800
TZOFFSETTO:-0700
TZNAME:PDT
DTSTART:20200308T100000
END:DAYLIGHT
BEGIN:STANDARD
TZOFFSETFROM:-0700
TZOFFSETTO:-0800
TZNAME:PST
DTSTART:20201101T090000
END:STANDARD
BEGIN:DAYLIGHT
TZOFFSETFROM:-0800
TZOFFSETTO:-0700
TZNAME:PDT
DTSTART:20210314T100000
END:DAYLIGHT
BEGIN:STANDARD
TZOFFSETFROM:-0700
TZOFFSETTO:-0800
TZNAME:PST
DTSTART:20211107T090000
END:STANDARD
BEGIN:DAYLIGHT
TZOFFSETFROM:-0800
TZOFFSETTO:-0700
TZNAME:PDT
DTSTART:20220313T100000
END:DAYLIGHT
BEGIN:STANDARD
TZOFFSETFROM:-0700
TZOFFSETTO:-0800
TZNAME:PST
DTSTART:20221106T090000
END:STANDARD
END:VTIMEZONE
BEGIN:VEVENT
DTSTART;TZID=America/Los_Angeles:20210222T150000
DTEND;TZID=America/Los_Angeles:20210226T110000
DTSTAMP:20260423T093740
CREATED:20210109T210024Z
LAST-MODIFIED:20210109T210024Z
UID:23049-1614006000-1614337200@www.californiaalpineclub.org
SUMMARY:Echo: Private Event - Any
DESCRIPTION:Amy Pertschuk \n415 686-5990 \namy@kpwest.com
URL:https://www.californiaalpineclub.org/events/echo-private-event-any/
LOCATION:Echo Summit Lodge\, 9010 Johnson Pass Rd\, Twin Bridges\, CA\, 95721\, United States
CATEGORIES:Echo Summit Lodge Events
END:VEVENT
BEGIN:VEVENT
DTSTART;TZID=America/Los_Angeles:20210220T150000
DTEND;TZID=America/Los_Angeles:20210222T110000
DTSTAMP:20260423T093740
CREATED:20210109T205818Z
LAST-MODIFIED:20210109T205818Z
UID:23047-1613833200-1613991600@www.californiaalpineclub.org
SUMMARY:Echo:  Private Event - Kathleen
DESCRIPTION:Kathleen O’Dea \n415-246-6441 \nkathleensodea@gmail.com
URL:https://www.californiaalpineclub.org/events/echo-private-event-kathleen/
LOCATION:Echo Summit Lodge\, 9010 Johnson Pass Rd\, Twin Bridges\, CA\, 95721\, United States
CATEGORIES:Echo Summit Lodge Events
END:VEVENT
BEGIN:VEVENT
DTSTART;TZID=America/Los_Angeles:20210217T150000
DTEND;TZID=America/Los_Angeles:20210220T110000
DTSTAMP:20260423T093740
CREATED:20210109T205531Z
LAST-MODIFIED:20210109T205531Z
UID:23044-1613574000-1613818800@www.californiaalpineclub.org
SUMMARY:Echo:  Private Event - Shirlee
DESCRIPTION:Shirlee Stiles \n707-393-1425 \ns.stiles@att.net
URL:https://www.californiaalpineclub.org/events/echo-private-event-shirlee-2/
LOCATION:Echo Summit Lodge\, 9010 Johnson Pass Rd\, Twin Bridges\, CA\, 95721\, United States
CATEGORIES:Echo Summit Lodge Events
END:VEVENT
BEGIN:VEVENT
DTSTART;TZID=America/Los_Angeles:20210212T150000
DTEND;TZID=America/Los_Angeles:20210215T110000
DTSTAMP:20260423T093740
CREATED:20201209T211036Z
LAST-MODIFIED:20201209T211036Z
UID:22888-1613142000-1613386800@www.californiaalpineclub.org
SUMMARY:Echo: Private Event - Elena
DESCRIPTION:Elena Rodriguez \n510 858-5498 \nelenamrodriguez@gmail.com
URL:https://www.californiaalpineclub.org/events/echo-private-event-elena-2/
LOCATION:Echo Summit Lodge\, 9010 Johnson Pass Rd\, Twin Bridges\, CA\, 95721\, United States
CATEGORIES:Echo Summit Lodge Events
END:VEVENT
BEGIN:VEVENT
DTSTART;TZID=America/Los_Angeles:20210210T150000
DTEND;TZID=America/Los_Angeles:20210212T110000
DTSTAMP:20260423T093740
CREATED:20210109T205250Z
LAST-MODIFIED:20210109T205250Z
UID:23042-1612969200-1613127600@www.californiaalpineclub.org
SUMMARY:Echo: Private Event - Richard
DESCRIPTION:Richard Thornton \n510-918-9001 \nrichard@amnotecap.com
URL:https://www.californiaalpineclub.org/events/echo-private-event-richard/
LOCATION:Echo Summit Lodge\, 9010 Johnson Pass Rd\, Twin Bridges\, CA\, 95721\, United States
CATEGORIES:Echo Summit Lodge Events
END:VEVENT
BEGIN:VEVENT
DTSTART;TZID=America/Los_Angeles:20210205T150000
DTEND;TZID=America/Los_Angeles:20210210T150000
DTSTAMP:20260423T093740
CREATED:20201026T174405Z
LAST-MODIFIED:20201026T174405Z
UID:22578-1612537200-1612969200@www.californiaalpineclub.org
SUMMARY:Echo: Private Event - Laura & Michael
DESCRIPTION:Laura & Michael Fleischhauer \n408-763-6823 \nlaura@fleischhauer.co
URL:https://www.californiaalpineclub.org/events/echo-private-event-laura-michael-2/
LOCATION:Echo Summit Lodge\, 9010 Johnson Pass Rd\, Twin Bridges\, CA\, 95721\, United States
CATEGORIES:Echo Summit Lodge Events
END:VEVENT
BEGIN:VEVENT
DTSTART;TZID=America/Los_Angeles:20210131T150000
DTEND;TZID=America/Los_Angeles:20210204T110000
DTSTAMP:20260423T093740
CREATED:20201209T210822Z
LAST-MODIFIED:20201209T210822Z
UID:22886-1612105200-1612436400@www.californiaalpineclub.org
SUMMARY:Echo:  Private Event - Kate
DESCRIPTION:Kate Twain \n707-694-9130 \nktwain@vom.com
URL:https://www.californiaalpineclub.org/events/echo-private-event-kate-2/
LOCATION:Echo Summit Lodge\, 9010 Johnson Pass Rd\, Twin Bridges\, CA\, 95721\, United States
CATEGORIES:Echo Summit Lodge Events
END:VEVENT
BEGIN:VEVENT
DTSTART;TZID=America/Los_Angeles:20210126T150000
DTEND;TZID=America/Los_Angeles:20210131T110000
DTSTAMP:20260423T093740
CREATED:20200929T205550Z
LAST-MODIFIED:20200929T205550Z
UID:22355-1611673200-1612090800@www.californiaalpineclub.org
SUMMARY:Echo: Private Event - Mary
DESCRIPTION:Mary Larkin-Berlinski \n831-345-6963 \nmlarkin804@sbcglobal.net
URL:https://www.californiaalpineclub.org/events/echo-private-event-mary-4/
LOCATION:Echo Summit Lodge\, 9010 Johnson Pass Rd\, Twin Bridges\, CA\, 95721\, United States
CATEGORIES:Echo Summit Lodge Events
END:VEVENT
BEGIN:VEVENT
DTSTART;TZID=America/Los_Angeles:20210122T150000
DTEND;TZID=America/Los_Angeles:20210124T110000
DTSTAMP:20260423T093740
CREATED:20201209T210452Z
LAST-MODIFIED:20201209T210555Z
UID:22884-1611327600-1611486000@www.californiaalpineclub.org
SUMMARY:Echo: Private Event - Julia & Alex
DESCRIPTION:Julia & Alex Lipendin \n408-646-1896 \njulia.iluyk@gmail.com
URL:https://www.californiaalpineclub.org/events/echo-private-event-julia-alex/
LOCATION:Echo Summit Lodge\, 9010 Johnson Pass Rd\, Twin Bridges\, CA\, 95721\, United States
CATEGORIES:Echo Summit Lodge Events
END:VEVENT
BEGIN:VEVENT
DTSTART;TZID=America/Los_Angeles:20210116T150000
DTEND;TZID=America/Los_Angeles:20210119T110000
DTSTAMP:20260423T093740
CREATED:20201209T210159Z
LAST-MODIFIED:20201209T210159Z
UID:22882-1610809200-1611054000@www.californiaalpineclub.org
SUMMARY:Echo: Private Event - Susan
DESCRIPTION:Susan Topf \n415 954-2686
URL:https://www.californiaalpineclub.org/events/echo-private-event-susan/
LOCATION:Echo Summit Lodge\, 9010 Johnson Pass Rd\, Twin Bridges\, CA\, 95721\, United States
CATEGORIES:Echo Summit Lodge Events
END:VEVENT
BEGIN:VEVENT
DTSTART;TZID=America/Los_Angeles:20210107T030000
DTEND;TZID=America/Los_Angeles:20210110T110000
DTSTAMP:20260423T093740
CREATED:20201209T205942Z
LAST-MODIFIED:20201209T205942Z
UID:22880-1609988400-1610276400@www.californiaalpineclub.org
SUMMARY:Echo:  Private Event - Craig
DESCRIPTION:Craig Anderson \n928-607-3608 \nCranders1@gmail.com
URL:https://www.californiaalpineclub.org/events/echo-private-event-craig-4/
LOCATION:Echo Summit Lodge\, 9010 Johnson Pass Rd\, Twin Bridges\, CA\, 95721\, United States
CATEGORIES:Echo Summit Lodge Events
END:VEVENT
BEGIN:VEVENT
DTSTART;TZID=America/Los_Angeles:20201231T150000
DTEND;TZID=America/Los_Angeles:20210104T110000
DTSTAMP:20260423T093741
CREATED:20200929T205318Z
LAST-MODIFIED:20200929T205318Z
UID:22353-1609426800-1609758000@www.californiaalpineclub.org
SUMMARY:Echo: Private Event - Laura & Michael
DESCRIPTION:Laura & Michael Fleischhauer \n408-763-6823 \nlaura@fleischhauer.co \n 
URL:https://www.californiaalpineclub.org/events/echo-private-event-laura-michael/
LOCATION:Echo Summit Lodge\, 9010 Johnson Pass Rd\, Twin Bridges\, CA\, 95721\, United States
CATEGORIES:Echo Summit Lodge Events
END:VEVENT
BEGIN:VEVENT
DTSTART;TZID=America/Los_Angeles:20201227T150000
DTEND;TZID=America/Los_Angeles:20201231T110000
DTSTAMP:20260423T093741
CREATED:20201026T174010Z
LAST-MODIFIED:20201026T174010Z
UID:22576-1609081200-1609412400@www.californiaalpineclub.org
SUMMARY:Echo: Private Event - Elena
DESCRIPTION:Elena Rodriguez \n510 858-5498 \nelenamrodriguez@gmail.com
URL:https://www.californiaalpineclub.org/events/echo-private-event-elena/
LOCATION:Echo Summit Lodge\, 9010 Johnson Pass Rd\, Twin Bridges\, CA\, 95721\, United States
CATEGORIES:Echo Summit Lodge Events
END:VEVENT
BEGIN:VEVENT
DTSTART;TZID=America/Los_Angeles:20201222T080000
DTEND;TZID=America/Los_Angeles:20201227T170000
DTSTAMP:20260423T093741
CREATED:20200929T205042Z
LAST-MODIFIED:20200929T205042Z
UID:22351-1608624000-1609088400@www.californiaalpineclub.org
SUMMARY:Echo:  Private Event - Camille
DESCRIPTION:Camille Smith-Ballon \n831-239-0730 \ncamillecruzfit@gmail.com
URL:https://www.californiaalpineclub.org/events/echo-private-event-camille-2/
LOCATION:Echo Summit Lodge\, 9010 Johnson Pass Rd\, Twin Bridges\, CA\, 95721\, United States
CATEGORIES:Echo Summit Lodge Events
END:VEVENT
BEGIN:VEVENT
DTSTART;TZID=America/Los_Angeles:20201211T080000
DTEND;TZID=America/Los_Angeles:20201220T170000
DTSTAMP:20260423T093741
CREATED:20200929T204828Z
LAST-MODIFIED:20200929T204828Z
UID:22349-1607673600-1608483600@www.californiaalpineclub.org
SUMMARY:Echo: Private Event - Brooke
DESCRIPTION:Brooke Wagner \n831-227-7770 \nbrookelwagner@gmail.com
URL:https://www.californiaalpineclub.org/events/echo-private-event-brooke/
LOCATION:Echo Summit Lodge\, 9010 Johnson Pass Rd\, Twin Bridges\, CA\, 95721\, United States
CATEGORIES:Echo Summit Lodge Events
END:VEVENT
BEGIN:VEVENT
DTSTART;TZID=America/Los_Angeles:20201125T150000
DTEND;TZID=America/Los_Angeles:20201128T110000
DTSTAMP:20260423T093741
CREATED:20200929T204402Z
LAST-MODIFIED:20200929T204402Z
UID:22347-1606316400-1606561200@www.californiaalpineclub.org
SUMMARY:Echo:  Private Event - Mary
DESCRIPTION:Mary Cahill \n530-798-9601 \nA_childs_view@yahoo.com
URL:https://www.californiaalpineclub.org/events/echo-private-event-mary-3/
LOCATION:Echo Summit Lodge\, 9010 Johnson Pass Rd\, Twin Bridges\, CA\, 95721\, United States
CATEGORIES:Echo Summit Lodge Events
END:VEVENT
BEGIN:VEVENT
DTSTART;TZID=America/Los_Angeles:20201112T150000
DTEND;TZID=America/Los_Angeles:20201115T110000
DTSTAMP:20260423T093741
CREATED:20200929T204200Z
LAST-MODIFIED:20200929T204200Z
UID:22345-1605193200-1605438000@www.californiaalpineclub.org
SUMMARY:Echo: Private Event - Mary
DESCRIPTION:Mary Larkin-Berlinski \n831-345-6963 \nmlarkin804@sbcglobal.net
URL:https://www.californiaalpineclub.org/events/echo-private-event-mary-2/
LOCATION:Echo Summit Lodge\, 9010 Johnson Pass Rd\, Twin Bridges\, CA\, 95721\, United States
CATEGORIES:Echo Summit Lodge Events
END:VEVENT
BEGIN:VEVENT
DTSTART;TZID=America/Los_Angeles:20201106T150000
DTEND;TZID=America/Los_Angeles:20201108T110000
DTSTAMP:20260423T093741
CREATED:20200929T203926Z
LAST-MODIFIED:20200929T203926Z
UID:22343-1604674800-1604833200@www.californiaalpineclub.org
SUMMARY:Echo: Host Training Rescheduled
DESCRIPTION:Contact:  Cindy Toran \n707-321-3262 \ncktoran@gmail.com
URL:https://www.californiaalpineclub.org/events/echo-host-training-rescheduled/
LOCATION:Echo Summit Lodge\, 9010 Johnson Pass Rd\, Twin Bridges\, CA\, 95721\, United States
CATEGORIES:Echo Summit Lodge Events
END:VEVENT
BEGIN:VEVENT
DTSTART;TZID=America/Los_Angeles:20201030T120000
DTEND;TZID=America/Los_Angeles:20201102T120000
DTSTAMP:20260423T093741
CREATED:20200901T230704Z
LAST-MODIFIED:20200901T230704Z
UID:22186-1604059200-1604318400@www.californiaalpineclub.org
SUMMARY:Echo: Private Event - Mary
DESCRIPTION:Mary Larkin-Berlinski \n831-345-6963 \nmlarkin804@sbcglobal.net
URL:https://www.californiaalpineclub.org/events/echo-private-event-mary/
LOCATION:Echo Summit Lodge\, 9010 Johnson Pass Rd\, Twin Bridges\, CA\, 95721\, United States
CATEGORIES:Echo Summit Lodge Events
END:VEVENT
BEGIN:VEVENT
DTSTART;TZID=America/Los_Angeles:20201027T150000
DTEND;TZID=America/Los_Angeles:20201030T110000
DTSTAMP:20260423T093741
CREATED:20200929T203624Z
LAST-MODIFIED:20200929T203624Z
UID:22341-1603810800-1604055600@www.californiaalpineclub.org
SUMMARY:Echo:  Private Event - Kathleen & Art
DESCRIPTION:Kathleen O’Dea & Art Ewart \n415-246-6441 \nkathleensodea@gmail.com
URL:https://www.californiaalpineclub.org/events/echo-private-event-kathleen-art-2/
LOCATION:Echo Summit Lodge\, 9010 Johnson Pass Rd\, Twin Bridges\, CA\, 95721\, United States
CATEGORIES:Echo Summit Lodge Events
END:VEVENT
BEGIN:VEVENT
DTSTART;TZID=America/Los_Angeles:20201022T150000
DTEND;TZID=America/Los_Angeles:20201026T110000
DTSTAMP:20260423T093741
CREATED:20200901T230359Z
LAST-MODIFIED:20200929T215804Z
UID:22184-1603378800-1603710000@www.californiaalpineclub.org
SUMMARY:Echo: Private Event - John
DESCRIPTION:John Newman \n415-336-3435 \njohnsnewman@aol.com
URL:https://www.californiaalpineclub.org/events/echo-private-event-mark-jo/
LOCATION:Echo Summit Lodge\, 9010 Johnson Pass Rd\, Twin Bridges\, CA\, 95721\, United States
CATEGORIES:Echo Summit Lodge Events
END:VEVENT
BEGIN:VEVENT
DTSTART;TZID=America/Los_Angeles:20201015T120000
DTEND;TZID=America/Los_Angeles:20201018T120000
DTSTAMP:20260423T093741
CREATED:20200901T230011Z
LAST-MODIFIED:20200901T230139Z
UID:22182-1602763200-1603022400@www.californiaalpineclub.org
SUMMARY:Echo: Private Event - Nick
DESCRIPTION:Nick Gregoratos \n510-919-6883 \nnick.gregoratos@gmail.com
URL:https://www.californiaalpineclub.org/events/echo-private-event-nick-3/
LOCATION:Echo Summit Lodge\, 9010 Johnson Pass Rd\, Twin Bridges\, CA\, 95721\, United States
CATEGORIES:Echo Summit Lodge Events
END:VEVENT
BEGIN:VEVENT
DTSTART;TZID=America/Los_Angeles:20201009T150000
DTEND;TZID=America/Los_Angeles:20201012T110000
DTSTAMP:20260423T093741
CREATED:20200929T202917Z
LAST-MODIFIED:20201006T172053Z
UID:22339-1602255600-1602500400@www.californiaalpineclub.org
SUMMARY:Echo: Echo - Private Event - Donata
DESCRIPTION:OCT 9-12 FRI-MON PRIVATE EVENT \nDonata Mikulik \n707 591-3129 \ndonatabo@hotmail.com
URL:https://www.californiaalpineclub.org/events/echo-echo-private-event-mary/
LOCATION:Echo Summit Lodge\, 9010 Johnson Pass Rd\, Twin Bridges\, CA\, 95721\, United States
CATEGORIES:Echo Summit Lodge Events
END:VEVENT
BEGIN:VEVENT
DTSTART;TZID=America/Los_Angeles:20201005T120000
DTEND;TZID=America/Los_Angeles:20201008T120000
DTSTAMP:20260423T093741
CREATED:20200901T225053Z
LAST-MODIFIED:20200929T215356Z
UID:22180-1601899200-1602158400@www.californiaalpineclub.org
SUMMARY:Echo: Private Event -Joe & Becky
DESCRIPTION:Joe & Becky Fay \n415-246-8428 \nbeckysf@comcast.net
URL:https://www.californiaalpineclub.org/events/echo-private-event-jay-mary/
LOCATION:Echo Summit Lodge\, 9010 Johnson Pass Rd\, Twin Bridges\, CA\, 95721\, United States
CATEGORIES:Echo Summit Lodge Events
END:VEVENT
BEGIN:VEVENT
DTSTART;TZID=America/Los_Angeles:20201002T120000
DTEND;TZID=America/Los_Angeles:20201004T120000
DTSTAMP:20260423T093741
CREATED:20200611T194253Z
LAST-MODIFIED:20200716T220722Z
UID:21774-1601640000-1601812800@www.californiaalpineclub.org
SUMMARY:Echo: Trail Clearing Weekend - CANCELLED
DESCRIPTION:Jerry Schweickert \ngjschweickert@gmail.com \n925-373=6813
URL:https://www.californiaalpineclub.org/events/echo-trail-clearing-weekend/
LOCATION:Echo Summit Lodge\, 9010 Johnson Pass Rd\, Twin Bridges\, CA\, 95721\, United States
CATEGORIES:Echo Summit Lodge Events
END:VEVENT
BEGIN:VEVENT
DTSTART;TZID=America/Los_Angeles:20200928T120000
DTEND;TZID=America/Los_Angeles:20201001T120000
DTSTAMP:20260423T093741
CREATED:20200901T224808Z
LAST-MODIFIED:20200929T202522Z
UID:22178-1601294400-1601553600@www.californiaalpineclub.org
SUMMARY:Echo: Private Event - Kathleen & Art - Cancelled
DESCRIPTION:Kathleen O’Dea & Art Ewart \n415-246-6441 \nkathleensodea@gmail.com
URL:https://www.californiaalpineclub.org/events/echo-private-event-kathleen-art/
LOCATION:Echo Summit Lodge\, 9010 Johnson Pass Rd\, Twin Bridges\, CA\, 95721\, United States
CATEGORIES:Echo Summit Lodge Events
END:VEVENT
BEGIN:VEVENT
DTSTART;TZID=America/Los_Angeles:20200925T120000
DTEND;TZID=America/Los_Angeles:20200927T120000
DTSTAMP:20260423T093741
CREATED:20200611T193812Z
LAST-MODIFIED:20200611T193812Z
UID:21772-1601035200-1601208000@www.californiaalpineclub.org
SUMMARY:Echo: Host Appreciation and Training
DESCRIPTION:Contact: Cindy Toran \ncktoran@gmail.co \n\n\n\n\n707-321-3262 \n\n\n\n\n 
URL:https://www.californiaalpineclub.org/events/echo-host-appreciation-and-training/
LOCATION:Echo Summit Lodge\, 9010 Johnson Pass Rd\, Twin Bridges\, CA\, 95721\, United States
CATEGORIES:Echo Summit Lodge Events
END:VEVENT
BEGIN:VEVENT
DTSTART;TZID=America/Los_Angeles:20200921T120000
DTEND;TZID=America/Los_Angeles:20200924T120000
DTSTAMP:20260423T093741
CREATED:20200901T224516Z
LAST-MODIFIED:20200901T224516Z
UID:22176-1600689600-1600948800@www.californiaalpineclub.org
SUMMARY:Echo:  Private Event - Camille
DESCRIPTION:Camille Smith-Ballon \n831-239-073 \ncamillecruzfit@gmail.com \n 
URL:https://www.californiaalpineclub.org/events/echo-private-event-camille/
LOCATION:Echo Summit Lodge\, 9010 Johnson Pass Rd\, Twin Bridges\, CA\, 95721\, United States
CATEGORIES:Echo Summit Lodge Events
END:VEVENT
BEGIN:VEVENT
DTSTART;TZID=America/Los_Angeles:20200917T120000
DTEND;TZID=America/Los_Angeles:20200920T120000
DTSTAMP:20260423T093741
CREATED:20200611T193537Z
LAST-MODIFIED:20200611T193537Z
UID:21770-1600344000-1600603200@www.californiaalpineclub.org
SUMMARY:Echo: Fall Work and Fun Party
DESCRIPTION:Contact: Bob Henry \nclyde33301@comcast.net \n\n\n\n\n707-217-7601 \n\n\n\n\n  \n 
URL:https://www.californiaalpineclub.org/events/echo-fall-work-and-fun-party/
LOCATION:Echo Summit Lodge\, 9010 Johnson Pass Rd\, Twin Bridges\, CA\, 95721\, United States
CATEGORIES:Echo Summit Lodge Events
END:VEVENT
BEGIN:VEVENT
DTSTART;TZID=America/Los_Angeles:20200911T120000
DTEND;TZID=America/Los_Angeles:20200915T120000
DTSTAMP:20260423T093741
CREATED:20200611T193128Z
LAST-MODIFIED:20200611T193128Z
UID:21768-1599825600-1600171200@www.californiaalpineclub.org
SUMMARY:Echo: Private Event - Emily
DESCRIPTION:Emily & John Lockett \nauntem@sonic.ne \n\n\n\n\n707-576-0948 \n\n\n\n\n 
URL:https://www.californiaalpineclub.org/events/echo-private-event-emily/
LOCATION:Echo Summit Lodge\, 9010 Johnson Pass Rd\, Twin Bridges\, CA\, 95721\, United States
CATEGORIES:Echo Summit Lodge Events
END:VEVENT
END:VCALENDAR