BEGIN:VCALENDAR
VERSION:2.0
PRODID:-//California Alpine Club - ECPv6.15.20//NONSGML v1.0//EN
CALSCALE:GREGORIAN
METHOD:PUBLISH
X-ORIGINAL-URL:https://www.californiaalpineclub.org
X-WR-CALDESC:Events for California Alpine Club
REFRESH-INTERVAL;VALUE=DURATION:PT1H
X-Robots-Tag:noindex
X-PUBLISHED-TTL:PT1H
BEGIN:VTIMEZONE
TZID:America/Los_Angeles
BEGIN:DAYLIGHT
TZOFFSETFROM:-0800
TZOFFSETTO:-0700
TZNAME:PDT
DTSTART:20200308T100000
END:DAYLIGHT
BEGIN:STANDARD
TZOFFSETFROM:-0700
TZOFFSETTO:-0800
TZNAME:PST
DTSTART:20201101T090000
END:STANDARD
BEGIN:DAYLIGHT
TZOFFSETFROM:-0800
TZOFFSETTO:-0700
TZNAME:PDT
DTSTART:20210314T100000
END:DAYLIGHT
BEGIN:STANDARD
TZOFFSETFROM:-0700
TZOFFSETTO:-0800
TZNAME:PST
DTSTART:20211107T090000
END:STANDARD
BEGIN:DAYLIGHT
TZOFFSETFROM:-0800
TZOFFSETTO:-0700
TZNAME:PDT
DTSTART:20220313T100000
END:DAYLIGHT
BEGIN:STANDARD
TZOFFSETFROM:-0700
TZOFFSETTO:-0800
TZNAME:PST
DTSTART:20221106T090000
END:STANDARD
END:VTIMEZONE
BEGIN:VEVENT
DTSTART;TZID=America/Los_Angeles:20211021T150000
DTEND;TZID=America/Los_Angeles:20211024T110000
DTSTAMP:20260423T011526
CREATED:20210608T224617Z
LAST-MODIFIED:20210608T224617Z
UID:24060-1634828400-1635073200@www.californiaalpineclub.org
SUMMARY:Echo:  Private Event - Nick
DESCRIPTION:Nick Gregoratos \n 510-919-6883 \nnick.gregoratos@gmail.com
URL:https://www.californiaalpineclub.org/events/echo-private-event-nick-6/
LOCATION:Echo Summit Lodge\, 9010 Johnson Pass Rd\, Twin Bridges\, CA\, 95721\, United States
CATEGORIES:Echo Summit Lodge Events
END:VEVENT
BEGIN:VEVENT
DTSTART;TZID=America/Los_Angeles:20211014T080000
DTEND;TZID=America/Los_Angeles:20211017T110000
DTSTAMP:20260423T011526
CREATED:20210608T224118Z
LAST-MODIFIED:20210608T224118Z
UID:24055-1634198400-1634468400@www.californiaalpineclub.org
SUMMARY:Echo:  Fall Work and Fun Party - Bob
DESCRIPTION:Bob Henry \n707-217-7601 \nclyde33301@comcast.net
URL:https://www.californiaalpineclub.org/events/echo-fall-work-and-fun-party-bob/
LOCATION:Echo Summit Lodge\, 9010 Johnson Pass Rd\, Twin Bridges\, CA\, 95721\, United States
CATEGORIES:Echo Summit Lodge Events
END:VEVENT
BEGIN:VEVENT
DTSTART;TZID=America/Los_Angeles:20211008T150000
DTEND;TZID=America/Los_Angeles:20211011T110000
DTSTAMP:20260423T011526
CREATED:20210603T194608Z
LAST-MODIFIED:20210603T194645Z
UID:24043-1633705200-1633950000@www.californiaalpineclub.org
SUMMARY:Echo: Private Event - Patty
DESCRIPTION:Patty Dunhill \n\n\n\n650-537-7646 \npattyzdunhill@yahoo.com \n\n\n\n 
URL:https://www.californiaalpineclub.org/events/echo-private-event-patty-2/
LOCATION:Echo Summit Lodge\, 9010 Johnson Pass Rd\, Twin Bridges\, CA\, 95721\, United States
CATEGORIES:Echo Summit Lodge Events
END:VEVENT
BEGIN:VEVENT
DTSTART;TZID=America/Los_Angeles:20211001T150000
DTEND;TZID=America/Los_Angeles:20211004T110000
DTSTAMP:20260423T011526
CREATED:20210603T194238Z
LAST-MODIFIED:20210603T194238Z
UID:24041-1633100400-1633345200@www.californiaalpineclub.org
SUMMARY:Echo: Private Event - Jerry & Dianne
DESCRIPTION:Jerry & Dianne Schweickert \n\n\n\n925-549-4492 \n\n\n\ngjschweickert@gmail.com \n\n\n\n\n\n\n 
URL:https://www.californiaalpineclub.org/events/echo-private-event-jerry-dianne-2/
LOCATION:Echo Summit Lodge\, 9010 Johnson Pass Rd\, Twin Bridges\, CA\, 95721\, United States
CATEGORIES:Echo Summit Lodge Events
END:VEVENT
BEGIN:VEVENT
DTSTART;TZID=America/Los_Angeles:20210923T150000
DTEND;TZID=America/Los_Angeles:20210927T110000
DTSTAMP:20260423T011526
CREATED:20210603T193846Z
LAST-MODIFIED:20210603T193846Z
UID:24039-1632409200-1632740400@www.californiaalpineclub.org
SUMMARY:Echo: Private Event - Alice & Marcus
DESCRIPTION:Alice & Marcus Cato \n\n\n\n831-227-0496 \n\n\n\nagcato@gmail.com \n\n\n\n\n\n\n 
URL:https://www.californiaalpineclub.org/events/echo-private-event-alice-marcus/
LOCATION:Echo Summit Lodge\, 9010 Johnson Pass Rd\, Twin Bridges\, CA\, 95721\, United States
CATEGORIES:Echo Summit Lodge Events
END:VEVENT
BEGIN:VEVENT
DTSTART;TZID=America/Los_Angeles:20210917T150000
DTEND;TZID=America/Los_Angeles:20210919T110000
DTSTAMP:20260423T011526
CREATED:20210603T193413Z
LAST-MODIFIED:20210603T193432Z
UID:24037-1631890800-1632049200@www.californiaalpineclub.org
SUMMARY:Echo: Private Event - Julia
DESCRIPTION:Julia Iliuk \n\n\n\n408-646-1896 \n\n\n\njulia.iluyk@gmail.com \n\n\n\n\n\n\n\n\n\n\n\n\n\n\n\n  \n  \n\n\n\n 
URL:https://www.californiaalpineclub.org/events/echo-private-event-julia/
LOCATION:Echo Summit Lodge\, 9010 Johnson Pass Rd\, Twin Bridges\, CA\, 95721\, United States
CATEGORIES:Echo Summit Lodge Events
END:VEVENT
BEGIN:VEVENT
DTSTART;TZID=America/Los_Angeles:20210910T150000
DTEND;TZID=America/Los_Angeles:20210914T110000
DTSTAMP:20260423T011526
CREATED:20210501T174803Z
LAST-MODIFIED:20210501T174803Z
UID:23978-1631286000-1631617200@www.californiaalpineclub.org
SUMMARY:Echo:  Private Event - Emily & John
DESCRIPTION:Emily & John Lockett \n707-576-0948 \nauntem@sonic.net
URL:https://www.californiaalpineclub.org/events/echo-private-event-emily-john-3/
LOCATION:Echo Summit Lodge\, 9010 Johnson Pass Rd\, Twin Bridges\, CA\, 95721\, United States
CATEGORIES:Echo Summit Lodge Events
END:VEVENT
BEGIN:VEVENT
DTSTART;TZID=America/Los_Angeles:20210903T150000
DTEND;TZID=America/Los_Angeles:20210906T110000
DTSTAMP:20260423T011526
CREATED:20210603T192925Z
LAST-MODIFIED:20210603T192925Z
UID:24035-1630681200-1630926000@www.californiaalpineclub.org
SUMMARY:Echo - Private Event - Lia
DESCRIPTION:Lia Heath \n\n\n\n415-577-2430 \n\n\n\nliaheath@gmail.com \n\n\n\n\n\n\n\n\n  \n\n\n\n\n 
URL:https://www.californiaalpineclub.org/events/echo-private-event-lia/
LOCATION:Echo Summit Lodge\, 9010 Johnson Pass Rd\, Twin Bridges\, CA\, 95721\, United States
CATEGORIES:Echo Summit Lodge Events
END:VEVENT
BEGIN:VEVENT
DTSTART;TZID=America/Los_Angeles:20210827T150000
DTEND;TZID=America/Los_Angeles:20210829T110000
DTSTAMP:20260423T011526
CREATED:20210603T192417Z
LAST-MODIFIED:20210603T192503Z
UID:24032-1630076400-1630234800@www.californiaalpineclub.org
SUMMARY:Echo: Host Training - Cindy
DESCRIPTION:Cindy Toran \n\n\n\n707-321-3262 \n\n\n\ncktoran@gmail.com \n\n\n\n\n\n\n 
URL:https://www.californiaalpineclub.org/events/echo-host-training/
LOCATION:Echo Summit Lodge\, 9010 Johnson Pass Rd\, Twin Bridges\, CA\, 95721\, United States
CATEGORIES:Echo Summit Lodge Events
END:VEVENT
BEGIN:VEVENT
DTSTART;TZID=America/Los_Angeles:20210823T150000
DTEND;TZID=America/Los_Angeles:20210826T110000
DTSTAMP:20260423T011526
CREATED:20210603T191934Z
LAST-MODIFIED:20210603T191934Z
UID:24030-1629730800-1629975600@www.californiaalpineclub.org
SUMMARY:Echo - Private Event - Mila
DESCRIPTION:Mila Johansen \n\n\n\n530 477-5575 \n\n\n\njohansenmila@gmail.com \n\n\n\n  \n\n\n\n 
URL:https://www.californiaalpineclub.org/events/echo-private-event-mila-2/
LOCATION:Echo Summit Lodge\, 9010 Johnson Pass Rd\, Twin Bridges\, CA\, 95721\, United States
CATEGORIES:Echo Summit Lodge Events
END:VEVENT
BEGIN:VEVENT
DTSTART;TZID=America/Los_Angeles:20210820T150000
DTEND;TZID=America/Los_Angeles:20210822T110000
DTSTAMP:20260423T011526
CREATED:20210603T191552Z
LAST-MODIFIED:20210603T191552Z
UID:24028-1629471600-1629630000@www.californiaalpineclub.org
SUMMARY:Echo: Private Event - Christian
DESCRIPTION:Christian Tora \n\n\n\n707-321-326 \n\n\n\ncdtoran@gmail.com \n\n\n\n 
URL:https://www.californiaalpineclub.org/events/echo-private-event-christian/
LOCATION:Echo Summit Lodge\, 9010 Johnson Pass Rd\, Twin Bridges\, CA\, 95721\, United States
CATEGORIES:Echo Summit Lodge Events
END:VEVENT
BEGIN:VEVENT
DTSTART;TZID=America/Los_Angeles:20210816T150000
DTEND;TZID=America/Los_Angeles:20210820T110000
DTSTAMP:20260423T011526
CREATED:20210608T223644Z
LAST-MODIFIED:20210608T223644Z
UID:24053-1629126000-1629457200@www.californiaalpineclub.org
SUMMARY:Echo:  Private Event - Nick
DESCRIPTION:Nick Gregoratos \n510-919-6883 \nnick.gregoratos@gmail.com
URL:https://www.californiaalpineclub.org/events/echo-private-event-nick-4/
LOCATION:Echo Summit Lodge\, 9010 Johnson Pass Rd\, Twin Bridges\, CA\, 95721\, United States
CATEGORIES:Echo Summit Lodge Events
END:VEVENT
BEGIN:VEVENT
DTSTART;TZID=America/Los_Angeles:20210812T150000
DTEND;TZID=America/Los_Angeles:20210815T110000
DTSTAMP:20260423T011526
CREATED:20210501T174439Z
LAST-MODIFIED:20210501T174439Z
UID:23976-1628780400-1629025200@www.californiaalpineclub.org
SUMMARY:Echo: Private Event - Eliah
DESCRIPTION:Eliah Gilfenbaum \n202-679-0765 \neliahg@gmail.com
URL:https://www.californiaalpineclub.org/events/echo-private-event-eliah-2/
LOCATION:Echo Summit Lodge\, 9010 Johnson Pass Rd\, Twin Bridges\, CA\, 95721\, United States
CATEGORIES:Echo Summit Lodge Events
END:VEVENT
BEGIN:VEVENT
DTSTART;TZID=America/Los_Angeles:20210808T080000
DTEND;TZID=America/Los_Angeles:20210812T110000
DTSTAMP:20260423T011526
CREATED:20210501T174150Z
LAST-MODIFIED:20210501T174150Z
UID:23974-1628409600-1628766000@www.californiaalpineclub.org
SUMMARY:Echo:  Private Event - Scott & Lori
DESCRIPTION:Scott Lewis & Lori Ament \n707-322-7668 \nselewis@sonic.net
URL:https://www.californiaalpineclub.org/events/echo-private-event-scott-lori/
LOCATION:Echo Summit Lodge\, 9010 Johnson Pass Rd\, Twin Bridges\, CA\, 95721\, United States
CATEGORIES:Echo Summit Lodge Events
END:VEVENT
BEGIN:VEVENT
DTSTART;TZID=America/Los_Angeles:20210805T150000
DTEND;TZID=America/Los_Angeles:20210808T110000
DTSTAMP:20260423T011526
CREATED:20210501T173838Z
LAST-MODIFIED:20210501T173838Z
UID:23972-1628175600-1628420400@www.californiaalpineclub.org
SUMMARY:Echo: Private Event - Rani
DESCRIPTION:Rani Devadason \n415-497-5568 \nputri0525@aol.com
URL:https://www.californiaalpineclub.org/events/echo-private-event-rani/
LOCATION:Echo Summit Lodge\, 9010 Johnson Pass Rd\, Twin Bridges\, CA\, 95721\, United States
CATEGORIES:Echo Summit Lodge Events
END:VEVENT
BEGIN:VEVENT
DTSTART;TZID=America/Los_Angeles:20210802T150000
DTEND;TZID=America/Los_Angeles:20210805T110000
DTSTAMP:20260423T011526
CREATED:20210603T191052Z
LAST-MODIFIED:20210603T191052Z
UID:24026-1627916400-1628161200@www.californiaalpineclub.org
SUMMARY:Echo: Private Event - Mila
DESCRIPTION:Mila Johansen \n\n\n\n530 477-557 \n\n\n\njohansenmila@gmail.com \n\n\n\n\n\n\n\n\n\n 
URL:https://www.californiaalpineclub.org/events/echo-private-event-mila/
LOCATION:Echo Summit Lodge\, 9010 Johnson Pass Rd\, Twin Bridges\, CA\, 95721\, United States
CATEGORIES:Echo Summit Lodge Events
END:VEVENT
BEGIN:VEVENT
DTSTART;TZID=America/Los_Angeles:20210730T150000
DTEND;TZID=America/Los_Angeles:20210802T150000
DTSTAMP:20260423T011526
CREATED:20210603T190437Z
LAST-MODIFIED:20210603T190559Z
UID:24024-1627657200-1627916400@www.californiaalpineclub.org
SUMMARY:Echo:  Private Event - Susette
DESCRIPTION:Susette Stickel-Rufer \n707-479-3328 \n\n\n\n\nswas40@comcast.net
URL:https://www.californiaalpineclub.org/events/echo-private-event-susette/
LOCATION:Echo Summit Lodge\, 9010 Johnson Pass Rd\, Twin Bridges\, CA\, 95721\, United States
CATEGORIES:Echo Summit Lodge Events
END:VEVENT
BEGIN:VEVENT
DTSTART;TZID=America/Los_Angeles:20210728T150000
DTEND;TZID=America/Los_Angeles:20210730T110000
DTSTAMP:20260423T011526
CREATED:20210701T190811Z
LAST-MODIFIED:20210701T190812Z
UID:24094-1627484400-1627642800@www.californiaalpineclub.org
SUMMARY:Echo: Private Event - Jana & John
DESCRIPTION:Jana & John Shober \n916-690-1828 \nshober@csus.edu
URL:https://www.californiaalpineclub.org/events/echo-private-event-jana-john/
LOCATION:Echo Summit Lodge\, 9010 Johnson Pass Rd\, Twin Bridges\, CA\, 95721\, United States
CATEGORIES:Echo Summit Lodge Events
END:VEVENT
BEGIN:VEVENT
DTSTART;TZID=America/Los_Angeles:20210725T150000
DTEND;TZID=America/Los_Angeles:20210728T110000
DTSTAMP:20260423T011526
CREATED:20210701T190542Z
LAST-MODIFIED:20210701T190542Z
UID:24092-1627225200-1627470000@www.californiaalpineclub.org
SUMMARY:Echo: Private Event - Susan
DESCRIPTION:Susan Topf \n  \n415-954-2686 \n  \nsusan.topf@gmail.com
URL:https://www.californiaalpineclub.org/events/echo-private-event-susan-3/
LOCATION:Echo Summit Lodge\, 9010 Johnson Pass Rd\, Twin Bridges\, CA\, 95721\, United States
CATEGORIES:Echo Summit Lodge Events
END:VEVENT
BEGIN:VEVENT
DTSTART;TZID=America/Los_Angeles:20210722T150000
DTEND;TZID=America/Los_Angeles:20210725T110000
DTSTAMP:20260423T011526
CREATED:20210501T171946Z
LAST-MODIFIED:20210501T172016Z
UID:23966-1626966000-1627210800@www.californiaalpineclub.org
SUMMARY:Echo: Private Event - Lillian
DESCRIPTION:Lillian Young \n650-588-5689 \nlcyou@sbcglobal.net
URL:https://www.californiaalpineclub.org/events/echo-private-event-lillian/
LOCATION:Echo Summit Lodge\, 9010 Johnson Pass Rd\, Twin Bridges\, CA\, 95721\, United States
CATEGORIES:Echo Summit Lodge Events
END:VEVENT
BEGIN:VEVENT
DTSTART;TZID=America/Los_Angeles:20210721T150000
DTEND;TZID=America/Los_Angeles:20210724T110000
DTSTAMP:20260423T011526
CREATED:20210608T224408Z
LAST-MODIFIED:20210608T224408Z
UID:24057-1626879600-1627124400@www.californiaalpineclub.org
SUMMARY:Echo:  Private Event - Nick
DESCRIPTION:Nick Gregoratos \n510-919-6883 \nnick.gregoratos@gmail.com
URL:https://www.californiaalpineclub.org/events/echo-private-event-nick-5/
LOCATION:Alpine Lodge
CATEGORIES:Echo Summit Lodge Events
END:VEVENT
BEGIN:VEVENT
DTSTART;TZID=America/Los_Angeles:20210714T150000
DTEND;TZID=America/Los_Angeles:20210721T110000
DTSTAMP:20260423T011526
CREATED:20210501T171407Z
LAST-MODIFIED:20210501T171407Z
UID:23964-1626274800-1626865200@www.californiaalpineclub.org
SUMMARY:Echo: Private Event -Emily & John
DESCRIPTION:Emily & John Lockett \n707-576-0948 \nauntem@sonic.net
URL:https://www.californiaalpineclub.org/events/echo-private-event-emily-john-2/
LOCATION:Echo Summit Lodge\, 9010 Johnson Pass Rd\, Twin Bridges\, CA\, 95721\, United States
CATEGORIES:Echo Summit Lodge Events
END:VEVENT
BEGIN:VEVENT
DTSTART;TZID=America/Los_Angeles:20210710T150000
DTEND;TZID=America/Los_Angeles:20210714T110000
DTSTAMP:20260423T011526
CREATED:20210608T223231Z
LAST-MODIFIED:20210608T223231Z
UID:24051-1625929200-1626260400@www.californiaalpineclub.org
SUMMARY:Echo: Private Event - Marcia
DESCRIPTION:Marcia Paulson \n530-401-8464 \nmpaulson@garlic.com
URL:https://www.californiaalpineclub.org/events/echo-private-event-marcia/
LOCATION:Echo Summit Lodge\, 9010 Johnson Pass Rd\, Twin Bridges\, CA\, 95721\, United States
CATEGORIES:Echo Summit Lodge Events
END:VEVENT
BEGIN:VEVENT
DTSTART;TZID=America/Los_Angeles:20210705T153000
DTEND;TZID=America/Los_Angeles:20210709T170000
DTSTAMP:20260423T011526
CREATED:20210501T165556Z
LAST-MODIFIED:20210501T165556Z
UID:23959-1625499000-1625850000@www.californiaalpineclub.org
SUMMARY:Echo: Private Event - Kate
DESCRIPTION:Kate Twain \n707-694-9130 \nktwain@vom.com
URL:https://www.californiaalpineclub.org/events/echo-private-event-kate-3/
LOCATION:Echo Summit Lodge\, 9010 Johnson Pass Rd\, Twin Bridges\, CA\, 95721\, United States
CATEGORIES:Echo Summit Lodge Events
END:VEVENT
BEGIN:VEVENT
DTSTART;TZID=America/Los_Angeles:20210702T150000
DTEND;TZID=America/Los_Angeles:20210705T110000
DTSTAMP:20260423T011527
CREATED:20210501T165259Z
LAST-MODIFIED:20210501T165259Z
UID:23957-1625238000-1625482800@www.californiaalpineclub.org
SUMMARY:Echo:  Private Event - Daniel
DESCRIPTION:Daniel Karbousky \n707-889-1461 \ndkarbousky@gmail.com
URL:https://www.californiaalpineclub.org/events/echo-private-event-daniel/
LOCATION:Echo Summit Lodge\, 9010 Johnson Pass Rd\, Twin Bridges\, CA\, 95721\, United States
CATEGORIES:Echo Summit Lodge Events
END:VEVENT
BEGIN:VEVENT
DTSTART;TZID=America/Los_Angeles:20210630T150000
DTEND;TZID=America/Los_Angeles:20210702T150000
DTSTAMP:20260423T011527
CREATED:20210608T222751Z
LAST-MODIFIED:20210608T222751Z
UID:24049-1625065200-1625238000@www.californiaalpineclub.org
SUMMARY:Echo:  Private Event - Kathleen
DESCRIPTION:Kathleen O’Dea \n 415-246-6441 \nkathleensodea@gmail.com
URL:https://www.californiaalpineclub.org/events/echo-private-event-kathleen-2/
LOCATION:Echo Summit Lodge\, 9010 Johnson Pass Rd\, Twin Bridges\, CA\, 95721\, United States
CATEGORIES:Echo Summit Lodge Events
END:VEVENT
BEGIN:VEVENT
DTSTART;TZID=America/Los_Angeles:20210627T150000
DTEND;TZID=America/Los_Angeles:20210630T110000
DTSTAMP:20260423T011527
CREATED:20210501T164934Z
LAST-MODIFIED:20210603T190025Z
UID:23955-1624806000-1625050800@www.californiaalpineclub.org
SUMMARY:Echo: Private Event - Scott
DESCRIPTION:Scott Stoller \n510-725-0159 \n\n\n\nscott@wholehealing.net \n\n\n\n 
URL:https://www.californiaalpineclub.org/events/echo-private-event-howard/
LOCATION:Echo Summit Lodge\, 9010 Johnson Pass Rd\, Twin Bridges\, CA\, 95721\, United States
CATEGORIES:Echo Summit Lodge Events
END:VEVENT
BEGIN:VEVENT
DTSTART;TZID=America/Los_Angeles:20210624T150000
DTEND;TZID=America/Los_Angeles:20210627T110000
DTSTAMP:20260423T011527
CREATED:20210501T164656Z
LAST-MODIFIED:20210501T164656Z
UID:23953-1624546800-1624791600@www.californiaalpineclub.org
SUMMARY:Echo:  Private Event - Susan
DESCRIPTION:Susan Topf \n415-954-2686 \nsusan.topf@gmail.com
URL:https://www.californiaalpineclub.org/events/echo-private-event-susan-2/
LOCATION:Echo Summit Lodge\, 9010 Johnson Pass Rd\, Twin Bridges\, CA\, 95721\, United States
CATEGORIES:Echo Summit Lodge Events
END:VEVENT
BEGIN:VEVENT
DTSTART;TZID=America/Los_Angeles:20210621T150000
DTEND;TZID=America/Los_Angeles:20210624T150000
DTSTAMP:20260423T011527
CREATED:20210327T192131Z
LAST-MODIFIED:20210327T192131Z
UID:23686-1624287600-1624546800@www.californiaalpineclub.org
SUMMARY:Echo: Private Event - Alana
DESCRIPTION:Alana Koch \n415-377-6849 \nalanamkoch@gmail.com
URL:https://www.californiaalpineclub.org/events/echo-private-event-alana/
LOCATION:Echo Summit Lodge\, 9010 Johnson Pass Rd\, Twin Bridges\, CA\, 95721\, United States
CATEGORIES:Echo Summit Lodge Events
END:VEVENT
BEGIN:VEVENT
DTSTART;TZID=America/Los_Angeles:20210617T150000
DTEND;TZID=America/Los_Angeles:20210620T110000
DTSTAMP:20260423T011527
CREATED:20210316T193315Z
LAST-MODIFIED:20210316T193315Z
UID:23603-1623942000-1624186800@www.californiaalpineclub.org
SUMMARY:Echo: Private Event - Laura & Michael
DESCRIPTION:Laura & Michael Fleischhauer \n408-763-6823 \n\n\n\n\n\n\nlaura@fleischhauer.co \n\n\n\n\n\n\n 
URL:https://www.californiaalpineclub.org/events/echo-private-event-laura-michael-4/
LOCATION:Echo Summit Lodge\, 9010 Johnson Pass Rd\, Twin Bridges\, CA\, 95721\, United States
CATEGORIES:Echo Summit Lodge Events
END:VEVENT
END:VCALENDAR