BEGIN:VCALENDAR
VERSION:2.0
PRODID:-//California Alpine Club - ECPv6.15.20//NONSGML v1.0//EN
CALSCALE:GREGORIAN
METHOD:PUBLISH
X-ORIGINAL-URL:https://www.californiaalpineclub.org
X-WR-CALDESC:Events for California Alpine Club
REFRESH-INTERVAL;VALUE=DURATION:PT1H
X-Robots-Tag:noindex
X-PUBLISHED-TTL:PT1H
BEGIN:VTIMEZONE
TZID:America/Los_Angeles
BEGIN:DAYLIGHT
TZOFFSETFROM:-0800
TZOFFSETTO:-0700
TZNAME:PDT
DTSTART:20200308T100000
END:DAYLIGHT
BEGIN:STANDARD
TZOFFSETFROM:-0700
TZOFFSETTO:-0800
TZNAME:PST
DTSTART:20201101T090000
END:STANDARD
BEGIN:DAYLIGHT
TZOFFSETFROM:-0800
TZOFFSETTO:-0700
TZNAME:PDT
DTSTART:20210314T100000
END:DAYLIGHT
BEGIN:STANDARD
TZOFFSETFROM:-0700
TZOFFSETTO:-0800
TZNAME:PST
DTSTART:20211107T090000
END:STANDARD
BEGIN:DAYLIGHT
TZOFFSETFROM:-0800
TZOFFSETTO:-0700
TZNAME:PDT
DTSTART:20220313T100000
END:DAYLIGHT
BEGIN:STANDARD
TZOFFSETFROM:-0700
TZOFFSETTO:-0800
TZNAME:PST
DTSTART:20221106T090000
END:STANDARD
BEGIN:DAYLIGHT
TZOFFSETFROM:-0800
TZOFFSETTO:-0700
TZNAME:PDT
DTSTART:20230312T100000
END:DAYLIGHT
BEGIN:STANDARD
TZOFFSETFROM:-0700
TZOFFSETTO:-0800
TZNAME:PST
DTSTART:20231105T090000
END:STANDARD
END:VTIMEZONE
BEGIN:VEVENT
DTSTART;TZID=America/Los_Angeles:20220717T150000
DTEND;TZID=America/Los_Angeles:20220721T110000
DTSTAMP:20260422T214805
CREATED:20220628T223647Z
LAST-MODIFIED:20220628T223647Z
UID:25065-1658070000-1658401200@www.californiaalpineclub.org
SUMMARY:Echo:  Coop Meals - Sandra
DESCRIPTION:Sandra Chapelle                   \n380 Stoddard Way\, Auburn\, CA 95603 \n  530-305-6967 \n   chappellesandra@yahoo.com \n 
URL:https://www.californiaalpineclub.org/events/echo-coop-meals-sandra/
LOCATION:Echo Summit Lodge\, 9010 Johnson Pass Rd\, Twin Bridges\, CA\, 95721\, United States
CATEGORIES:Echo Summit Lodge Events
END:VEVENT
BEGIN:VEVENT
DTSTART;TZID=America/Los_Angeles:20220710T150000
DTEND;TZID=America/Los_Angeles:20220715T110000
DTSTAMP:20260422T214805
CREATED:20220402T195434Z
LAST-MODIFIED:20220402T195434Z
UID:24784-1657465200-1657882800@www.californiaalpineclub.org
SUMMARY:Echo - Coop Cooking - Jan & Jim
DESCRIPTION:Jan McCulloch & Jim Nixon \n50 Seacrest Ct\, Daly City\, CA  94015 \n  650-922-6082 \njanmariemcculloch@gmail.com
URL:https://www.californiaalpineclub.org/events/echo-coop-cooking-jan-jim/
LOCATION:Echo Summit Lodge\, 9010 Johnson Pass Rd\, Twin Bridges\, CA\, 95721\, United States
CATEGORIES:Echo Summit Lodge Events
END:VEVENT
BEGIN:VEVENT
DTSTART;TZID=America/Los_Angeles:20220702T150000
DTEND;TZID=America/Los_Angeles:20220707T110000
DTSTAMP:20260422T214805
CREATED:20220302T203222Z
LAST-MODIFIED:20220302T203222Z
UID:24670-1656774000-1657191600@www.californiaalpineclub.org
SUMMARY:Echo: Hosted Event - Tim
DESCRIPTION:Tim Seeley                         \n11855 Butte Creek Island Rd\, Chico\, CA  95928 \n 707-486-8288 \nseeleyconst@gmail.com \n 
URL:https://www.californiaalpineclub.org/events/echo-hosted-event-tim-3/
LOCATION:Echo Summit Lodge\, 9010 Johnson Pass Rd\, Twin Bridges\, CA\, 95721\, United States
CATEGORIES:Echo Summit Lodge Events
END:VEVENT
BEGIN:VEVENT
DTSTART;TZID=America/Los_Angeles:20220628T150000
DTEND;TZID=America/Los_Angeles:20220702T110000
DTSTAMP:20260422T214805
CREATED:20220509T210216Z
LAST-MODIFIED:20220509T210216Z
UID:24904-1656428400-1656759600@www.californiaalpineclub.org
SUMMARY:Echo: Hosted Event - Daniel
DESCRIPTION:Daniel Karbousky \n707-889-1461 \n804 Sentinel Ct\, Santa Rosa\, C \n\n\n\ndkarbousky@gmail.com \n\n\n\n 
URL:https://www.californiaalpineclub.org/events/echo-hosted-event-daniel/
LOCATION:Echo Summit Lodge\, 9010 Johnson Pass Rd\, Twin Bridges\, CA\, 95721\, United States
CATEGORIES:Echo Summit Lodge Events
END:VEVENT
BEGIN:VEVENT
DTSTART;TZID=America/Los_Angeles:20220624T150000
DTEND;TZID=America/Los_Angeles:20220628T110000
DTSTAMP:20260422T214805
CREATED:20220509T205913Z
LAST-MODIFIED:20220509T205913Z
UID:24902-1656082800-1656414000@www.californiaalpineclub.org
SUMMARY:Echo:  Hosted Event - Chris & Patty
DESCRIPTION:Chris & Patty Dunhill \n452 Griffin Ave\, Pacifica\, CA 9404 \n\n\n\nchris@3d-mediagroup.com \n650-537-7645 \n\n\n\n 
URL:https://www.californiaalpineclub.org/events/echo-hosted-event-chris-patty-2/
LOCATION:Echo Summit Lodge\, 9010 Johnson Pass Rd\, Twin Bridges\, CA\, 95721\, United States
CATEGORIES:Echo Summit Lodge Events
END:VEVENT
BEGIN:VEVENT
DTSTART;TZID=America/Los_Angeles:20220619T150000
DTEND;TZID=America/Los_Angeles:20220624T110000
DTSTAMP:20260422T214805
CREATED:20220402T195028Z
LAST-MODIFIED:20220402T195028Z
UID:24781-1655650800-1656068400@www.californiaalpineclub.org
SUMMARY:Echo - Hosted Event - Mary
DESCRIPTION:Mary Cahill  \n530-798-9601 \na_childs_view@yahoo.com \n422 Lamarque Ct\, Grass Valley\, CA  95945
URL:https://www.californiaalpineclub.org/events/echo-hosted-event-mary-8/
LOCATION:Echo Summit Lodge\, 9010 Johnson Pass Rd\, Twin Bridges\, CA\, 95721\, United States
CATEGORIES:Echo Summit Lodge Events
END:VEVENT
BEGIN:VEVENT
DTSTART;TZID=America/Los_Angeles:20220612T150000
DTEND;TZID=America/Los_Angeles:20220616T110000
DTSTAMP:20260422T214805
CREATED:20220509T205318Z
LAST-MODIFIED:20220509T205318Z
UID:24900-1655046000-1655377200@www.californiaalpineclub.org
SUMMARY:Echo: Coop Meals - Mary Ann
DESCRIPTION:Mary Ann Bernard \n3315 M Street\, Sacramento\, CA 9581 \n916-538-6009 \n\n\n\nmary_ann_bernard@hotmail.com \n\n\n\n 
URL:https://www.californiaalpineclub.org/events/echo-coop-meals-mary-ann/
LOCATION:Echo Summit Lodge\, 9010 Johnson Pass Rd\, Twin Bridges\, CA\, 95721\, United States
CATEGORIES:Echo Summit Lodge Events
END:VEVENT
BEGIN:VEVENT
DTSTART;TZID=America/Los_Angeles:20220610T150000
DTEND;TZID=America/Los_Angeles:20220612T110000
DTSTAMP:20260422T214805
CREATED:20220402T194554Z
LAST-MODIFIED:20220402T194713Z
UID:24779-1654873200-1655031600@www.californiaalpineclub.org
SUMMARY:Echo - Host Appreciation & Training
DESCRIPTION:Cindy Toran \n707-321-3262 \ncktoran@gmail.com
URL:https://www.californiaalpineclub.org/events/echo-host-appreciation-training-11/
LOCATION:Echo Summit Lodge\, 9010 Johnson Pass Rd\, Twin Bridges\, CA\, 95721\, United States
CATEGORIES:Echo Summit Lodge Events
END:VEVENT
BEGIN:VEVENT
DTSTART;TZID=America/Los_Angeles:20220602T150000
DTEND;TZID=America/Los_Angeles:20220605T110000
DTSTAMP:20260422T214805
CREATED:20220302T202605Z
LAST-MODIFIED:20220302T202605Z
UID:24666-1654182000-1654426800@www.californiaalpineclub.org
SUMMARY:Echo: Alternative Work and Fun Party
DESCRIPTION:Bob Henry \n707-217-7601 \nclyde33301@comcast.net
URL:https://www.californiaalpineclub.org/events/echo-alternative-work-and-fun-party/
LOCATION:Echo Summit Lodge\, 9010 Johnson Pass Rd\, Twin Bridges\, CA\, 95721\, United States
CATEGORIES:Echo Summit Lodge Events
END:VEVENT
BEGIN:VEVENT
DTSTART;TZID=America/Los_Angeles:20220311T150000
DTEND;TZID=America/Los_Angeles:20220313T110000
DTSTAMP:20260422T214805
CREATED:20211203T214126Z
LAST-MODIFIED:20211203T214126Z
UID:24430-1647010800-1647169200@www.californiaalpineclub.org
SUMMARY:Echo: hosted Event - Scott
DESCRIPTION:Scott Stoller                         \n210 Fairlawn Dr\, Berkeley\, CA  9470 \n510-725-0159 \nscott@wholehealing.net \n  \n 
URL:https://www.californiaalpineclub.org/events/echo-hosted-event-scott-3/
LOCATION:Echo Summit Lodge\, 9010 Johnson Pass Rd\, Twin Bridges\, CA\, 95721\, United States
CATEGORIES:Echo Summit Lodge Events
END:VEVENT
BEGIN:VEVENT
DTSTART;TZID=America/Los_Angeles:20220220T150000
DTEND;TZID=America/Los_Angeles:20220226T110000
DTSTAMP:20260422T214805
CREATED:20211203T213907Z
LAST-MODIFIED:20211203T213907Z
UID:24428-1645369200-1645873200@www.californiaalpineclub.org
SUMMARY:Echo: Hosted Event - Elena
DESCRIPTION:  \nElena Rodriguez              \n90 Scenic Ave\, San Rafael\, CA  94901 \n  510-858-5498 \nelenamrodriguez@gmail.com \n 
URL:https://www.californiaalpineclub.org/events/echo-hosted-event-elena/
LOCATION:Echo Summit Lodge\, 9010 Johnson Pass Rd\, Twin Bridges\, CA\, 95721\, United States
CATEGORIES:Echo Summit Lodge Events
END:VEVENT
BEGIN:VEVENT
DTSTART;TZID=America/Los_Angeles:20220211T030000
DTEND;TZID=America/Los_Angeles:20220213T110000
DTSTAMP:20260422T214805
CREATED:20211203T213606Z
LAST-MODIFIED:20211203T213606Z
UID:24426-1644548400-1644750000@www.californiaalpineclub.org
SUMMARY:Echo Hosted Event - Scott
DESCRIPTION:Scott Stoller                        \n210 Fairlawn Dr\, Berkeley\, CA  94708 \n  510-725-0159 \nscott@wholehealing.net \n  \n 
URL:https://www.californiaalpineclub.org/events/echo-hosted-event-scott-2/
LOCATION:Echo Summit Lodge\, 9010 Johnson Pass Rd\, Twin Bridges\, CA\, 95721\, United States
CATEGORIES:Echo Summit Lodge Events
END:VEVENT
BEGIN:VEVENT
DTSTART;TZID=America/Los_Angeles:20220128T150000
DTEND;TZID=America/Los_Angeles:20220131T110000
DTSTAMP:20260422T214805
CREATED:20211203T213257Z
LAST-MODIFIED:20211203T213257Z
UID:24424-1643382000-1643626800@www.californiaalpineclub.org
SUMMARY:Echo: Hosted Event - Eliah
DESCRIPTION:Eliah Gilfenbaum               \n747 61st St\, Oakland\, CA  94609 \n   202-679-0765 \neliahg@gmail.com \n 
URL:https://www.californiaalpineclub.org/events/echo-hosted-event-eliah-2/
LOCATION:Echo Summit Lodge\, 9010 Johnson Pass Rd\, Twin Bridges\, CA\, 95721\, United States
CATEGORIES:Echo Summit Lodge Events
END:VEVENT
BEGIN:VEVENT
DTSTART;TZID=America/Los_Angeles:20220123T150000
DTEND;TZID=America/Los_Angeles:20220128T110000
DTSTAMP:20260422T214805
CREATED:20211203T213029Z
LAST-MODIFIED:20211203T213029Z
UID:24422-1642950000-1643367600@www.californiaalpineclub.org
SUMMARY:Echo:  Private Event - Kate
DESCRIPTION:JAN 23-28 SUN-FRI PRIVATE EVENT \nKate Twain \n707-694-9130 \nktwain@vom.com \n 
URL:https://www.californiaalpineclub.org/events/echo-private-event-kate-4/
LOCATION:Echo Summit Lodge\, 9010 Johnson Pass Rd\, Twin Bridges\, CA\, 95721\, United States
CATEGORIES:Echo Summit Lodge Events
END:VEVENT
BEGIN:VEVENT
DTSTART;TZID=America/Los_Angeles:20220121T150000
DTEND;TZID=America/Los_Angeles:20220123T110000
DTSTAMP:20260422T214805
CREATED:20211203T212646Z
LAST-MODIFIED:20211203T212646Z
UID:24420-1642777200-1642935600@www.californiaalpineclub.org
SUMMARY:Echo: Hosted Event - Julia
DESCRIPTION:JAN 21-23 FRI-SUN HOSTED EVENT \nJulia Iliuk                              \n234 Swett Rd\, Woodside\, CA  94062 \n408 646-1896 \njulia.iluyk@gmail.com
URL:https://www.californiaalpineclub.org/events/echo-hosted-event-julia/
LOCATION:Echo Summit Lodge\, 9010 Johnson Pass Rd\, Twin Bridges\, CA\, 95721\, United States
CATEGORIES:Echo Summit Lodge Events
END:VEVENT
BEGIN:VEVENT
DTSTART;TZID=America/Los_Angeles:20220112T150000
DTEND;TZID=America/Los_Angeles:20220119T150000
DTSTAMP:20260422T214805
CREATED:20211203T212100Z
LAST-MODIFIED:20211203T212100Z
UID:24418-1641999600-1642604400@www.californiaalpineclub.org
SUMMARY:Echo:  Hosted Event - Mary
DESCRIPTION:Mary Larkin-Berlinski         \nP.O. Box 776\, Moss Landing\, CA  9503 \n   831-345-6963 \nmlarkin804@sbcglobal.net \n 
URL:https://www.californiaalpineclub.org/events/echo-hosted-event-mary-7/
LOCATION:Echo Summit Lodge\, 9010 Johnson Pass Rd\, Twin Bridges\, CA\, 95721\, United States
CATEGORIES:Echo Summit Lodge Events
END:VEVENT
BEGIN:VEVENT
DTSTART;TZID=America/Los_Angeles:20211227T150000
DTEND;TZID=America/Los_Angeles:20220102T110000
DTSTAMP:20260422T214805
CREATED:20210928T190735Z
LAST-MODIFIED:20210928T190735Z
UID:24217-1640617200-1641121200@www.californiaalpineclub.org
SUMMARY:Echo:  Hosted Event - Patty
DESCRIPTION:Patty Dunhil \n452 Griffin Ave\, Pacifica\, CA   94044 \n  650-537-7646 \npattyzdunhill@yahoo.com \n  \n 
URL:https://www.californiaalpineclub.org/events/echo-hosted-event-patty/
LOCATION:Echo Summit Lodge\, 9010 Johnson Pass Rd\, Twin Bridges\, CA\, 95721\, United States
CATEGORIES:Echo Summit Lodge Events
END:VEVENT
BEGIN:VEVENT
DTSTART;TZID=America/Los_Angeles:20211210T150000
DTEND;TZID=America/Los_Angeles:20211212T110000
DTSTAMP:20260422T214805
CREATED:20210928T190333Z
LAST-MODIFIED:20210928T190333Z
UID:24215-1639148400-1639306800@www.californiaalpineclub.org
SUMMARY:Echo:  Private Event - Erin
DESCRIPTION:Erin Brightwell                      \n415-548-0630 \nerinbrightwell@gmail.com
URL:https://www.californiaalpineclub.org/events/echo-private-event-erin/
LOCATION:Echo Summit Lodge\, 9010 Johnson Pass Rd\, Twin Bridges\, CA\, 95721\, United States
CATEGORIES:Echo Summit Lodge Events
END:VEVENT
BEGIN:VEVENT
DTSTART;TZID=America/Los_Angeles:20211112T150000
DTEND;TZID=America/Los_Angeles:20211117T150000
DTSTAMP:20260422T214805
CREATED:20210928T185915Z
LAST-MODIFIED:20210928T185915Z
UID:24212-1636729200-1637161200@www.californiaalpineclub.org
SUMMARY:Echo: Hosted Event - Sandy
DESCRIPTION:Sandy Borden \n85 W Ponderosa Dr\, Blairsden Graeagle\, CA  96103 \n530-318-9693 \nsandynevada@yahoo.com
URL:https://www.californiaalpineclub.org/events/echo-hosted-event-sandy/
LOCATION:Echo Summit Lodge\, 9010 Johnson Pass Rd\, Twin Bridges\, CA\, 95721\, United States
CATEGORIES:Echo Summit Lodge Events
END:VEVENT
BEGIN:VEVENT
DTSTART;TZID=America/Los_Angeles:20211027T150000
DTEND;TZID=America/Los_Angeles:20211031T110000
DTSTAMP:20260422T214805
CREATED:20210608T224847Z
LAST-MODIFIED:20210608T224847Z
UID:24063-1635346800-1635678000@www.californiaalpineclub.org
SUMMARY:Echo: Private Event - Nick
DESCRIPTION:Nick Gregoratos \n 510-919-6883 \nnick.gregoratos@gmail.com
URL:https://www.californiaalpineclub.org/events/echo-private-event-nick-7/
LOCATION:Echo Summit Lodge\, 9010 Johnson Pass Rd\, Twin Bridges\, CA\, 95721\, United States
CATEGORIES:Echo Summit Lodge Events
END:VEVENT
BEGIN:VEVENT
DTSTART;TZID=America/Los_Angeles:20211021T150000
DTEND;TZID=America/Los_Angeles:20211024T110000
DTSTAMP:20260422T214805
CREATED:20210608T224617Z
LAST-MODIFIED:20210608T224617Z
UID:24060-1634828400-1635073200@www.californiaalpineclub.org
SUMMARY:Echo:  Private Event - Nick
DESCRIPTION:Nick Gregoratos \n 510-919-6883 \nnick.gregoratos@gmail.com
URL:https://www.californiaalpineclub.org/events/echo-private-event-nick-6/
LOCATION:Echo Summit Lodge\, 9010 Johnson Pass Rd\, Twin Bridges\, CA\, 95721\, United States
CATEGORIES:Echo Summit Lodge Events
END:VEVENT
BEGIN:VEVENT
DTSTART;TZID=America/Los_Angeles:20211014T080000
DTEND;TZID=America/Los_Angeles:20211017T110000
DTSTAMP:20260422T214805
CREATED:20210608T224118Z
LAST-MODIFIED:20210608T224118Z
UID:24055-1634198400-1634468400@www.californiaalpineclub.org
SUMMARY:Echo:  Fall Work and Fun Party - Bob
DESCRIPTION:Bob Henry \n707-217-7601 \nclyde33301@comcast.net
URL:https://www.californiaalpineclub.org/events/echo-fall-work-and-fun-party-bob/
LOCATION:Echo Summit Lodge\, 9010 Johnson Pass Rd\, Twin Bridges\, CA\, 95721\, United States
CATEGORIES:Echo Summit Lodge Events
END:VEVENT
BEGIN:VEVENT
DTSTART;TZID=America/Los_Angeles:20211008T150000
DTEND;TZID=America/Los_Angeles:20211011T110000
DTSTAMP:20260422T214805
CREATED:20210603T194608Z
LAST-MODIFIED:20210603T194645Z
UID:24043-1633705200-1633950000@www.californiaalpineclub.org
SUMMARY:Echo: Private Event - Patty
DESCRIPTION:Patty Dunhill \n\n\n\n650-537-7646 \npattyzdunhill@yahoo.com \n\n\n\n 
URL:https://www.californiaalpineclub.org/events/echo-private-event-patty-2/
LOCATION:Echo Summit Lodge\, 9010 Johnson Pass Rd\, Twin Bridges\, CA\, 95721\, United States
CATEGORIES:Echo Summit Lodge Events
END:VEVENT
BEGIN:VEVENT
DTSTART;TZID=America/Los_Angeles:20211001T150000
DTEND;TZID=America/Los_Angeles:20211004T110000
DTSTAMP:20260422T214805
CREATED:20210603T194238Z
LAST-MODIFIED:20210603T194238Z
UID:24041-1633100400-1633345200@www.californiaalpineclub.org
SUMMARY:Echo: Private Event - Jerry & Dianne
DESCRIPTION:Jerry & Dianne Schweickert \n\n\n\n925-549-4492 \n\n\n\ngjschweickert@gmail.com \n\n\n\n\n\n\n 
URL:https://www.californiaalpineclub.org/events/echo-private-event-jerry-dianne-2/
LOCATION:Echo Summit Lodge\, 9010 Johnson Pass Rd\, Twin Bridges\, CA\, 95721\, United States
CATEGORIES:Echo Summit Lodge Events
END:VEVENT
BEGIN:VEVENT
DTSTART;TZID=America/Los_Angeles:20210923T150000
DTEND;TZID=America/Los_Angeles:20210927T110000
DTSTAMP:20260422T214805
CREATED:20210603T193846Z
LAST-MODIFIED:20210603T193846Z
UID:24039-1632409200-1632740400@www.californiaalpineclub.org
SUMMARY:Echo: Private Event - Alice & Marcus
DESCRIPTION:Alice & Marcus Cato \n\n\n\n831-227-0496 \n\n\n\nagcato@gmail.com \n\n\n\n\n\n\n 
URL:https://www.californiaalpineclub.org/events/echo-private-event-alice-marcus/
LOCATION:Echo Summit Lodge\, 9010 Johnson Pass Rd\, Twin Bridges\, CA\, 95721\, United States
CATEGORIES:Echo Summit Lodge Events
END:VEVENT
BEGIN:VEVENT
DTSTART;TZID=America/Los_Angeles:20210917T150000
DTEND;TZID=America/Los_Angeles:20210919T110000
DTSTAMP:20260422T214805
CREATED:20210603T193413Z
LAST-MODIFIED:20210603T193432Z
UID:24037-1631890800-1632049200@www.californiaalpineclub.org
SUMMARY:Echo: Private Event - Julia
DESCRIPTION:Julia Iliuk \n\n\n\n408-646-1896 \n\n\n\njulia.iluyk@gmail.com \n\n\n\n\n\n\n\n\n\n\n\n\n\n\n\n  \n  \n\n\n\n 
URL:https://www.californiaalpineclub.org/events/echo-private-event-julia/
LOCATION:Echo Summit Lodge\, 9010 Johnson Pass Rd\, Twin Bridges\, CA\, 95721\, United States
CATEGORIES:Echo Summit Lodge Events
END:VEVENT
BEGIN:VEVENT
DTSTART;TZID=America/Los_Angeles:20210910T150000
DTEND;TZID=America/Los_Angeles:20210914T110000
DTSTAMP:20260422T214805
CREATED:20210501T174803Z
LAST-MODIFIED:20210501T174803Z
UID:23978-1631286000-1631617200@www.californiaalpineclub.org
SUMMARY:Echo:  Private Event - Emily & John
DESCRIPTION:Emily & John Lockett \n707-576-0948 \nauntem@sonic.net
URL:https://www.californiaalpineclub.org/events/echo-private-event-emily-john-3/
LOCATION:Echo Summit Lodge\, 9010 Johnson Pass Rd\, Twin Bridges\, CA\, 95721\, United States
CATEGORIES:Echo Summit Lodge Events
END:VEVENT
BEGIN:VEVENT
DTSTART;TZID=America/Los_Angeles:20210903T150000
DTEND;TZID=America/Los_Angeles:20210906T110000
DTSTAMP:20260422T214805
CREATED:20210603T192925Z
LAST-MODIFIED:20210603T192925Z
UID:24035-1630681200-1630926000@www.californiaalpineclub.org
SUMMARY:Echo - Private Event - Lia
DESCRIPTION:Lia Heath \n\n\n\n415-577-2430 \n\n\n\nliaheath@gmail.com \n\n\n\n\n\n\n\n\n  \n\n\n\n\n 
URL:https://www.californiaalpineclub.org/events/echo-private-event-lia/
LOCATION:Echo Summit Lodge\, 9010 Johnson Pass Rd\, Twin Bridges\, CA\, 95721\, United States
CATEGORIES:Echo Summit Lodge Events
END:VEVENT
BEGIN:VEVENT
DTSTART;TZID=America/Los_Angeles:20210827T150000
DTEND;TZID=America/Los_Angeles:20210829T110000
DTSTAMP:20260422T214805
CREATED:20210603T192417Z
LAST-MODIFIED:20210603T192503Z
UID:24032-1630076400-1630234800@www.californiaalpineclub.org
SUMMARY:Echo: Host Training - Cindy
DESCRIPTION:Cindy Toran \n\n\n\n707-321-3262 \n\n\n\ncktoran@gmail.com \n\n\n\n\n\n\n 
URL:https://www.californiaalpineclub.org/events/echo-host-training/
LOCATION:Echo Summit Lodge\, 9010 Johnson Pass Rd\, Twin Bridges\, CA\, 95721\, United States
CATEGORIES:Echo Summit Lodge Events
END:VEVENT
BEGIN:VEVENT
DTSTART;TZID=America/Los_Angeles:20210823T150000
DTEND;TZID=America/Los_Angeles:20210826T110000
DTSTAMP:20260422T214805
CREATED:20210603T191934Z
LAST-MODIFIED:20210603T191934Z
UID:24030-1629730800-1629975600@www.californiaalpineclub.org
SUMMARY:Echo - Private Event - Mila
DESCRIPTION:Mila Johansen \n\n\n\n530 477-5575 \n\n\n\njohansenmila@gmail.com \n\n\n\n  \n\n\n\n 
URL:https://www.californiaalpineclub.org/events/echo-private-event-mila-2/
LOCATION:Echo Summit Lodge\, 9010 Johnson Pass Rd\, Twin Bridges\, CA\, 95721\, United States
CATEGORIES:Echo Summit Lodge Events
END:VEVENT
END:VCALENDAR