BEGIN:VCALENDAR
VERSION:2.0
PRODID:-//California Alpine Club - ECPv6.15.20//NONSGML v1.0//EN
CALSCALE:GREGORIAN
METHOD:PUBLISH
X-WR-CALNAME:California Alpine Club
X-ORIGINAL-URL:https://www.californiaalpineclub.org
X-WR-CALDESC:Events for California Alpine Club
REFRESH-INTERVAL;VALUE=DURATION:PT1H
X-Robots-Tag:noindex
X-PUBLISHED-TTL:PT1H
BEGIN:VTIMEZONE
TZID:America/Los_Angeles
BEGIN:DAYLIGHT
TZOFFSETFROM:-0800
TZOFFSETTO:-0700
TZNAME:PDT
DTSTART:20250309T100000
END:DAYLIGHT
BEGIN:STANDARD
TZOFFSETFROM:-0700
TZOFFSETTO:-0800
TZNAME:PST
DTSTART:20251102T090000
END:STANDARD
BEGIN:DAYLIGHT
TZOFFSETFROM:-0800
TZOFFSETTO:-0700
TZNAME:PDT
DTSTART:20260308T100000
END:DAYLIGHT
BEGIN:STANDARD
TZOFFSETFROM:-0700
TZOFFSETTO:-0800
TZNAME:PST
DTSTART:20261101T090000
END:STANDARD
BEGIN:DAYLIGHT
TZOFFSETFROM:-0800
TZOFFSETTO:-0700
TZNAME:PDT
DTSTART:20270314T100000
END:DAYLIGHT
BEGIN:STANDARD
TZOFFSETFROM:-0700
TZOFFSETTO:-0800
TZNAME:PST
DTSTART:20271107T090000
END:STANDARD
END:VTIMEZONE
BEGIN:VEVENT
DTSTART;TZID=America/Los_Angeles:20261006T120000
DTEND;TZID=America/Los_Angeles:20261008T120000
DTSTAMP:20260419T163652
CREATED:20260408T181738Z
LAST-MODIFIED:20260408T181738Z
UID:29958-1791288000-1791460800@www.californiaalpineclub.org
SUMMARY:Alpine Hosted Overnight(s) - Richard
DESCRIPTION:Lodge – Alpine\n\n\nPlans\n\n\nCarol is inviting her string quartet for a mid-week informal rehearsal\, coaching and performance 48 hour mid-week.  There may be an additional quarter attending.  We would welcome any and all CAC members to stay at the Lodge during this time\, and possibly enjoy an informal performance or two…\n\n\nGroup Size – 16\n\n\nEvent Type – Hosted Overnight(s)\n\n\nSpaces Requested\n\n\nSocial hall\, deck\, sun porch\, living room\, but not for exclusive use\n\n\nKitchen Use\n\n\nBreakfast\, lunch\, and dinner\n\n\nBBQ Use – Yes
URL:https://www.californiaalpineclub.org/events/alpine-hosted-overnights-richard-2/
LOCATION:Alpine Lodge\, 730 Panoramic Highway\, Mill Valley\, CA\, 94941\, United States
CATEGORIES:Alpine
ORGANIZER;CN="Richard Boyden":MAILTO:rboyden87@gmail.com
END:VEVENT
BEGIN:VEVENT
DTSTART;TZID=America/Los_Angeles:20261010T090000
DTEND;TZID=America/Los_Angeles:20261010T150000
DTSTAMP:20260419T163652
CREATED:20250626T025102Z
LAST-MODIFIED:20250626T025915Z
UID:29032-1791622800-1791644400@www.californiaalpineclub.org
SUMMARY:Alpine Work Party
DESCRIPTION:Email Amy Pertschuk to sign-up for work party \namy@kpwest.com
URL:https://www.californiaalpineclub.org/events/alpine-work-party-22/
LOCATION:CA
CATEGORIES:Alpine
END:VEVENT
BEGIN:VEVENT
DTSTART;TZID=America/Los_Angeles:20261011T083000
DTEND;TZID=America/Los_Angeles:20261011T153000
DTSTAMP:20260419T163652
CREATED:20251208T200856Z
LAST-MODIFIED:20251216T202503Z
UID:29629-1791707400-1791732600@www.californiaalpineclub.org
SUMMARY:Alpine Open House - Nancy
DESCRIPTION:Lodge – Alpine\n\n\nPlans\n\n\nOpen House\, CAC Sponsored Event\nCindi Whitehead\, Innkeeper\n\n\nGroup Size – 1\n\n\nEvent Type – CAC Sponsored Event\n\n\nSpaces Requested\n\n\n1st floor\, Main Lodge\n\n\nKitchen Use\n\n\nOccasional\, light use\n\n\nBBQ Use – No
URL:https://www.californiaalpineclub.org/events/alpine-cac-sponsored-event-nancy-8/
LOCATION:Alpine Lodge\, 730 Panoramic Highway\, Mill Valley\, CA\, 94941\, United States
CATEGORIES:Alpine,Official Club Events
ORGANIZER;CN="Nancy Carlisle":MAILTO:nancyleecarlisle@gmail.com
END:VEVENT
BEGIN:VEVENT
DTSTART;TZID=America/Los_Angeles:20261017T090000
DTEND;TZID=America/Los_Angeles:20261017T180000
DTSTAMP:20260419T163652
CREATED:20260303T223613Z
LAST-MODIFIED:20260303T223613Z
UID:29865-1792227600-1792260000@www.californiaalpineclub.org
SUMMARY:Alpine CAC Board and Members Meetings - Candy
DESCRIPTION:Lodge – Alpine\n\n\nPlans\n\n\n\n\n\nGroup Size – 0\n\n\nEvent Type – CAC Sponsored Event\n\n\nSpaces Requested\n\n\nAlpine Lodge\n\n\nKitchen Use\n\n\nYes\n\n\nBBQ Use – Yes
URL:https://www.californiaalpineclub.org/events/alpine-cac-board-and-members-meetings-candy/
LOCATION:Alpine Lodge\, 730 Panoramic Highway\, Mill Valley\, CA\, 94941\, United States
CATEGORIES:Alpine,Official Club Events
ORGANIZER;CN="Candy Barnhill":MAILTO:Wheejeepfun_cb@aol.com
END:VEVENT
BEGIN:VEVENT
DTSTART;TZID=America/Los_Angeles:20261022T140000
DTEND;TZID=America/Los_Angeles:20261027T120000
DTSTAMP:20260419T163652
CREATED:20260410T173024Z
LAST-MODIFIED:20260410T173024Z
UID:29962-1792677600-1793102400@www.californiaalpineclub.org
SUMMARY:Alpine Hosted Overnight(s) - Cynthia
DESCRIPTION:Lodge – Alpine\n\n\nPlans\n\n\nThis is a reunion of Mt Tam employees. Only the 22 and 23rd will have 10 folks. The rest of the time just myself and my husband\n\n\nGroup Size – 10\n\n\nEvent Type – Hosted Overnight(s)\n\n\nSpaces Requested\n\n\nThe little room at the top of the stairs\nand the porch room and room 2 Main Lodge\n\n\nKitchen Use\n\n\njust breakfast and dinner\n\n\nBBQ Use – No
URL:https://www.californiaalpineclub.org/events/alpine-hosted-overnights-cynthia-2/
LOCATION:Alpine Lodge\, 730 Panoramic Highway\, Mill Valley\, CA\, 94941\, United States
CATEGORIES:Alpine
ORGANIZER;CN="Cynthia Whitehead":MAILTO:Tamangel36@comcast.net
END:VEVENT
END:VCALENDAR