BEGIN:VCALENDAR
VERSION:2.0
PRODID:-//California Alpine Club - ECPv6.15.20//NONSGML v1.0//EN
CALSCALE:GREGORIAN
METHOD:PUBLISH
X-ORIGINAL-URL:https://www.californiaalpineclub.org
X-WR-CALDESC:Events for California Alpine Club
REFRESH-INTERVAL;VALUE=DURATION:PT1H
X-Robots-Tag:noindex
X-PUBLISHED-TTL:PT1H
BEGIN:VTIMEZONE
TZID:America/Los_Angeles
BEGIN:DAYLIGHT
TZOFFSETFROM:-0800
TZOFFSETTO:-0700
TZNAME:PDT
DTSTART:20250309T100000
END:DAYLIGHT
BEGIN:STANDARD
TZOFFSETFROM:-0700
TZOFFSETTO:-0800
TZNAME:PST
DTSTART:20251102T090000
END:STANDARD
BEGIN:DAYLIGHT
TZOFFSETFROM:-0800
TZOFFSETTO:-0700
TZNAME:PDT
DTSTART:20260308T100000
END:DAYLIGHT
BEGIN:STANDARD
TZOFFSETFROM:-0700
TZOFFSETTO:-0800
TZNAME:PST
DTSTART:20261101T090000
END:STANDARD
BEGIN:DAYLIGHT
TZOFFSETFROM:-0800
TZOFFSETTO:-0700
TZNAME:PDT
DTSTART:20270314T100000
END:DAYLIGHT
BEGIN:STANDARD
TZOFFSETFROM:-0700
TZOFFSETTO:-0800
TZNAME:PST
DTSTART:20271107T090000
END:STANDARD
END:VTIMEZONE
BEGIN:VEVENT
DTSTART;TZID=America/Los_Angeles:20260703T120000
DTEND;TZID=America/Los_Angeles:20260705T120000
DTSTAMP:20260419T114427
CREATED:20260303T223622Z
LAST-MODIFIED:20260303T223622Z
UID:29866-1783080000-1783252800@www.californiaalpineclub.org
SUMMARY:Alpine July 4th BBQ - Candy
DESCRIPTION:Lodge – Alpine\n\n\nPlans\n\n\nAnnual July 4th BBQ.  Optional hikes.  Overnight option TBD\n\n\nGroup Size – 0\n\n\nEvent Type – CAC Sponsored Event\n\n\nSpaces Requested\n\n\nAlpine and Tam Lodges\n\n\nKitchen Use\n\n\nYes\,\n\n\nBBQ Use – Yes
URL:https://www.californiaalpineclub.org/events/alpine-july-4th-bbq-candy/
LOCATION:Alpine Lodge\, 730 Panoramic Highway\, Mill Valley\, CA\, 94941\, United States
CATEGORIES:Alpine,Official Club Events
ORGANIZER;CN="Candy Barnhill":MAILTO:Wheejeepfun_cb@aol.com
END:VEVENT
BEGIN:VEVENT
DTSTART;TZID=America/Los_Angeles:20260707T180000
DTEND;TZID=America/Los_Angeles:20260715T160000
DTSTAMP:20260419T114427
CREATED:20260415T173146Z
LAST-MODIFIED:20260415T173146Z
UID:29999-1783447200-1784131200@www.californiaalpineclub.org
SUMMARY:Alpine Hosted Overnight(s) - Claudia
DESCRIPTION:Lodge – Alpine\n\n\nPlans\n\n\n\n\n\nGroup Size – 9\n\n\nEvent Type – Hosted Overnight(s)\n\n\nSpaces Requested\n\n\nMain Lodge and one room in Tam Building\n\n\nKitchen Use\n\n\nWe will use the kitchen for breakfast/lunch prep\, and most evenings dinner.\n\n\nBBQ Use – Yes
URL:https://www.californiaalpineclub.org/events/alpine-hosted-overnights-claudia/
LOCATION:Alpine Lodge\, 730 Panoramic Highway\, Mill Valley\, CA\, 94941\, United States
CATEGORIES:Alpine
ORGANIZER;CN="Claudia Hilligoss":MAILTO:chilligoss@me.com
END:VEVENT
BEGIN:VEVENT
DTSTART;TZID=America/Los_Angeles:20260711T090000
DTEND;TZID=America/Los_Angeles:20260711T150000
DTSTAMP:20260419T114427
CREATED:20250626T024625Z
LAST-MODIFIED:20250626T030020Z
UID:29026-1783760400-1783782000@www.californiaalpineclub.org
SUMMARY:Alpine Work Party
DESCRIPTION:Email Amy Pertschuk to sign-up for work party \namy@kpwest.com
URL:https://www.californiaalpineclub.org/events/alpine-work-party-19/
LOCATION:CA
CATEGORIES:Alpine
END:VEVENT
BEGIN:VEVENT
DTSTART;TZID=America/Los_Angeles:20260712T083000
DTEND;TZID=America/Los_Angeles:20260712T153000
DTSTAMP:20260419T114427
CREATED:20251208T200756Z
LAST-MODIFIED:20251216T202609Z
UID:29627-1783845000-1783870200@www.californiaalpineclub.org
SUMMARY:Alpine Open House - Nancy
DESCRIPTION:Lodge – Alpine\n\n\nPlans\n\n\nOpen House\, CAC Sponsored Event\nJana Shober\, Innkeeper\n\n\nGroup Size – 1\n\n\nEvent Type – CAC Sponsored Event\n\n\nSpaces Requested\n\n\nMain Lodge\, 1st floor\n\n\nKitchen Use\n\n\nOccasional\, light use\n\n\nBBQ Use – No
URL:https://www.californiaalpineclub.org/events/alpine-cac-sponsored-event-nancy-6/
LOCATION:Alpine Lodge\, 730 Panoramic Highway\, Mill Valley\, CA\, 94941\, United States
CATEGORIES:Alpine,Official Club Events
ORGANIZER;CN="Nancy Carlisle":MAILTO:nancyleecarlisle@gmail.com
END:VEVENT
BEGIN:VEVENT
DTSTART;TZID=America/Los_Angeles:20260719T120000
DTEND;TZID=America/Los_Angeles:20260724T120000
DTSTAMP:20260419T114427
CREATED:20260317T234833Z
LAST-MODIFIED:20260317T234833Z
UID:29907-1784462400-1784894400@www.californiaalpineclub.org
SUMMARY:Alpine Hosted Overnight(s) - Imene
DESCRIPTION:Lodge – Alpine\n\n\nPlans\n\n\n\n\n\nGroup Size – 4\n\n\nEvent Type – Hosted Overnight(s)\n\n\nSpaces Requested\n\n\nMain lodge building\n\n\nKitchen Use\n\n\nUse kitchen during B/L/D times\n\n\nBBQ Use – Yes
URL:https://www.californiaalpineclub.org/events/alpine-hosted-overnights-imene-2/
LOCATION:Alpine Lodge\, 730 Panoramic Highway\, Mill Valley\, CA\, 94941\, United States
CATEGORIES:Alpine
ORGANIZER;CN="Imene Goumiri":MAILTO:imene.goumiri@gmail.com
END:VEVENT
BEGIN:VEVENT
DTSTART;TZID=America/Los_Angeles:20260720T173000
DTEND;TZID=America/Los_Angeles:20260720T203000
DTSTAMP:20260419T114427
CREATED:20260303T223704Z
LAST-MODIFIED:20260303T223704Z
UID:29868-1784568600-1784579400@www.californiaalpineclub.org
SUMMARY:Alpine CAC Members and BoD meeting via Zoom - Candy
DESCRIPTION:Lodge – Alpine\n\n\nPlans\n\n\nCAC Members and Board Meetings via Zoom\n\n\nGroup Size – 0\n\n\nEvent Type – CAC Sponsored Event\n\n\nSpaces Requested\n\n\nNA\n\n\nKitchen Use\n\n\nNA\n\n\nBBQ Use – No
URL:https://www.californiaalpineclub.org/events/alpine-cac-members-and-bod-meeting-via-zoom-candy/
LOCATION:Alpine Lodge\, 730 Panoramic Highway\, Mill Valley\, CA\, 94941\, United States
CATEGORIES:Alpine,Official Club Events
ORGANIZER;CN="Candy Barnhill":MAILTO:Wheejeepfun_cb@aol.com
END:VEVENT
BEGIN:VEVENT
DTSTART;TZID=America/Los_Angeles:20260726T090000
DTEND;TZID=America/Los_Angeles:20260726T150000
DTSTAMP:20260419T114427
CREATED:20260310T210524Z
LAST-MODIFIED:20260310T210524Z
UID:29886-1785056400-1785078000@www.californiaalpineclub.org
SUMMARY:Alpine Huckleberry Hunt and Bake - M. Linda
DESCRIPTION:Lodge – Alpine\n\n\nPlans\n\n\nWe will meet at the lodge at 9:00am for a hike.\nWe will return to the lodge to have lunch and make a huckleberry bake\n\n\nGroup Size – 19\n\n\nEvent Type – CAC Sponsored Event\n\n\nSpaces Requested\n\n\nSouth entrance\, dining hall\n\n\nKitchen Use\n\n\nYes\n\n\nBBQ Use – No
URL:https://www.californiaalpineclub.org/events/alpine-huckleberry-hunt-and-bake-m-linda/
LOCATION:Alpine Lodge\, 730 Panoramic Highway\, Mill Valley\, CA\, 94941\, United States
CATEGORIES:Alpine,Official Club Events
ORGANIZER;CN="M. Linda Kumataka":MAILTO:LKumataka@hotmail.com
END:VEVENT
BEGIN:VEVENT
DTSTART;TZID=America/Los_Angeles:20260728T120000
DTEND;TZID=America/Los_Angeles:20260729T120000
DTSTAMP:20260419T114427
CREATED:20260325T175604Z
LAST-MODIFIED:20260325T175604Z
UID:29918-1785240000-1785326400@www.californiaalpineclub.org
SUMMARY:Alpine Hosted Overnight(s) - Mimi
DESCRIPTION:Lodge – Alpine\n\n\nPlans\n\n\n7/28 is hosted not private event.  Adjust private event date to start on 7/29.\n\n\nGroup Size – 2\n\n\nEvent Type – Hosted Overnight(s)\n\n\nSpaces Requested\n\n\n1 or 2 sleeping beds\n\n\nKitchen Use\n\n\nfull kitchen access\n\n\nBBQ Use – No
URL:https://www.californiaalpineclub.org/events/alpine-hosted-overnights-mimi/
LOCATION:Alpine Lodge\, 730 Panoramic Highway\, Mill Valley\, CA\, 94941\, United States
CATEGORIES:Alpine
ORGANIZER;CN="Mimi Lee":MAILTO:CMCA1561@gmail.com
END:VEVENT
BEGIN:VEVENT
DTSTART;TZID=America/Los_Angeles:20260729T120000
DTEND;TZID=America/Los_Angeles:20260803T170000
DTSTAMP:20260419T114427
CREATED:20250602T225023Z
LAST-MODIFIED:20260325T181019Z
UID:28937-1785326400-1785776400@www.californiaalpineclub.org
SUMMARY:Private Alpine Event - Mimi
DESCRIPTION:colin/mimi lee\n\n\nEmail\n\n\ncmca1561@gmail.com\n\n\nWhen were you last host trained?\n\n\nApril 2022\n\n\nPlease describe your Alpine Lodge Use Request\n\n\nPrivate event for a yoga retreat. Potential guests range from 5-20; will firm up # closer to event. Possibility to convert from private to public event if lower guest count.\n\n\nArrival Date and Time\n\n\nJuly 29 2026 – Aug 3\, 2026\n\n\nDeparture Date and Time\n\n\nJuly 29 2026\, noon to Aug 3 2026\, 5pm\n\n\nWhat is the size of your group?\n\n\n5-15\n\n\nWhat space are you requesting (ie Tam Jack and Jill\, Main lodge North bedroom\, Kitchen\, Hall or bed # is if you know it)?\n\n\ntotal lodge\n\n\nWill you use the kitchen and at approximately what times?\n\n\nyes\, every meal during entire stay\n\n\nAre you requesting exclusive use of the entire facility for a private event?\n\n\nYes\n\n\nWill you require all participants to be fully vaccinated?\n\n\nNo\n\n\nDo you need BBQ access?\n\n\nYes\n\n\nAre you available to volunteer during your stay?\n\n\nYes
URL:https://www.californiaalpineclub.org/events/private-alpine-event-hold-mimi/
LOCATION:Alpine Lodge
CATEGORIES:Alpine
END:VEVENT
END:VCALENDAR