BEGIN:VCALENDAR
VERSION:2.0
PRODID:-//California Alpine Club - ECPv6.15.20//NONSGML v1.0//EN
CALSCALE:GREGORIAN
METHOD:PUBLISH
X-WR-CALNAME:California Alpine Club
X-ORIGINAL-URL:https://www.californiaalpineclub.org
X-WR-CALDESC:Events for California Alpine Club
REFRESH-INTERVAL;VALUE=DURATION:PT1H
X-Robots-Tag:noindex
X-PUBLISHED-TTL:PT1H
BEGIN:VTIMEZONE
TZID:America/Los_Angeles
BEGIN:DAYLIGHT
TZOFFSETFROM:-0800
TZOFFSETTO:-0700
TZNAME:PDT
DTSTART:20250309T100000
END:DAYLIGHT
BEGIN:STANDARD
TZOFFSETFROM:-0700
TZOFFSETTO:-0800
TZNAME:PST
DTSTART:20251102T090000
END:STANDARD
BEGIN:DAYLIGHT
TZOFFSETFROM:-0800
TZOFFSETTO:-0700
TZNAME:PDT
DTSTART:20260308T100000
END:DAYLIGHT
BEGIN:STANDARD
TZOFFSETFROM:-0700
TZOFFSETTO:-0800
TZNAME:PST
DTSTART:20261101T090000
END:STANDARD
BEGIN:DAYLIGHT
TZOFFSETFROM:-0800
TZOFFSETTO:-0700
TZNAME:PDT
DTSTART:20270314T100000
END:DAYLIGHT
BEGIN:STANDARD
TZOFFSETFROM:-0700
TZOFFSETTO:-0800
TZNAME:PST
DTSTART:20271107T090000
END:STANDARD
END:VTIMEZONE
BEGIN:VEVENT
DTSTART;TZID=America/Los_Angeles:20260423T080000
DTEND;TZID=America/Los_Angeles:20260426T170000
DTSTAMP:20260423T203850
CREATED:20251101T203522Z
LAST-MODIFIED:20251101T203522Z
UID:29486-1776931200-1777222800@www.californiaalpineclub.org
SUMMARY:Private Event- Sylvie Shawn
DESCRIPTION:April 23-26 Thurs-Sun Private Event Sylvie Shawn (707) 756-2638 slangbehn@gmail.com
URL:https://www.californiaalpineclub.org/events/private-event-sylvie-shawn/
LOCATION:Echo Summit Lodge\, 9010 Johnson Pass Rd\, Twin Bridges\, CA\, 95721\, United States
CATEGORIES:Echo Summit Lodge Events
END:VEVENT
BEGIN:VEVENT
DTSTART;TZID=America/Los_Angeles:20260423T190000
DTEND;TZID=America/Los_Angeles:20260425T070000
DTSTAMP:20260423T203850
CREATED:20260423T174045Z
LAST-MODIFIED:20260423T174045Z
UID:30027-1776970800-1777100400@www.californiaalpineclub.org
SUMMARY:Alpine Hosted Overnight(s) - Daniel
DESCRIPTION:Lodge – Alpine\n\n\nPlans\n\n\nI have some things happening in the SF area from Thursday evening\, Friday\, and Saturday morning and so would like to stay at the lodge Thursday and Friday night. I will just be there in the evenings to sleep\, but gone most of the day. It is just me and so will keep a low profile.\n\n\nGroup Size – 1\n\n\nEvent Type – Hosted Overnight(s)\n\n\nSpaces Requested\n\n\nbedroom\, kitchen\, bathroom\, living room\n\n\nKitchen Use\n\n\nyes\, but minimal use\n\n\nBBQ Use – No
URL:https://www.californiaalpineclub.org/events/alpine-hosted-overnights-daniel-2/
LOCATION:Alpine Lodge\, 730 Panoramic Highway\, Mill Valley\, CA\, 94941\, United States
CATEGORIES:Alpine
ORGANIZER;CN="Daniel Karbousky":MAILTO:dkarbousky@gmail.com
END:VEVENT
END:VCALENDAR